BEGIN:VCALENDAR
VERSION:2.0
PRODID:-//Orchard Community Church - ECPv6.9.0//NONSGML v1.0//EN
CALSCALE:GREGORIAN
METHOD:PUBLISH
X-ORIGINAL-URL:https://theorchardcommunitychurch.com
X-WR-CALDESC:Events for Orchard Community Church
REFRESH-INTERVAL;VALUE=DURATION:PT1H
X-Robots-Tag:noindex
X-PUBLISHED-TTL:PT1H
BEGIN:VTIMEZONE
TZID:America/New_York
BEGIN:DAYLIGHT
TZOFFSETFROM:-0500
TZOFFSETTO:-0400
TZNAME:EDT
DTSTART:20260308T070000
END:DAYLIGHT
BEGIN:STANDARD
TZOFFSETFROM:-0400
TZOFFSETTO:-0500
TZNAME:EST
DTSTART:20261101T060000
END:STANDARD
END:VTIMEZONE
BEGIN:VEVENT
DTSTART;TZID=America/New_York:20260422T140000
DTEND;TZID=America/New_York:20260422T153000
DTSTAMP:20260421T081257
CREATED:20200423T013106Z
LAST-MODIFIED:20200423T013106Z
UID:5782-1776866400-1776871800@theorchardcommunitychurch.com
SUMMARY:Bible Study
DESCRIPTION:If you would like to join or gor more information about our Small Group Bible Study contact us here
URL:https://theorchardcommunitychurch.com/event/bible-study/2026-04-22/
LOCATION:The Orchard Community Church\, 1 NORTH ST\,\, GORHAM\, ME\, 04038
END:VEVENT
BEGIN:VEVENT
DTSTART;TZID=America/New_York:20260425T033000
DTEND;TZID=America/New_York:20260425T050000
DTSTAMP:20260421T081257
CREATED:20200423T011934Z
LAST-MODIFIED:20200423T011934Z
UID:5608-1777087800-1777093200@theorchardcommunitychurch.com
SUMMARY:Women's Group
DESCRIPTION:Details
URL:https://theorchardcommunitychurch.com/event/womens-group/2026-04-25/
LOCATION:The Orchard Community Church\, 1 NORTH ST\,\, GORHAM\, ME\, 04038
CATEGORIES:Women's Group
END:VEVENT
BEGIN:VEVENT
DTSTART;TZID=America/New_York:20260425T033000
DTEND;TZID=America/New_York:20260425T050000
DTSTAMP:20260421T081257
CREATED:20200423T012334Z
LAST-MODIFIED:20200423T012334Z
UID:5666-1777087800-1777093200@theorchardcommunitychurch.com
SUMMARY:Men's Group
DESCRIPTION:Details
URL:https://theorchardcommunitychurch.com/event/mens-group/2026-04-25/
LOCATION:The Orchard Community Church\, 1 NORTH ST\,\, GORHAM\, ME\, 04038
END:VEVENT
BEGIN:VEVENT
DTSTART;TZID=America/New_York:20260426T053000
DTEND;TZID=America/New_York:20260426T053000
DTSTAMP:20260421T081257
CREATED:20200423T012714Z
LAST-MODIFIED:20200423T012714Z
UID:5724-1777181400-1777181400@theorchardcommunitychurch.com
SUMMARY:Sunday Worship Service
DESCRIPTION:Details
URL:https://theorchardcommunitychurch.com/event/sunday-worship-service/2026-04-26/
LOCATION:The Orchard Community Church\, 1 NORTH ST\,\, GORHAM\, ME\, 04038
CATEGORIES:Church Service
END:VEVENT
BEGIN:VEVENT
DTSTART;TZID=America/New_York:20260426T053000
DTEND;TZID=America/New_York:20260426T053000
DTSTAMP:20260421T081257
CREATED:20220228T000902Z
LAST-MODIFIED:20220228T000902Z
UID:5841-1777181400-1777181400@theorchardcommunitychurch.com
SUMMARY:Worship Service
DESCRIPTION:
URL:https://theorchardcommunitychurch.com/event/worship-service/2026-04-26/
LOCATION:The Orchard Community Church\, 1 NORTH ST\,\, GORHAM\, ME\, 04038
CATEGORIES:Church Service
END:VEVENT
BEGIN:VEVENT
DTSTART;TZID=America/New_York:20260426T053000
DTEND;TZID=America/New_York:20260426T070000
DTSTAMP:20260421T081257
CREATED:20220321T232229Z
LAST-MODIFIED:20220321T232229Z
UID:5957-1777181400-1777186800@theorchardcommunitychurch.com
SUMMARY:Worship Service
DESCRIPTION:
URL:https://theorchardcommunitychurch.com/event/worship-service-4/2026-04-26/
LOCATION:The Orchard Community Church\, 1 NORTH ST\,\, GORHAM\, ME\, 04038
CATEGORIES:Church Service
END:VEVENT
BEGIN:VEVENT
DTSTART;TZID=America/New_York:20260426T093000
DTEND;TZID=America/New_York:20260426T093000
DTSTAMP:20260421T081257
CREATED:20220228T001907Z
LAST-MODIFIED:20220228T001907Z
UID:5899-1777195800-1777195800@theorchardcommunitychurch.com
SUMMARY:Worship Service
DESCRIPTION:
URL:https://theorchardcommunitychurch.com/event/worship-service-2/2026-04-26/
LOCATION:The Orchard Community Church\, 1 NORTH ST\,\, GORHAM\, ME\, 04038
CATEGORIES:Church Service
END:VEVENT
BEGIN:VEVENT
DTSTART;TZID=America/New_York:20260429T140000
DTEND;TZID=America/New_York:20260429T153000
DTSTAMP:20260421T081257
CREATED:20200423T013106Z
LAST-MODIFIED:20200423T013106Z
UID:5783-1777471200-1777476600@theorchardcommunitychurch.com
SUMMARY:Bible Study
DESCRIPTION:If you would like to join or gor more information about our Small Group Bible Study contact us here
URL:https://theorchardcommunitychurch.com/event/bible-study/2026-04-29/
LOCATION:The Orchard Community Church\, 1 NORTH ST\,\, GORHAM\, ME\, 04038
END:VEVENT
BEGIN:VEVENT
DTSTART;TZID=America/New_York:20260502T033000
DTEND;TZID=America/New_York:20260502T050000
DTSTAMP:20260421T081257
CREATED:20200423T011934Z
LAST-MODIFIED:20200423T011934Z
UID:5609-1777692600-1777698000@theorchardcommunitychurch.com
SUMMARY:Women's Group
DESCRIPTION:Details
URL:https://theorchardcommunitychurch.com/event/womens-group/2026-05-02/
LOCATION:The Orchard Community Church\, 1 NORTH ST\,\, GORHAM\, ME\, 04038
CATEGORIES:Women's Group
END:VEVENT
BEGIN:VEVENT
DTSTART;TZID=America/New_York:20260502T033000
DTEND;TZID=America/New_York:20260502T050000
DTSTAMP:20260421T081257
CREATED:20200423T012334Z
LAST-MODIFIED:20200423T012334Z
UID:5667-1777692600-1777698000@theorchardcommunitychurch.com
SUMMARY:Men's Group
DESCRIPTION:Details
URL:https://theorchardcommunitychurch.com/event/mens-group/2026-05-02/
LOCATION:The Orchard Community Church\, 1 NORTH ST\,\, GORHAM\, ME\, 04038
END:VEVENT
BEGIN:VEVENT
DTSTART;TZID=America/New_York:20260503T053000
DTEND;TZID=America/New_York:20260503T053000
DTSTAMP:20260421T081257
CREATED:20200423T012714Z
LAST-MODIFIED:20200423T012714Z
UID:5725-1777786200-1777786200@theorchardcommunitychurch.com
SUMMARY:Sunday Worship Service
DESCRIPTION:Details
URL:https://theorchardcommunitychurch.com/event/sunday-worship-service/2026-05-03/
LOCATION:The Orchard Community Church\, 1 NORTH ST\,\, GORHAM\, ME\, 04038
CATEGORIES:Church Service
END:VEVENT
BEGIN:VEVENT
DTSTART;TZID=America/New_York:20260503T053000
DTEND;TZID=America/New_York:20260503T053000
DTSTAMP:20260421T081257
CREATED:20220228T000902Z
LAST-MODIFIED:20220228T000902Z
UID:5842-1777786200-1777786200@theorchardcommunitychurch.com
SUMMARY:Worship Service
DESCRIPTION:
URL:https://theorchardcommunitychurch.com/event/worship-service/2026-05-03/
LOCATION:The Orchard Community Church\, 1 NORTH ST\,\, GORHAM\, ME\, 04038
CATEGORIES:Church Service
END:VEVENT
BEGIN:VEVENT
DTSTART;TZID=America/New_York:20260503T053000
DTEND;TZID=America/New_York:20260503T070000
DTSTAMP:20260421T081257
CREATED:20220321T232229Z
LAST-MODIFIED:20220321T232229Z
UID:5958-1777786200-1777791600@theorchardcommunitychurch.com
SUMMARY:Worship Service
DESCRIPTION:
URL:https://theorchardcommunitychurch.com/event/worship-service-4/2026-05-03/
LOCATION:The Orchard Community Church\, 1 NORTH ST\,\, GORHAM\, ME\, 04038
CATEGORIES:Church Service
END:VEVENT
BEGIN:VEVENT
DTSTART;TZID=America/New_York:20260503T093000
DTEND;TZID=America/New_York:20260503T093000
DTSTAMP:20260421T081257
CREATED:20220228T001907Z
LAST-MODIFIED:20220228T001907Z
UID:5900-1777800600-1777800600@theorchardcommunitychurch.com
SUMMARY:Worship Service
DESCRIPTION:
URL:https://theorchardcommunitychurch.com/event/worship-service-2/2026-05-03/
LOCATION:The Orchard Community Church\, 1 NORTH ST\,\, GORHAM\, ME\, 04038
CATEGORIES:Church Service
END:VEVENT
BEGIN:VEVENT
DTSTART;TZID=America/New_York:20260506T140000
DTEND;TZID=America/New_York:20260506T153000
DTSTAMP:20260421T081257
CREATED:20200423T013106Z
LAST-MODIFIED:20200423T013106Z
UID:5784-1778076000-1778081400@theorchardcommunitychurch.com
SUMMARY:Bible Study
DESCRIPTION:If you would like to join or gor more information about our Small Group Bible Study contact us here
URL:https://theorchardcommunitychurch.com/event/bible-study/2026-05-06/
LOCATION:The Orchard Community Church\, 1 NORTH ST\,\, GORHAM\, ME\, 04038
END:VEVENT
BEGIN:VEVENT
DTSTART;TZID=America/New_York:20260509T033000
DTEND;TZID=America/New_York:20260509T050000
DTSTAMP:20260421T081257
CREATED:20200423T011934Z
LAST-MODIFIED:20200423T011934Z
UID:5610-1778297400-1778302800@theorchardcommunitychurch.com
SUMMARY:Women's Group
DESCRIPTION:Details
URL:https://theorchardcommunitychurch.com/event/womens-group/2026-05-09/
LOCATION:The Orchard Community Church\, 1 NORTH ST\,\, GORHAM\, ME\, 04038
CATEGORIES:Women's Group
END:VEVENT
BEGIN:VEVENT
DTSTART;TZID=America/New_York:20260509T033000
DTEND;TZID=America/New_York:20260509T050000
DTSTAMP:20260421T081257
CREATED:20200423T012334Z
LAST-MODIFIED:20200423T012334Z
UID:5668-1778297400-1778302800@theorchardcommunitychurch.com
SUMMARY:Men's Group
DESCRIPTION:Details
URL:https://theorchardcommunitychurch.com/event/mens-group/2026-05-09/
LOCATION:The Orchard Community Church\, 1 NORTH ST\,\, GORHAM\, ME\, 04038
END:VEVENT
BEGIN:VEVENT
DTSTART;TZID=America/New_York:20260510T053000
DTEND;TZID=America/New_York:20260510T053000
DTSTAMP:20260421T081257
CREATED:20200423T012714Z
LAST-MODIFIED:20200423T012714Z
UID:5726-1778391000-1778391000@theorchardcommunitychurch.com
SUMMARY:Sunday Worship Service
DESCRIPTION:Details
URL:https://theorchardcommunitychurch.com/event/sunday-worship-service/2026-05-10/
LOCATION:The Orchard Community Church\, 1 NORTH ST\,\, GORHAM\, ME\, 04038
CATEGORIES:Church Service
END:VEVENT
BEGIN:VEVENT
DTSTART;TZID=America/New_York:20260510T053000
DTEND;TZID=America/New_York:20260510T053000
DTSTAMP:20260421T081257
CREATED:20220228T000902Z
LAST-MODIFIED:20220228T000902Z
UID:5843-1778391000-1778391000@theorchardcommunitychurch.com
SUMMARY:Worship Service
DESCRIPTION:
URL:https://theorchardcommunitychurch.com/event/worship-service/2026-05-10/
LOCATION:The Orchard Community Church\, 1 NORTH ST\,\, GORHAM\, ME\, 04038
CATEGORIES:Church Service
END:VEVENT
BEGIN:VEVENT
DTSTART;TZID=America/New_York:20260510T053000
DTEND;TZID=America/New_York:20260510T070000
DTSTAMP:20260421T081257
CREATED:20220321T232229Z
LAST-MODIFIED:20220321T232229Z
UID:5959-1778391000-1778396400@theorchardcommunitychurch.com
SUMMARY:Worship Service
DESCRIPTION:
URL:https://theorchardcommunitychurch.com/event/worship-service-4/2026-05-10/
LOCATION:The Orchard Community Church\, 1 NORTH ST\,\, GORHAM\, ME\, 04038
CATEGORIES:Church Service
END:VEVENT
BEGIN:VEVENT
DTSTART;TZID=America/New_York:20260510T093000
DTEND;TZID=America/New_York:20260510T093000
DTSTAMP:20260421T081257
CREATED:20220228T001907Z
LAST-MODIFIED:20220228T001907Z
UID:5901-1778405400-1778405400@theorchardcommunitychurch.com
SUMMARY:Worship Service
DESCRIPTION:
URL:https://theorchardcommunitychurch.com/event/worship-service-2/2026-05-10/
LOCATION:The Orchard Community Church\, 1 NORTH ST\,\, GORHAM\, ME\, 04038
CATEGORIES:Church Service
END:VEVENT
BEGIN:VEVENT
DTSTART;TZID=America/New_York:20260513T140000
DTEND;TZID=America/New_York:20260513T153000
DTSTAMP:20260421T081257
CREATED:20200423T013106Z
LAST-MODIFIED:20200423T013106Z
UID:5785-1778680800-1778686200@theorchardcommunitychurch.com
SUMMARY:Bible Study
DESCRIPTION:If you would like to join or gor more information about our Small Group Bible Study contact us here
URL:https://theorchardcommunitychurch.com/event/bible-study/2026-05-13/
LOCATION:The Orchard Community Church\, 1 NORTH ST\,\, GORHAM\, ME\, 04038
END:VEVENT
BEGIN:VEVENT
DTSTART;TZID=America/New_York:20260516T033000
DTEND;TZID=America/New_York:20260516T050000
DTSTAMP:20260421T081257
CREATED:20200423T011934Z
LAST-MODIFIED:20200423T011934Z
UID:5611-1778902200-1778907600@theorchardcommunitychurch.com
SUMMARY:Women's Group
DESCRIPTION:Details
URL:https://theorchardcommunitychurch.com/event/womens-group/2026-05-16/
LOCATION:The Orchard Community Church\, 1 NORTH ST\,\, GORHAM\, ME\, 04038
CATEGORIES:Women's Group
END:VEVENT
BEGIN:VEVENT
DTSTART;TZID=America/New_York:20260516T033000
DTEND;TZID=America/New_York:20260516T050000
DTSTAMP:20260421T081257
CREATED:20200423T012334Z
LAST-MODIFIED:20200423T012334Z
UID:5669-1778902200-1778907600@theorchardcommunitychurch.com
SUMMARY:Men's Group
DESCRIPTION:Details
URL:https://theorchardcommunitychurch.com/event/mens-group/2026-05-16/
LOCATION:The Orchard Community Church\, 1 NORTH ST\,\, GORHAM\, ME\, 04038
END:VEVENT
BEGIN:VEVENT
DTSTART;TZID=America/New_York:20260517T053000
DTEND;TZID=America/New_York:20260517T053000
DTSTAMP:20260421T081257
CREATED:20200423T012714Z
LAST-MODIFIED:20200423T012714Z
UID:5727-1778995800-1778995800@theorchardcommunitychurch.com
SUMMARY:Sunday Worship Service
DESCRIPTION:Details
URL:https://theorchardcommunitychurch.com/event/sunday-worship-service/2026-05-17/
LOCATION:The Orchard Community Church\, 1 NORTH ST\,\, GORHAM\, ME\, 04038
CATEGORIES:Church Service
END:VEVENT
BEGIN:VEVENT
DTSTART;TZID=America/New_York:20260517T053000
DTEND;TZID=America/New_York:20260517T053000
DTSTAMP:20260421T081257
CREATED:20220228T000902Z
LAST-MODIFIED:20220228T000902Z
UID:5844-1778995800-1778995800@theorchardcommunitychurch.com
SUMMARY:Worship Service
DESCRIPTION:
URL:https://theorchardcommunitychurch.com/event/worship-service/2026-05-17/
LOCATION:The Orchard Community Church\, 1 NORTH ST\,\, GORHAM\, ME\, 04038
CATEGORIES:Church Service
END:VEVENT
BEGIN:VEVENT
DTSTART;TZID=America/New_York:20260517T053000
DTEND;TZID=America/New_York:20260517T070000
DTSTAMP:20260421T081257
CREATED:20220321T232229Z
LAST-MODIFIED:20220321T232229Z
UID:5960-1778995800-1779001200@theorchardcommunitychurch.com
SUMMARY:Worship Service
DESCRIPTION:
URL:https://theorchardcommunitychurch.com/event/worship-service-4/2026-05-17/
LOCATION:The Orchard Community Church\, 1 NORTH ST\,\, GORHAM\, ME\, 04038
CATEGORIES:Church Service
END:VEVENT
BEGIN:VEVENT
DTSTART;TZID=America/New_York:20260517T093000
DTEND;TZID=America/New_York:20260517T093000
DTSTAMP:20260421T081257
CREATED:20220228T001907Z
LAST-MODIFIED:20220228T001907Z
UID:5902-1779010200-1779010200@theorchardcommunitychurch.com
SUMMARY:Worship Service
DESCRIPTION:
URL:https://theorchardcommunitychurch.com/event/worship-service-2/2026-05-17/
LOCATION:The Orchard Community Church\, 1 NORTH ST\,\, GORHAM\, ME\, 04038
CATEGORIES:Church Service
END:VEVENT
BEGIN:VEVENT
DTSTART;TZID=America/New_York:20260520T140000
DTEND;TZID=America/New_York:20260520T153000
DTSTAMP:20260421T081257
CREATED:20200423T013106Z
LAST-MODIFIED:20200423T013106Z
UID:5786-1779285600-1779291000@theorchardcommunitychurch.com
SUMMARY:Bible Study
DESCRIPTION:If you would like to join or gor more information about our Small Group Bible Study contact us here
URL:https://theorchardcommunitychurch.com/event/bible-study/2026-05-20/
LOCATION:The Orchard Community Church\, 1 NORTH ST\,\, GORHAM\, ME\, 04038
END:VEVENT
BEGIN:VEVENT
DTSTART;TZID=America/New_York:20260523T033000
DTEND;TZID=America/New_York:20260523T050000
DTSTAMP:20260421T081257
CREATED:20200423T011934Z
LAST-MODIFIED:20200423T011934Z
UID:5612-1779507000-1779512400@theorchardcommunitychurch.com
SUMMARY:Women's Group
DESCRIPTION:Details
URL:https://theorchardcommunitychurch.com/event/womens-group/2026-05-23/
LOCATION:The Orchard Community Church\, 1 NORTH ST\,\, GORHAM\, ME\, 04038
CATEGORIES:Women's Group
END:VEVENT
END:VCALENDAR