BEGIN:VCALENDAR
VERSION:2.0
PRODID:-//Orchard Community Church - ECPv6.9.0//NONSGML v1.0//EN
CALSCALE:GREGORIAN
METHOD:PUBLISH
X-WR-CALNAME:Orchard Community Church
X-ORIGINAL-URL:https://theorchardcommunitychurch.com
X-WR-CALDESC:Events for Orchard Community Church
REFRESH-INTERVAL;VALUE=DURATION:PT1H
X-Robots-Tag:noindex
X-PUBLISHED-TTL:PT1H
BEGIN:VTIMEZONE
TZID:America/New_York
BEGIN:DAYLIGHT
TZOFFSETFROM:-0500
TZOFFSETTO:-0400
TZNAME:EDT
DTSTART:20250309T070000
END:DAYLIGHT
BEGIN:STANDARD
TZOFFSETFROM:-0400
TZOFFSETTO:-0500
TZNAME:EST
DTSTART:20251102T060000
END:STANDARD
END:VTIMEZONE
BEGIN:VEVENT
DTSTART;TZID=America/New_York:20251210T130000
DTEND;TZID=America/New_York:20251210T143000
DTSTAMP:20260422T050738
CREATED:20200423T013106Z
LAST-MODIFIED:20200423T013106Z
UID:5763-1765371600-1765377000@theorchardcommunitychurch.com
SUMMARY:Bible Study
DESCRIPTION:If you would like to join or gor more information about our Small Group Bible Study contact us here
URL:https://theorchardcommunitychurch.com/event/bible-study/2025-12-10/
LOCATION:The Orchard Community Church\, 1 NORTH ST\,\, GORHAM\, ME\, 04038
END:VEVENT
BEGIN:VEVENT
DTSTART;TZID=America/New_York:20251207T093000
DTEND;TZID=America/New_York:20251207T093000
DTSTAMP:20260422T050738
CREATED:20220228T001907Z
LAST-MODIFIED:20220228T001907Z
UID:5879-1765099800-1765099800@theorchardcommunitychurch.com
SUMMARY:Worship Service
DESCRIPTION:
URL:https://theorchardcommunitychurch.com/event/worship-service-2/2025-12-07/
LOCATION:The Orchard Community Church\, 1 NORTH ST\,\, GORHAM\, ME\, 04038
CATEGORIES:Church Service
END:VEVENT
BEGIN:VEVENT
DTSTART;TZID=America/New_York:20251207T043000
DTEND;TZID=America/New_York:20251207T060000
DTSTAMP:20260422T050738
CREATED:20220321T232229Z
LAST-MODIFIED:20220321T232229Z
UID:5937-1765081800-1765087200@theorchardcommunitychurch.com
SUMMARY:Worship Service
DESCRIPTION:
URL:https://theorchardcommunitychurch.com/event/worship-service-4/2025-12-07/
LOCATION:The Orchard Community Church\, 1 NORTH ST\,\, GORHAM\, ME\, 04038
CATEGORIES:Church Service
END:VEVENT
BEGIN:VEVENT
DTSTART;TZID=America/New_York:20251207T043000
DTEND;TZID=America/New_York:20251207T043000
DTSTAMP:20260422T050738
CREATED:20220228T000902Z
LAST-MODIFIED:20220228T000902Z
UID:5821-1765081800-1765081800@theorchardcommunitychurch.com
SUMMARY:Worship Service
DESCRIPTION:
URL:https://theorchardcommunitychurch.com/event/worship-service/2025-12-07/
LOCATION:The Orchard Community Church\, 1 NORTH ST\,\, GORHAM\, ME\, 04038
CATEGORIES:Church Service
END:VEVENT
BEGIN:VEVENT
DTSTART;TZID=America/New_York:20251207T043000
DTEND;TZID=America/New_York:20251207T043000
DTSTAMP:20260422T050738
CREATED:20200423T012714Z
LAST-MODIFIED:20200423T012714Z
UID:5704-1765081800-1765081800@theorchardcommunitychurch.com
SUMMARY:Sunday Worship Service
DESCRIPTION:Details
URL:https://theorchardcommunitychurch.com/event/sunday-worship-service/2025-12-07/
LOCATION:The Orchard Community Church\, 1 NORTH ST\,\, GORHAM\, ME\, 04038
CATEGORIES:Church Service
END:VEVENT
BEGIN:VEVENT
DTSTART;TZID=America/New_York:20251206T023000
DTEND;TZID=America/New_York:20251206T040000
DTSTAMP:20260422T050738
CREATED:20200423T012334Z
LAST-MODIFIED:20200423T012334Z
UID:5646-1764988200-1764993600@theorchardcommunitychurch.com
SUMMARY:Men's Group
DESCRIPTION:Details
URL:https://theorchardcommunitychurch.com/event/mens-group/2025-12-06/
LOCATION:The Orchard Community Church\, 1 NORTH ST\,\, GORHAM\, ME\, 04038
END:VEVENT
BEGIN:VEVENT
DTSTART;TZID=America/New_York:20251206T023000
DTEND;TZID=America/New_York:20251206T040000
DTSTAMP:20260422T050738
CREATED:20200423T011934Z
LAST-MODIFIED:20200423T011934Z
UID:5588-1764988200-1764993600@theorchardcommunitychurch.com
SUMMARY:Women's Group
DESCRIPTION:Details
URL:https://theorchardcommunitychurch.com/event/womens-group/2025-12-06/
LOCATION:The Orchard Community Church\, 1 NORTH ST\,\, GORHAM\, ME\, 04038
CATEGORIES:Women's Group
END:VEVENT
BEGIN:VEVENT
DTSTART;TZID=America/New_York:20251203T130000
DTEND;TZID=America/New_York:20251203T143000
DTSTAMP:20260422T050738
CREATED:20200423T013106Z
LAST-MODIFIED:20200423T013106Z
UID:5762-1764766800-1764772200@theorchardcommunitychurch.com
SUMMARY:Bible Study
DESCRIPTION:If you would like to join or gor more information about our Small Group Bible Study contact us here
URL:https://theorchardcommunitychurch.com/event/bible-study/2025-12-03/
LOCATION:The Orchard Community Church\, 1 NORTH ST\,\, GORHAM\, ME\, 04038
END:VEVENT
BEGIN:VEVENT
DTSTART;TZID=America/New_York:20251130T093000
DTEND;TZID=America/New_York:20251130T093000
DTSTAMP:20260422T050738
CREATED:20220228T001907Z
LAST-MODIFIED:20220228T001907Z
UID:5878-1764495000-1764495000@theorchardcommunitychurch.com
SUMMARY:Worship Service
DESCRIPTION:
URL:https://theorchardcommunitychurch.com/event/worship-service-2/2025-11-30/
LOCATION:The Orchard Community Church\, 1 NORTH ST\,\, GORHAM\, ME\, 04038
CATEGORIES:Church Service
END:VEVENT
BEGIN:VEVENT
DTSTART;TZID=America/New_York:20251130T043000
DTEND;TZID=America/New_York:20251130T060000
DTSTAMP:20260422T050738
CREATED:20220321T232229Z
LAST-MODIFIED:20220321T232229Z
UID:5936-1764477000-1764482400@theorchardcommunitychurch.com
SUMMARY:Worship Service
DESCRIPTION:
URL:https://theorchardcommunitychurch.com/event/worship-service-4/2025-11-30/
LOCATION:The Orchard Community Church\, 1 NORTH ST\,\, GORHAM\, ME\, 04038
CATEGORIES:Church Service
END:VEVENT
BEGIN:VEVENT
DTSTART;TZID=America/New_York:20251130T043000
DTEND;TZID=America/New_York:20251130T043000
DTSTAMP:20260422T050738
CREATED:20220228T000902Z
LAST-MODIFIED:20220228T000902Z
UID:5820-1764477000-1764477000@theorchardcommunitychurch.com
SUMMARY:Worship Service
DESCRIPTION:
URL:https://theorchardcommunitychurch.com/event/worship-service/2025-11-30/
LOCATION:The Orchard Community Church\, 1 NORTH ST\,\, GORHAM\, ME\, 04038
CATEGORIES:Church Service
END:VEVENT
BEGIN:VEVENT
DTSTART;TZID=America/New_York:20251130T043000
DTEND;TZID=America/New_York:20251130T043000
DTSTAMP:20260422T050738
CREATED:20200423T012714Z
LAST-MODIFIED:20200423T012714Z
UID:5703-1764477000-1764477000@theorchardcommunitychurch.com
SUMMARY:Sunday Worship Service
DESCRIPTION:Details
URL:https://theorchardcommunitychurch.com/event/sunday-worship-service/2025-11-30/
LOCATION:The Orchard Community Church\, 1 NORTH ST\,\, GORHAM\, ME\, 04038
CATEGORIES:Church Service
END:VEVENT
BEGIN:VEVENT
DTSTART;TZID=America/New_York:20251129T023000
DTEND;TZID=America/New_York:20251129T040000
DTSTAMP:20260422T050738
CREATED:20200423T012334Z
LAST-MODIFIED:20200423T012334Z
UID:5645-1764383400-1764388800@theorchardcommunitychurch.com
SUMMARY:Men's Group
DESCRIPTION:Details
URL:https://theorchardcommunitychurch.com/event/mens-group/2025-11-29/
LOCATION:The Orchard Community Church\, 1 NORTH ST\,\, GORHAM\, ME\, 04038
END:VEVENT
BEGIN:VEVENT
DTSTART;TZID=America/New_York:20251129T023000
DTEND;TZID=America/New_York:20251129T040000
DTSTAMP:20260422T050738
CREATED:20200423T011934Z
LAST-MODIFIED:20200423T011934Z
UID:5587-1764383400-1764388800@theorchardcommunitychurch.com
SUMMARY:Women's Group
DESCRIPTION:Details
URL:https://theorchardcommunitychurch.com/event/womens-group/2025-11-29/
LOCATION:The Orchard Community Church\, 1 NORTH ST\,\, GORHAM\, ME\, 04038
CATEGORIES:Women's Group
END:VEVENT
BEGIN:VEVENT
DTSTART;TZID=America/New_York:20251126T130000
DTEND;TZID=America/New_York:20251126T143000
DTSTAMP:20260422T050738
CREATED:20200423T013106Z
LAST-MODIFIED:20200423T013106Z
UID:5761-1764162000-1764167400@theorchardcommunitychurch.com
SUMMARY:Bible Study
DESCRIPTION:If you would like to join or gor more information about our Small Group Bible Study contact us here
URL:https://theorchardcommunitychurch.com/event/bible-study/2025-11-26/
LOCATION:The Orchard Community Church\, 1 NORTH ST\,\, GORHAM\, ME\, 04038
END:VEVENT
BEGIN:VEVENT
DTSTART;TZID=America/New_York:20251123T093000
DTEND;TZID=America/New_York:20251123T093000
DTSTAMP:20260422T050738
CREATED:20220228T001907Z
LAST-MODIFIED:20220228T001907Z
UID:5877-1763890200-1763890200@theorchardcommunitychurch.com
SUMMARY:Worship Service
DESCRIPTION:
URL:https://theorchardcommunitychurch.com/event/worship-service-2/2025-11-23/
LOCATION:The Orchard Community Church\, 1 NORTH ST\,\, GORHAM\, ME\, 04038
CATEGORIES:Church Service
END:VEVENT
BEGIN:VEVENT
DTSTART;TZID=America/New_York:20251123T043000
DTEND;TZID=America/New_York:20251123T060000
DTSTAMP:20260422T050738
CREATED:20220321T232229Z
LAST-MODIFIED:20220321T232229Z
UID:5935-1763872200-1763877600@theorchardcommunitychurch.com
SUMMARY:Worship Service
DESCRIPTION:
URL:https://theorchardcommunitychurch.com/event/worship-service-4/2025-11-23/
LOCATION:The Orchard Community Church\, 1 NORTH ST\,\, GORHAM\, ME\, 04038
CATEGORIES:Church Service
END:VEVENT
BEGIN:VEVENT
DTSTART;TZID=America/New_York:20251123T043000
DTEND;TZID=America/New_York:20251123T043000
DTSTAMP:20260422T050738
CREATED:20220228T000902Z
LAST-MODIFIED:20220228T000902Z
UID:5819-1763872200-1763872200@theorchardcommunitychurch.com
SUMMARY:Worship Service
DESCRIPTION:
URL:https://theorchardcommunitychurch.com/event/worship-service/2025-11-23/
LOCATION:The Orchard Community Church\, 1 NORTH ST\,\, GORHAM\, ME\, 04038
CATEGORIES:Church Service
END:VEVENT
BEGIN:VEVENT
DTSTART;TZID=America/New_York:20251123T043000
DTEND;TZID=America/New_York:20251123T043000
DTSTAMP:20260422T050738
CREATED:20200423T012714Z
LAST-MODIFIED:20200423T012714Z
UID:5702-1763872200-1763872200@theorchardcommunitychurch.com
SUMMARY:Sunday Worship Service
DESCRIPTION:Details
URL:https://theorchardcommunitychurch.com/event/sunday-worship-service/2025-11-23/
LOCATION:The Orchard Community Church\, 1 NORTH ST\,\, GORHAM\, ME\, 04038
CATEGORIES:Church Service
END:VEVENT
BEGIN:VEVENT
DTSTART;TZID=America/New_York:20251122T023000
DTEND;TZID=America/New_York:20251122T040000
DTSTAMP:20260422T050738
CREATED:20200423T012334Z
LAST-MODIFIED:20200423T012334Z
UID:5644-1763778600-1763784000@theorchardcommunitychurch.com
SUMMARY:Men's Group
DESCRIPTION:Details
URL:https://theorchardcommunitychurch.com/event/mens-group/2025-11-22/
LOCATION:The Orchard Community Church\, 1 NORTH ST\,\, GORHAM\, ME\, 04038
END:VEVENT
BEGIN:VEVENT
DTSTART;TZID=America/New_York:20251122T023000
DTEND;TZID=America/New_York:20251122T040000
DTSTAMP:20260422T050738
CREATED:20200423T011934Z
LAST-MODIFIED:20200423T011934Z
UID:5586-1763778600-1763784000@theorchardcommunitychurch.com
SUMMARY:Women's Group
DESCRIPTION:Details
URL:https://theorchardcommunitychurch.com/event/womens-group/2025-11-22/
LOCATION:The Orchard Community Church\, 1 NORTH ST\,\, GORHAM\, ME\, 04038
CATEGORIES:Women's Group
END:VEVENT
BEGIN:VEVENT
DTSTART;TZID=America/New_York:20251119T130000
DTEND;TZID=America/New_York:20251119T143000
DTSTAMP:20260422T050738
CREATED:20200423T013106Z
LAST-MODIFIED:20200423T013106Z
UID:5760-1763557200-1763562600@theorchardcommunitychurch.com
SUMMARY:Bible Study
DESCRIPTION:If you would like to join or gor more information about our Small Group Bible Study contact us here
URL:https://theorchardcommunitychurch.com/event/bible-study/2025-11-19/
LOCATION:The Orchard Community Church\, 1 NORTH ST\,\, GORHAM\, ME\, 04038
END:VEVENT
BEGIN:VEVENT
DTSTART;TZID=America/New_York:20251116T093000
DTEND;TZID=America/New_York:20251116T093000
DTSTAMP:20260422T050738
CREATED:20220228T001907Z
LAST-MODIFIED:20220228T001907Z
UID:5876-1763285400-1763285400@theorchardcommunitychurch.com
SUMMARY:Worship Service
DESCRIPTION:
URL:https://theorchardcommunitychurch.com/event/worship-service-2/2025-11-16/
LOCATION:The Orchard Community Church\, 1 NORTH ST\,\, GORHAM\, ME\, 04038
CATEGORIES:Church Service
END:VEVENT
BEGIN:VEVENT
DTSTART;TZID=America/New_York:20251116T043000
DTEND;TZID=America/New_York:20251116T060000
DTSTAMP:20260422T050738
CREATED:20220321T232229Z
LAST-MODIFIED:20220321T232229Z
UID:5934-1763267400-1763272800@theorchardcommunitychurch.com
SUMMARY:Worship Service
DESCRIPTION:
URL:https://theorchardcommunitychurch.com/event/worship-service-4/2025-11-16/
LOCATION:The Orchard Community Church\, 1 NORTH ST\,\, GORHAM\, ME\, 04038
CATEGORIES:Church Service
END:VEVENT
BEGIN:VEVENT
DTSTART;TZID=America/New_York:20251116T043000
DTEND;TZID=America/New_York:20251116T043000
DTSTAMP:20260422T050738
CREATED:20220228T000902Z
LAST-MODIFIED:20220228T000902Z
UID:5818-1763267400-1763267400@theorchardcommunitychurch.com
SUMMARY:Worship Service
DESCRIPTION:
URL:https://theorchardcommunitychurch.com/event/worship-service/2025-11-16/
LOCATION:The Orchard Community Church\, 1 NORTH ST\,\, GORHAM\, ME\, 04038
CATEGORIES:Church Service
END:VEVENT
BEGIN:VEVENT
DTSTART;TZID=America/New_York:20251116T043000
DTEND;TZID=America/New_York:20251116T043000
DTSTAMP:20260422T050738
CREATED:20200423T012714Z
LAST-MODIFIED:20200423T012714Z
UID:5701-1763267400-1763267400@theorchardcommunitychurch.com
SUMMARY:Sunday Worship Service
DESCRIPTION:Details
URL:https://theorchardcommunitychurch.com/event/sunday-worship-service/2025-11-16/
LOCATION:The Orchard Community Church\, 1 NORTH ST\,\, GORHAM\, ME\, 04038
CATEGORIES:Church Service
END:VEVENT
BEGIN:VEVENT
DTSTART;TZID=America/New_York:20251115T023000
DTEND;TZID=America/New_York:20251115T040000
DTSTAMP:20260422T050738
CREATED:20200423T012334Z
LAST-MODIFIED:20200423T012334Z
UID:5643-1763173800-1763179200@theorchardcommunitychurch.com
SUMMARY:Men's Group
DESCRIPTION:Details
URL:https://theorchardcommunitychurch.com/event/mens-group/2025-11-15/
LOCATION:The Orchard Community Church\, 1 NORTH ST\,\, GORHAM\, ME\, 04038
END:VEVENT
BEGIN:VEVENT
DTSTART;TZID=America/New_York:20251115T023000
DTEND;TZID=America/New_York:20251115T040000
DTSTAMP:20260422T050738
CREATED:20200423T011934Z
LAST-MODIFIED:20200423T011934Z
UID:5585-1763173800-1763179200@theorchardcommunitychurch.com
SUMMARY:Women's Group
DESCRIPTION:Details
URL:https://theorchardcommunitychurch.com/event/womens-group/2025-11-15/
LOCATION:The Orchard Community Church\, 1 NORTH ST\,\, GORHAM\, ME\, 04038
CATEGORIES:Women's Group
END:VEVENT
BEGIN:VEVENT
DTSTART;TZID=America/New_York:20251112T130000
DTEND;TZID=America/New_York:20251112T143000
DTSTAMP:20260422T050738
CREATED:20200423T013106Z
LAST-MODIFIED:20200423T013106Z
UID:5759-1762952400-1762957800@theorchardcommunitychurch.com
SUMMARY:Bible Study
DESCRIPTION:If you would like to join or gor more information about our Small Group Bible Study contact us here
URL:https://theorchardcommunitychurch.com/event/bible-study/2025-11-12/
LOCATION:The Orchard Community Church\, 1 NORTH ST\,\, GORHAM\, ME\, 04038
END:VEVENT
BEGIN:VEVENT
DTSTART;TZID=America/New_York:20251109T093000
DTEND;TZID=America/New_York:20251109T093000
DTSTAMP:20260422T050738
CREATED:20220228T001907Z
LAST-MODIFIED:20220228T001907Z
UID:5875-1762680600-1762680600@theorchardcommunitychurch.com
SUMMARY:Worship Service
DESCRIPTION:
URL:https://theorchardcommunitychurch.com/event/worship-service-2/2025-11-09/
LOCATION:The Orchard Community Church\, 1 NORTH ST\,\, GORHAM\, ME\, 04038
CATEGORIES:Church Service
END:VEVENT
END:VCALENDAR