BEGIN:VCALENDAR
VERSION:2.0
PRODID:-//Orchard Community Church - ECPv6.9.0//NONSGML v1.0//EN
CALSCALE:GREGORIAN
METHOD:PUBLISH
X-ORIGINAL-URL:https://theorchardcommunitychurch.com
X-WR-CALDESC:Events for Orchard Community Church
REFRESH-INTERVAL;VALUE=DURATION:PT1H
X-Robots-Tag:noindex
X-PUBLISHED-TTL:PT1H
BEGIN:VTIMEZONE
TZID:America/New_York
BEGIN:DAYLIGHT
TZOFFSETFROM:-0500
TZOFFSETTO:-0400
TZNAME:EDT
DTSTART:20250309T070000
END:DAYLIGHT
BEGIN:STANDARD
TZOFFSETFROM:-0400
TZOFFSETTO:-0500
TZNAME:EST
DTSTART:20251102T060000
END:STANDARD
END:VTIMEZONE
BEGIN:VEVENT
DTSTART;TZID=America/New_York:20251116T043000
DTEND;TZID=America/New_York:20251116T043000
DTSTAMP:20260422T082820
CREATED:20220228T000902Z
LAST-MODIFIED:20220228T000902Z
UID:5818-1763267400-1763267400@theorchardcommunitychurch.com
SUMMARY:Worship Service
DESCRIPTION:
URL:https://theorchardcommunitychurch.com/event/worship-service/2025-11-16/
LOCATION:The Orchard Community Church\, 1 NORTH ST\,\, GORHAM\, ME\, 04038
CATEGORIES:Church Service
END:VEVENT
BEGIN:VEVENT
DTSTART;TZID=America/New_York:20251116T043000
DTEND;TZID=America/New_York:20251116T043000
DTSTAMP:20260422T082820
CREATED:20200423T012714Z
LAST-MODIFIED:20200423T012714Z
UID:5701-1763267400-1763267400@theorchardcommunitychurch.com
SUMMARY:Sunday Worship Service
DESCRIPTION:Details
URL:https://theorchardcommunitychurch.com/event/sunday-worship-service/2025-11-16/
LOCATION:The Orchard Community Church\, 1 NORTH ST\,\, GORHAM\, ME\, 04038
CATEGORIES:Church Service
END:VEVENT
BEGIN:VEVENT
DTSTART;TZID=America/New_York:20251115T023000
DTEND;TZID=America/New_York:20251115T040000
DTSTAMP:20260422T082820
CREATED:20200423T012334Z
LAST-MODIFIED:20200423T012334Z
UID:5643-1763173800-1763179200@theorchardcommunitychurch.com
SUMMARY:Men's Group
DESCRIPTION:Details
URL:https://theorchardcommunitychurch.com/event/mens-group/2025-11-15/
LOCATION:The Orchard Community Church\, 1 NORTH ST\,\, GORHAM\, ME\, 04038
END:VEVENT
BEGIN:VEVENT
DTSTART;TZID=America/New_York:20251115T023000
DTEND;TZID=America/New_York:20251115T040000
DTSTAMP:20260422T082820
CREATED:20200423T011934Z
LAST-MODIFIED:20200423T011934Z
UID:5585-1763173800-1763179200@theorchardcommunitychurch.com
SUMMARY:Women's Group
DESCRIPTION:Details
URL:https://theorchardcommunitychurch.com/event/womens-group/2025-11-15/
LOCATION:The Orchard Community Church\, 1 NORTH ST\,\, GORHAM\, ME\, 04038
CATEGORIES:Women's Group
END:VEVENT
BEGIN:VEVENT
DTSTART;TZID=America/New_York:20251112T130000
DTEND;TZID=America/New_York:20251112T143000
DTSTAMP:20260422T082820
CREATED:20200423T013106Z
LAST-MODIFIED:20200423T013106Z
UID:5759-1762952400-1762957800@theorchardcommunitychurch.com
SUMMARY:Bible Study
DESCRIPTION:If you would like to join or gor more information about our Small Group Bible Study contact us here
URL:https://theorchardcommunitychurch.com/event/bible-study/2025-11-12/
LOCATION:The Orchard Community Church\, 1 NORTH ST\,\, GORHAM\, ME\, 04038
END:VEVENT
BEGIN:VEVENT
DTSTART;TZID=America/New_York:20251109T093000
DTEND;TZID=America/New_York:20251109T093000
DTSTAMP:20260422T082820
CREATED:20220228T001907Z
LAST-MODIFIED:20220228T001907Z
UID:5875-1762680600-1762680600@theorchardcommunitychurch.com
SUMMARY:Worship Service
DESCRIPTION:
URL:https://theorchardcommunitychurch.com/event/worship-service-2/2025-11-09/
LOCATION:The Orchard Community Church\, 1 NORTH ST\,\, GORHAM\, ME\, 04038
CATEGORIES:Church Service
END:VEVENT
BEGIN:VEVENT
DTSTART;TZID=America/New_York:20251109T043000
DTEND;TZID=America/New_York:20251109T060000
DTSTAMP:20260422T082820
CREATED:20220321T232229Z
LAST-MODIFIED:20220321T232229Z
UID:5933-1762662600-1762668000@theorchardcommunitychurch.com
SUMMARY:Worship Service
DESCRIPTION:
URL:https://theorchardcommunitychurch.com/event/worship-service-4/2025-11-09/
LOCATION:The Orchard Community Church\, 1 NORTH ST\,\, GORHAM\, ME\, 04038
CATEGORIES:Church Service
END:VEVENT
BEGIN:VEVENT
DTSTART;TZID=America/New_York:20251109T043000
DTEND;TZID=America/New_York:20251109T043000
DTSTAMP:20260422T082820
CREATED:20220228T000902Z
LAST-MODIFIED:20220228T000902Z
UID:5817-1762662600-1762662600@theorchardcommunitychurch.com
SUMMARY:Worship Service
DESCRIPTION:
URL:https://theorchardcommunitychurch.com/event/worship-service/2025-11-09/
LOCATION:The Orchard Community Church\, 1 NORTH ST\,\, GORHAM\, ME\, 04038
CATEGORIES:Church Service
END:VEVENT
BEGIN:VEVENT
DTSTART;TZID=America/New_York:20251109T043000
DTEND;TZID=America/New_York:20251109T043000
DTSTAMP:20260422T082820
CREATED:20200423T012714Z
LAST-MODIFIED:20200423T012714Z
UID:5700-1762662600-1762662600@theorchardcommunitychurch.com
SUMMARY:Sunday Worship Service
DESCRIPTION:Details
URL:https://theorchardcommunitychurch.com/event/sunday-worship-service/2025-11-09/
LOCATION:The Orchard Community Church\, 1 NORTH ST\,\, GORHAM\, ME\, 04038
CATEGORIES:Church Service
END:VEVENT
BEGIN:VEVENT
DTSTART;TZID=America/New_York:20251108T023000
DTEND;TZID=America/New_York:20251108T040000
DTSTAMP:20260422T082820
CREATED:20200423T012334Z
LAST-MODIFIED:20200423T012334Z
UID:5642-1762569000-1762574400@theorchardcommunitychurch.com
SUMMARY:Men's Group
DESCRIPTION:Details
URL:https://theorchardcommunitychurch.com/event/mens-group/2025-11-08/
LOCATION:The Orchard Community Church\, 1 NORTH ST\,\, GORHAM\, ME\, 04038
END:VEVENT
BEGIN:VEVENT
DTSTART;TZID=America/New_York:20251108T023000
DTEND;TZID=America/New_York:20251108T040000
DTSTAMP:20260422T082820
CREATED:20200423T011934Z
LAST-MODIFIED:20200423T011934Z
UID:5584-1762569000-1762574400@theorchardcommunitychurch.com
SUMMARY:Women's Group
DESCRIPTION:Details
URL:https://theorchardcommunitychurch.com/event/womens-group/2025-11-08/
LOCATION:The Orchard Community Church\, 1 NORTH ST\,\, GORHAM\, ME\, 04038
CATEGORIES:Women's Group
END:VEVENT
BEGIN:VEVENT
DTSTART;TZID=America/New_York:20251105T130000
DTEND;TZID=America/New_York:20251105T143000
DTSTAMP:20260422T082820
CREATED:20200423T013106Z
LAST-MODIFIED:20200423T013106Z
UID:5758-1762347600-1762353000@theorchardcommunitychurch.com
SUMMARY:Bible Study
DESCRIPTION:If you would like to join or gor more information about our Small Group Bible Study contact us here
URL:https://theorchardcommunitychurch.com/event/bible-study/2025-11-05/
LOCATION:The Orchard Community Church\, 1 NORTH ST\,\, GORHAM\, ME\, 04038
END:VEVENT
BEGIN:VEVENT
DTSTART;TZID=America/New_York:20251102T093000
DTEND;TZID=America/New_York:20251102T093000
DTSTAMP:20260422T082820
CREATED:20220228T001907Z
LAST-MODIFIED:20220228T001907Z
UID:5874-1762075800-1762075800@theorchardcommunitychurch.com
SUMMARY:Worship Service
DESCRIPTION:
URL:https://theorchardcommunitychurch.com/event/worship-service-2/2025-11-02/
LOCATION:The Orchard Community Church\, 1 NORTH ST\,\, GORHAM\, ME\, 04038
CATEGORIES:Church Service
END:VEVENT
BEGIN:VEVENT
DTSTART;TZID=America/New_York:20251102T043000
DTEND;TZID=America/New_York:20251102T060000
DTSTAMP:20260422T082820
CREATED:20220321T232229Z
LAST-MODIFIED:20220321T232229Z
UID:5932-1762057800-1762063200@theorchardcommunitychurch.com
SUMMARY:Worship Service
DESCRIPTION:
URL:https://theorchardcommunitychurch.com/event/worship-service-4/2025-11-02/
LOCATION:The Orchard Community Church\, 1 NORTH ST\,\, GORHAM\, ME\, 04038
CATEGORIES:Church Service
END:VEVENT
BEGIN:VEVENT
DTSTART;TZID=America/New_York:20251102T043000
DTEND;TZID=America/New_York:20251102T043000
DTSTAMP:20260422T082820
CREATED:20220228T000902Z
LAST-MODIFIED:20220228T000902Z
UID:5816-1762057800-1762057800@theorchardcommunitychurch.com
SUMMARY:Worship Service
DESCRIPTION:
URL:https://theorchardcommunitychurch.com/event/worship-service/2025-11-02/
LOCATION:The Orchard Community Church\, 1 NORTH ST\,\, GORHAM\, ME\, 04038
CATEGORIES:Church Service
END:VEVENT
BEGIN:VEVENT
DTSTART;TZID=America/New_York:20251102T043000
DTEND;TZID=America/New_York:20251102T043000
DTSTAMP:20260422T082820
CREATED:20200423T012714Z
LAST-MODIFIED:20200423T012714Z
UID:5699-1762057800-1762057800@theorchardcommunitychurch.com
SUMMARY:Sunday Worship Service
DESCRIPTION:Details
URL:https://theorchardcommunitychurch.com/event/sunday-worship-service/2025-11-02/
LOCATION:The Orchard Community Church\, 1 NORTH ST\,\, GORHAM\, ME\, 04038
CATEGORIES:Church Service
END:VEVENT
BEGIN:VEVENT
DTSTART;TZID=America/New_York:20251101T033000
DTEND;TZID=America/New_York:20251101T050000
DTSTAMP:20260422T082820
CREATED:20200423T012334Z
LAST-MODIFIED:20200423T012334Z
UID:5641-1761967800-1761973200@theorchardcommunitychurch.com
SUMMARY:Men's Group
DESCRIPTION:Details
URL:https://theorchardcommunitychurch.com/event/mens-group/2025-11-01/
LOCATION:The Orchard Community Church\, 1 NORTH ST\,\, GORHAM\, ME\, 04038
END:VEVENT
BEGIN:VEVENT
DTSTART;TZID=America/New_York:20251101T033000
DTEND;TZID=America/New_York:20251101T050000
DTSTAMP:20260422T082820
CREATED:20200423T011934Z
LAST-MODIFIED:20200423T011934Z
UID:5583-1761967800-1761973200@theorchardcommunitychurch.com
SUMMARY:Women's Group
DESCRIPTION:Details
URL:https://theorchardcommunitychurch.com/event/womens-group/2025-11-01/
LOCATION:The Orchard Community Church\, 1 NORTH ST\,\, GORHAM\, ME\, 04038
CATEGORIES:Women's Group
END:VEVENT
BEGIN:VEVENT
DTSTART;TZID=America/New_York:20251029T140000
DTEND;TZID=America/New_York:20251029T153000
DTSTAMP:20260422T082820
CREATED:20200423T013106Z
LAST-MODIFIED:20200423T013106Z
UID:5757-1761746400-1761751800@theorchardcommunitychurch.com
SUMMARY:Bible Study
DESCRIPTION:If you would like to join or gor more information about our Small Group Bible Study contact us here
URL:https://theorchardcommunitychurch.com/event/bible-study/2025-10-29/
LOCATION:The Orchard Community Church\, 1 NORTH ST\,\, GORHAM\, ME\, 04038
END:VEVENT
BEGIN:VEVENT
DTSTART;TZID=America/New_York:20251026T093000
DTEND;TZID=America/New_York:20251026T093000
DTSTAMP:20260422T082820
CREATED:20220228T001907Z
LAST-MODIFIED:20220228T001907Z
UID:5873-1761471000-1761471000@theorchardcommunitychurch.com
SUMMARY:Worship Service
DESCRIPTION:
URL:https://theorchardcommunitychurch.com/event/worship-service-2/2025-10-26/
LOCATION:The Orchard Community Church\, 1 NORTH ST\,\, GORHAM\, ME\, 04038
CATEGORIES:Church Service
END:VEVENT
BEGIN:VEVENT
DTSTART;TZID=America/New_York:20251026T053000
DTEND;TZID=America/New_York:20251026T070000
DTSTAMP:20260422T082820
CREATED:20220321T232229Z
LAST-MODIFIED:20220321T232229Z
UID:5931-1761456600-1761462000@theorchardcommunitychurch.com
SUMMARY:Worship Service
DESCRIPTION:
URL:https://theorchardcommunitychurch.com/event/worship-service-4/2025-10-26/
LOCATION:The Orchard Community Church\, 1 NORTH ST\,\, GORHAM\, ME\, 04038
CATEGORIES:Church Service
END:VEVENT
BEGIN:VEVENT
DTSTART;TZID=America/New_York:20251026T053000
DTEND;TZID=America/New_York:20251026T053000
DTSTAMP:20260422T082820
CREATED:20220228T000902Z
LAST-MODIFIED:20220228T000902Z
UID:5815-1761456600-1761456600@theorchardcommunitychurch.com
SUMMARY:Worship Service
DESCRIPTION:
URL:https://theorchardcommunitychurch.com/event/worship-service/2025-10-26/
LOCATION:The Orchard Community Church\, 1 NORTH ST\,\, GORHAM\, ME\, 04038
CATEGORIES:Church Service
END:VEVENT
BEGIN:VEVENT
DTSTART;TZID=America/New_York:20251026T053000
DTEND;TZID=America/New_York:20251026T053000
DTSTAMP:20260422T082820
CREATED:20200423T012714Z
LAST-MODIFIED:20200423T012714Z
UID:5698-1761456600-1761456600@theorchardcommunitychurch.com
SUMMARY:Sunday Worship Service
DESCRIPTION:Details
URL:https://theorchardcommunitychurch.com/event/sunday-worship-service/2025-10-26/
LOCATION:The Orchard Community Church\, 1 NORTH ST\,\, GORHAM\, ME\, 04038
CATEGORIES:Church Service
END:VEVENT
BEGIN:VEVENT
DTSTART;TZID=America/New_York:20251025T033000
DTEND;TZID=America/New_York:20251025T050000
DTSTAMP:20260422T082820
CREATED:20200423T012334Z
LAST-MODIFIED:20200423T012334Z
UID:5640-1761363000-1761368400@theorchardcommunitychurch.com
SUMMARY:Men's Group
DESCRIPTION:Details
URL:https://theorchardcommunitychurch.com/event/mens-group/2025-10-25/
LOCATION:The Orchard Community Church\, 1 NORTH ST\,\, GORHAM\, ME\, 04038
END:VEVENT
BEGIN:VEVENT
DTSTART;TZID=America/New_York:20251025T033000
DTEND;TZID=America/New_York:20251025T050000
DTSTAMP:20260422T082820
CREATED:20200423T011934Z
LAST-MODIFIED:20200423T011934Z
UID:5582-1761363000-1761368400@theorchardcommunitychurch.com
SUMMARY:Women's Group
DESCRIPTION:Details
URL:https://theorchardcommunitychurch.com/event/womens-group/2025-10-25/
LOCATION:The Orchard Community Church\, 1 NORTH ST\,\, GORHAM\, ME\, 04038
CATEGORIES:Women's Group
END:VEVENT
BEGIN:VEVENT
DTSTART;TZID=America/New_York:20251022T140000
DTEND;TZID=America/New_York:20251022T153000
DTSTAMP:20260422T082820
CREATED:20200423T013106Z
LAST-MODIFIED:20200423T013106Z
UID:5756-1761141600-1761147000@theorchardcommunitychurch.com
SUMMARY:Bible Study
DESCRIPTION:If you would like to join or gor more information about our Small Group Bible Study contact us here
URL:https://theorchardcommunitychurch.com/event/bible-study/2025-10-22/
LOCATION:The Orchard Community Church\, 1 NORTH ST\,\, GORHAM\, ME\, 04038
END:VEVENT
BEGIN:VEVENT
DTSTART;TZID=America/New_York:20251019T093000
DTEND;TZID=America/New_York:20251019T093000
DTSTAMP:20260422T082820
CREATED:20220228T001907Z
LAST-MODIFIED:20220228T001907Z
UID:5872-1760866200-1760866200@theorchardcommunitychurch.com
SUMMARY:Worship Service
DESCRIPTION:
URL:https://theorchardcommunitychurch.com/event/worship-service-2/2025-10-19/
LOCATION:The Orchard Community Church\, 1 NORTH ST\,\, GORHAM\, ME\, 04038
CATEGORIES:Church Service
END:VEVENT
BEGIN:VEVENT
DTSTART;TZID=America/New_York:20251019T053000
DTEND;TZID=America/New_York:20251019T070000
DTSTAMP:20260422T082820
CREATED:20220321T232229Z
LAST-MODIFIED:20220321T232229Z
UID:5930-1760851800-1760857200@theorchardcommunitychurch.com
SUMMARY:Worship Service
DESCRIPTION:
URL:https://theorchardcommunitychurch.com/event/worship-service-4/2025-10-19/
LOCATION:The Orchard Community Church\, 1 NORTH ST\,\, GORHAM\, ME\, 04038
CATEGORIES:Church Service
END:VEVENT
BEGIN:VEVENT
DTSTART;TZID=America/New_York:20251019T053000
DTEND;TZID=America/New_York:20251019T053000
DTSTAMP:20260422T082820
CREATED:20220228T000902Z
LAST-MODIFIED:20220228T000902Z
UID:5814-1760851800-1760851800@theorchardcommunitychurch.com
SUMMARY:Worship Service
DESCRIPTION:
URL:https://theorchardcommunitychurch.com/event/worship-service/2025-10-19/
LOCATION:The Orchard Community Church\, 1 NORTH ST\,\, GORHAM\, ME\, 04038
CATEGORIES:Church Service
END:VEVENT
BEGIN:VEVENT
DTSTART;TZID=America/New_York:20251019T053000
DTEND;TZID=America/New_York:20251019T053000
DTSTAMP:20260422T082820
CREATED:20200423T012714Z
LAST-MODIFIED:20200423T012714Z
UID:5697-1760851800-1760851800@theorchardcommunitychurch.com
SUMMARY:Sunday Worship Service
DESCRIPTION:Details
URL:https://theorchardcommunitychurch.com/event/sunday-worship-service/2025-10-19/
LOCATION:The Orchard Community Church\, 1 NORTH ST\,\, GORHAM\, ME\, 04038
CATEGORIES:Church Service
END:VEVENT
END:VCALENDAR