BEGIN:VCALENDAR
VERSION:2.0
PRODID:-//Orchard Community Church - ECPv6.9.0//NONSGML v1.0//EN
CALSCALE:GREGORIAN
METHOD:PUBLISH
X-WR-CALNAME:Orchard Community Church
X-ORIGINAL-URL:https://theorchardcommunitychurch.com
X-WR-CALDESC:Events for Orchard Community Church
REFRESH-INTERVAL;VALUE=DURATION:PT1H
X-Robots-Tag:noindex
X-PUBLISHED-TTL:PT1H
BEGIN:VTIMEZONE
TZID:America/New_York
BEGIN:DAYLIGHT
TZOFFSETFROM:-0500
TZOFFSETTO:-0400
TZNAME:EDT
DTSTART:20260308T070000
END:DAYLIGHT
BEGIN:STANDARD
TZOFFSETFROM:-0400
TZOFFSETTO:-0500
TZNAME:EST
DTSTART:20261101T060000
END:STANDARD
END:VTIMEZONE
BEGIN:VEVENT
DTSTART;TZID=America/New_York:20261007T140000
DTEND;TZID=America/New_York:20261007T153000
DTSTAMP:20260421T064033
CREATED:20200423T013106Z
LAST-MODIFIED:20200423T013106Z
UID:6033-1791381600-1791387000@theorchardcommunitychurch.com
SUMMARY:Bible Study
DESCRIPTION:If you would like to join or gor more information about our Small Group Bible Study contact us here
URL:https://theorchardcommunitychurch.com/event/bible-study/2026-10-07/
LOCATION:The Orchard Community Church\, 1 NORTH ST\,\, GORHAM\, ME\, 04038
END:VEVENT
BEGIN:VEVENT
DTSTART;TZID=America/New_York:20261010T033000
DTEND;TZID=America/New_York:20261010T050000
DTSTAMP:20260421T064033
CREATED:20200423T011934Z
LAST-MODIFIED:20200423T011934Z
UID:6034-1791603000-1791608400@theorchardcommunitychurch.com
SUMMARY:Women's Group
DESCRIPTION:Details
URL:https://theorchardcommunitychurch.com/event/womens-group/2026-10-10/
LOCATION:The Orchard Community Church\, 1 NORTH ST\,\, GORHAM\, ME\, 04038
CATEGORIES:Women's Group
END:VEVENT
BEGIN:VEVENT
DTSTART;TZID=America/New_York:20261010T033000
DTEND;TZID=America/New_York:20261010T050000
DTSTAMP:20260421T064033
CREATED:20200423T012334Z
LAST-MODIFIED:20200423T012334Z
UID:6035-1791603000-1791608400@theorchardcommunitychurch.com
SUMMARY:Men's Group
DESCRIPTION:Details
URL:https://theorchardcommunitychurch.com/event/mens-group/2026-10-10/
LOCATION:The Orchard Community Church\, 1 NORTH ST\,\, GORHAM\, ME\, 04038
END:VEVENT
BEGIN:VEVENT
DTSTART;TZID=America/New_York:20261011T053000
DTEND;TZID=America/New_York:20261011T053000
DTSTAMP:20260421T064033
CREATED:20200423T012714Z
LAST-MODIFIED:20200423T012714Z
UID:6036-1791696600-1791696600@theorchardcommunitychurch.com
SUMMARY:Sunday Worship Service
DESCRIPTION:Details
URL:https://theorchardcommunitychurch.com/event/sunday-worship-service/2026-10-11/
LOCATION:The Orchard Community Church\, 1 NORTH ST\,\, GORHAM\, ME\, 04038
CATEGORIES:Church Service
END:VEVENT
BEGIN:VEVENT
DTSTART;TZID=America/New_York:20261011T053000
DTEND;TZID=America/New_York:20261011T053000
DTSTAMP:20260421T064033
CREATED:20220228T000902Z
LAST-MODIFIED:20220228T000902Z
UID:6037-1791696600-1791696600@theorchardcommunitychurch.com
SUMMARY:Worship Service
DESCRIPTION:
URL:https://theorchardcommunitychurch.com/event/worship-service/2026-10-11/
LOCATION:The Orchard Community Church\, 1 NORTH ST\,\, GORHAM\, ME\, 04038
CATEGORIES:Church Service
END:VEVENT
BEGIN:VEVENT
DTSTART;TZID=America/New_York:20261011T053000
DTEND;TZID=America/New_York:20261011T070000
DTSTAMP:20260421T064033
CREATED:20220321T232229Z
LAST-MODIFIED:20220321T232229Z
UID:6039-1791696600-1791702000@theorchardcommunitychurch.com
SUMMARY:Worship Service
DESCRIPTION:
URL:https://theorchardcommunitychurch.com/event/worship-service-4/2026-10-11/
LOCATION:The Orchard Community Church\, 1 NORTH ST\,\, GORHAM\, ME\, 04038
CATEGORIES:Church Service
END:VEVENT
BEGIN:VEVENT
DTSTART;TZID=America/New_York:20261011T093000
DTEND;TZID=America/New_York:20261011T093000
DTSTAMP:20260421T064033
CREATED:20220228T001907Z
LAST-MODIFIED:20220228T001907Z
UID:6038-1791711000-1791711000@theorchardcommunitychurch.com
SUMMARY:Worship Service
DESCRIPTION:
URL:https://theorchardcommunitychurch.com/event/worship-service-2/2026-10-11/
LOCATION:The Orchard Community Church\, 1 NORTH ST\,\, GORHAM\, ME\, 04038
CATEGORIES:Church Service
END:VEVENT
BEGIN:VEVENT
DTSTART;TZID=America/New_York:20261014T140000
DTEND;TZID=America/New_York:20261014T153000
DTSTAMP:20260421T064033
CREATED:20200423T013106Z
LAST-MODIFIED:20200423T013106Z
UID:6040-1791986400-1791991800@theorchardcommunitychurch.com
SUMMARY:Bible Study
DESCRIPTION:If you would like to join or gor more information about our Small Group Bible Study contact us here
URL:https://theorchardcommunitychurch.com/event/bible-study/2026-10-14/
LOCATION:The Orchard Community Church\, 1 NORTH ST\,\, GORHAM\, ME\, 04038
END:VEVENT
BEGIN:VEVENT
DTSTART;TZID=America/New_York:20261017T033000
DTEND;TZID=America/New_York:20261017T050000
DTSTAMP:20260421T064033
CREATED:20200423T011934Z
LAST-MODIFIED:20200423T011934Z
UID:6041-1792207800-1792213200@theorchardcommunitychurch.com
SUMMARY:Women's Group
DESCRIPTION:Details
URL:https://theorchardcommunitychurch.com/event/womens-group/2026-10-17/
LOCATION:The Orchard Community Church\, 1 NORTH ST\,\, GORHAM\, ME\, 04038
CATEGORIES:Women's Group
END:VEVENT
BEGIN:VEVENT
DTSTART;TZID=America/New_York:20261017T033000
DTEND;TZID=America/New_York:20261017T050000
DTSTAMP:20260421T064033
CREATED:20200423T012334Z
LAST-MODIFIED:20200423T012334Z
UID:6042-1792207800-1792213200@theorchardcommunitychurch.com
SUMMARY:Men's Group
DESCRIPTION:Details
URL:https://theorchardcommunitychurch.com/event/mens-group/2026-10-17/
LOCATION:The Orchard Community Church\, 1 NORTH ST\,\, GORHAM\, ME\, 04038
END:VEVENT
BEGIN:VEVENT
DTSTART;TZID=America/New_York:20261018T053000
DTEND;TZID=America/New_York:20261018T053000
DTSTAMP:20260421T064033
CREATED:20200423T012714Z
LAST-MODIFIED:20200423T012714Z
UID:6043-1792301400-1792301400@theorchardcommunitychurch.com
SUMMARY:Sunday Worship Service
DESCRIPTION:Details
URL:https://theorchardcommunitychurch.com/event/sunday-worship-service/2026-10-18/
LOCATION:The Orchard Community Church\, 1 NORTH ST\,\, GORHAM\, ME\, 04038
CATEGORIES:Church Service
END:VEVENT
BEGIN:VEVENT
DTSTART;TZID=America/New_York:20261018T053000
DTEND;TZID=America/New_York:20261018T053000
DTSTAMP:20260421T064033
CREATED:20220228T000902Z
LAST-MODIFIED:20220228T000902Z
UID:6044-1792301400-1792301400@theorchardcommunitychurch.com
SUMMARY:Worship Service
DESCRIPTION:
URL:https://theorchardcommunitychurch.com/event/worship-service/2026-10-18/
LOCATION:The Orchard Community Church\, 1 NORTH ST\,\, GORHAM\, ME\, 04038
CATEGORIES:Church Service
END:VEVENT
BEGIN:VEVENT
DTSTART;TZID=America/New_York:20261018T053000
DTEND;TZID=America/New_York:20261018T070000
DTSTAMP:20260421T064033
CREATED:20220321T232229Z
LAST-MODIFIED:20220321T232229Z
UID:6046-1792301400-1792306800@theorchardcommunitychurch.com
SUMMARY:Worship Service
DESCRIPTION:
URL:https://theorchardcommunitychurch.com/event/worship-service-4/2026-10-18/
LOCATION:The Orchard Community Church\, 1 NORTH ST\,\, GORHAM\, ME\, 04038
CATEGORIES:Church Service
END:VEVENT
BEGIN:VEVENT
DTSTART;TZID=America/New_York:20261018T093000
DTEND;TZID=America/New_York:20261018T093000
DTSTAMP:20260421T064033
CREATED:20220228T001907Z
LAST-MODIFIED:20220228T001907Z
UID:6045-1792315800-1792315800@theorchardcommunitychurch.com
SUMMARY:Worship Service
DESCRIPTION:
URL:https://theorchardcommunitychurch.com/event/worship-service-2/2026-10-18/
LOCATION:The Orchard Community Church\, 1 NORTH ST\,\, GORHAM\, ME\, 04038
CATEGORIES:Church Service
END:VEVENT
BEGIN:VEVENT
DTSTART;TZID=America/New_York:20261021T140000
DTEND;TZID=America/New_York:20261021T153000
DTSTAMP:20260421T064033
CREATED:20200423T013106Z
LAST-MODIFIED:20200423T013106Z
UID:6047-1792591200-1792596600@theorchardcommunitychurch.com
SUMMARY:Bible Study
DESCRIPTION:If you would like to join or gor more information about our Small Group Bible Study contact us here
URL:https://theorchardcommunitychurch.com/event/bible-study/2026-10-21/
LOCATION:The Orchard Community Church\, 1 NORTH ST\,\, GORHAM\, ME\, 04038
END:VEVENT
BEGIN:VEVENT
DTSTART;TZID=America/New_York:20261024T033000
DTEND;TZID=America/New_York:20261024T050000
DTSTAMP:20260421T064033
CREATED:20200423T011934Z
LAST-MODIFIED:20200423T011934Z
UID:6048-1792812600-1792818000@theorchardcommunitychurch.com
SUMMARY:Women's Group
DESCRIPTION:Details
URL:https://theorchardcommunitychurch.com/event/womens-group/2026-10-24/
LOCATION:The Orchard Community Church\, 1 NORTH ST\,\, GORHAM\, ME\, 04038
CATEGORIES:Women's Group
END:VEVENT
BEGIN:VEVENT
DTSTART;TZID=America/New_York:20261024T033000
DTEND;TZID=America/New_York:20261024T050000
DTSTAMP:20260421T064033
CREATED:20200423T012334Z
LAST-MODIFIED:20200423T012334Z
UID:6049-1792812600-1792818000@theorchardcommunitychurch.com
SUMMARY:Men's Group
DESCRIPTION:Details
URL:https://theorchardcommunitychurch.com/event/mens-group/2026-10-24/
LOCATION:The Orchard Community Church\, 1 NORTH ST\,\, GORHAM\, ME\, 04038
END:VEVENT
BEGIN:VEVENT
DTSTART;TZID=America/New_York:20261025T053000
DTEND;TZID=America/New_York:20261025T053000
DTSTAMP:20260421T064033
CREATED:20200423T012714Z
LAST-MODIFIED:20200423T012714Z
UID:6050-1792906200-1792906200@theorchardcommunitychurch.com
SUMMARY:Sunday Worship Service
DESCRIPTION:Details
URL:https://theorchardcommunitychurch.com/event/sunday-worship-service/2026-10-25/
LOCATION:The Orchard Community Church\, 1 NORTH ST\,\, GORHAM\, ME\, 04038
CATEGORIES:Church Service
END:VEVENT
BEGIN:VEVENT
DTSTART;TZID=America/New_York:20261025T053000
DTEND;TZID=America/New_York:20261025T053000
DTSTAMP:20260421T064033
CREATED:20220228T000902Z
LAST-MODIFIED:20220228T000902Z
UID:6051-1792906200-1792906200@theorchardcommunitychurch.com
SUMMARY:Worship Service
DESCRIPTION:
URL:https://theorchardcommunitychurch.com/event/worship-service/2026-10-25/
LOCATION:The Orchard Community Church\, 1 NORTH ST\,\, GORHAM\, ME\, 04038
CATEGORIES:Church Service
END:VEVENT
BEGIN:VEVENT
DTSTART;TZID=America/New_York:20261025T053000
DTEND;TZID=America/New_York:20261025T070000
DTSTAMP:20260421T064033
CREATED:20220321T232229Z
LAST-MODIFIED:20220321T232229Z
UID:6053-1792906200-1792911600@theorchardcommunitychurch.com
SUMMARY:Worship Service
DESCRIPTION:
URL:https://theorchardcommunitychurch.com/event/worship-service-4/2026-10-25/
LOCATION:The Orchard Community Church\, 1 NORTH ST\,\, GORHAM\, ME\, 04038
CATEGORIES:Church Service
END:VEVENT
BEGIN:VEVENT
DTSTART;TZID=America/New_York:20261025T093000
DTEND;TZID=America/New_York:20261025T093000
DTSTAMP:20260421T064033
CREATED:20220228T001907Z
LAST-MODIFIED:20220228T001907Z
UID:6052-1792920600-1792920600@theorchardcommunitychurch.com
SUMMARY:Worship Service
DESCRIPTION:
URL:https://theorchardcommunitychurch.com/event/worship-service-2/2026-10-25/
LOCATION:The Orchard Community Church\, 1 NORTH ST\,\, GORHAM\, ME\, 04038
CATEGORIES:Church Service
END:VEVENT
BEGIN:VEVENT
DTSTART;TZID=America/New_York:20261028T140000
DTEND;TZID=America/New_York:20261028T153000
DTSTAMP:20260421T064033
CREATED:20200423T013106Z
LAST-MODIFIED:20200423T013106Z
UID:6054-1793196000-1793201400@theorchardcommunitychurch.com
SUMMARY:Bible Study
DESCRIPTION:If you would like to join or gor more information about our Small Group Bible Study contact us here
URL:https://theorchardcommunitychurch.com/event/bible-study/2026-10-28/
LOCATION:The Orchard Community Church\, 1 NORTH ST\,\, GORHAM\, ME\, 04038
END:VEVENT
BEGIN:VEVENT
DTSTART;TZID=America/New_York:20261031T033000
DTEND;TZID=America/New_York:20261031T050000
DTSTAMP:20260421T064033
CREATED:20200423T011934Z
LAST-MODIFIED:20200423T011934Z
UID:6055-1793417400-1793422800@theorchardcommunitychurch.com
SUMMARY:Women's Group
DESCRIPTION:Details
URL:https://theorchardcommunitychurch.com/event/womens-group/2026-10-31/
LOCATION:The Orchard Community Church\, 1 NORTH ST\,\, GORHAM\, ME\, 04038
CATEGORIES:Women's Group
END:VEVENT
BEGIN:VEVENT
DTSTART;TZID=America/New_York:20261031T033000
DTEND;TZID=America/New_York:20261031T050000
DTSTAMP:20260421T064033
CREATED:20200423T012334Z
LAST-MODIFIED:20200423T012334Z
UID:6056-1793417400-1793422800@theorchardcommunitychurch.com
SUMMARY:Men's Group
DESCRIPTION:Details
URL:https://theorchardcommunitychurch.com/event/mens-group/2026-10-31/
LOCATION:The Orchard Community Church\, 1 NORTH ST\,\, GORHAM\, ME\, 04038
END:VEVENT
BEGIN:VEVENT
DTSTART;TZID=America/New_York:20261101T043000
DTEND;TZID=America/New_York:20261101T043000
DTSTAMP:20260421T064033
CREATED:20200423T012714Z
LAST-MODIFIED:20200423T012714Z
UID:6057-1793507400-1793507400@theorchardcommunitychurch.com
SUMMARY:Sunday Worship Service
DESCRIPTION:Details
URL:https://theorchardcommunitychurch.com/event/sunday-worship-service/2026-11-01/
LOCATION:The Orchard Community Church\, 1 NORTH ST\,\, GORHAM\, ME\, 04038
CATEGORIES:Church Service
END:VEVENT
BEGIN:VEVENT
DTSTART;TZID=America/New_York:20261101T043000
DTEND;TZID=America/New_York:20261101T043000
DTSTAMP:20260421T064033
CREATED:20220228T000902Z
LAST-MODIFIED:20220228T000902Z
UID:6058-1793507400-1793507400@theorchardcommunitychurch.com
SUMMARY:Worship Service
DESCRIPTION:
URL:https://theorchardcommunitychurch.com/event/worship-service/2026-11-01/
LOCATION:The Orchard Community Church\, 1 NORTH ST\,\, GORHAM\, ME\, 04038
CATEGORIES:Church Service
END:VEVENT
BEGIN:VEVENT
DTSTART;TZID=America/New_York:20261101T043000
DTEND;TZID=America/New_York:20261101T060000
DTSTAMP:20260421T064033
CREATED:20220321T232229Z
LAST-MODIFIED:20220321T232229Z
UID:6060-1793507400-1793512800@theorchardcommunitychurch.com
SUMMARY:Worship Service
DESCRIPTION:
URL:https://theorchardcommunitychurch.com/event/worship-service-4/2026-11-01/
LOCATION:The Orchard Community Church\, 1 NORTH ST\,\, GORHAM\, ME\, 04038
CATEGORIES:Church Service
END:VEVENT
BEGIN:VEVENT
DTSTART;TZID=America/New_York:20261101T093000
DTEND;TZID=America/New_York:20261101T093000
DTSTAMP:20260421T064033
CREATED:20220228T001907Z
LAST-MODIFIED:20220228T001907Z
UID:6059-1793525400-1793525400@theorchardcommunitychurch.com
SUMMARY:Worship Service
DESCRIPTION:
URL:https://theorchardcommunitychurch.com/event/worship-service-2/2026-11-01/
LOCATION:The Orchard Community Church\, 1 NORTH ST\,\, GORHAM\, ME\, 04038
CATEGORIES:Church Service
END:VEVENT
BEGIN:VEVENT
DTSTART;TZID=America/New_York:20261104T130000
DTEND;TZID=America/New_York:20261104T143000
DTSTAMP:20260421T064033
CREATED:20200423T013106Z
LAST-MODIFIED:20200423T013106Z
UID:6061-1793797200-1793802600@theorchardcommunitychurch.com
SUMMARY:Bible Study
DESCRIPTION:If you would like to join or gor more information about our Small Group Bible Study contact us here
URL:https://theorchardcommunitychurch.com/event/bible-study/2026-11-04/
LOCATION:The Orchard Community Church\, 1 NORTH ST\,\, GORHAM\, ME\, 04038
END:VEVENT
BEGIN:VEVENT
DTSTART;TZID=America/New_York:20261107T023000
DTEND;TZID=America/New_York:20261107T040000
DTSTAMP:20260421T064033
CREATED:20200423T011934Z
LAST-MODIFIED:20200423T011934Z
UID:6062-1794018600-1794024000@theorchardcommunitychurch.com
SUMMARY:Women's Group
DESCRIPTION:Details
URL:https://theorchardcommunitychurch.com/event/womens-group/2026-11-07/
LOCATION:The Orchard Community Church\, 1 NORTH ST\,\, GORHAM\, ME\, 04038
CATEGORIES:Women's Group
END:VEVENT
END:VCALENDAR