BEGIN:VCALENDAR
VERSION:2.0
PRODID:-//Orchard Community Church - ECPv6.9.0//NONSGML v1.0//EN
CALSCALE:GREGORIAN
METHOD:PUBLISH
X-ORIGINAL-URL:https://theorchardcommunitychurch.com
X-WR-CALDESC:Events for Orchard Community Church
REFRESH-INTERVAL;VALUE=DURATION:PT1H
X-Robots-Tag:noindex
X-PUBLISHED-TTL:PT1H
BEGIN:VTIMEZONE
TZID:America/New_York
BEGIN:DAYLIGHT
TZOFFSETFROM:-0500
TZOFFSETTO:-0400
TZNAME:EDT
DTSTART:20250309T070000
END:DAYLIGHT
BEGIN:STANDARD
TZOFFSETFROM:-0400
TZOFFSETTO:-0500
TZNAME:EST
DTSTART:20251102T060000
END:STANDARD
END:VTIMEZONE
BEGIN:VEVENT
DTSTART;TZID=America/New_York:20250928T053000
DTEND;TZID=America/New_York:20250928T070000
DTSTAMP:20260422T145045
CREATED:20220321T232229Z
LAST-MODIFIED:20220321T232229Z
UID:5927-1759037400-1759042800@theorchardcommunitychurch.com
SUMMARY:Worship Service
DESCRIPTION:
URL:https://theorchardcommunitychurch.com/event/worship-service-4/2025-09-28/
LOCATION:The Orchard Community Church\, 1 NORTH ST\,\, GORHAM\, ME\, 04038
CATEGORIES:Church Service
END:VEVENT
BEGIN:VEVENT
DTSTART;TZID=America/New_York:20250928T053000
DTEND;TZID=America/New_York:20250928T053000
DTSTAMP:20260422T145045
CREATED:20220228T000902Z
LAST-MODIFIED:20220228T000902Z
UID:5811-1759037400-1759037400@theorchardcommunitychurch.com
SUMMARY:Worship Service
DESCRIPTION:
URL:https://theorchardcommunitychurch.com/event/worship-service/2025-09-28/
LOCATION:The Orchard Community Church\, 1 NORTH ST\,\, GORHAM\, ME\, 04038
CATEGORIES:Church Service
END:VEVENT
BEGIN:VEVENT
DTSTART;TZID=America/New_York:20250928T053000
DTEND;TZID=America/New_York:20250928T053000
DTSTAMP:20260422T145045
CREATED:20200423T012714Z
LAST-MODIFIED:20200423T012714Z
UID:5694-1759037400-1759037400@theorchardcommunitychurch.com
SUMMARY:Sunday Worship Service
DESCRIPTION:Details
URL:https://theorchardcommunitychurch.com/event/sunday-worship-service/2025-09-28/
LOCATION:The Orchard Community Church\, 1 NORTH ST\,\, GORHAM\, ME\, 04038
CATEGORIES:Church Service
END:VEVENT
BEGIN:VEVENT
DTSTART;TZID=America/New_York:20250927T033000
DTEND;TZID=America/New_York:20250927T050000
DTSTAMP:20260422T145045
CREATED:20200423T012334Z
LAST-MODIFIED:20200423T012334Z
UID:5636-1758943800-1758949200@theorchardcommunitychurch.com
SUMMARY:Men's Group
DESCRIPTION:Details
URL:https://theorchardcommunitychurch.com/event/mens-group/2025-09-27/
LOCATION:The Orchard Community Church\, 1 NORTH ST\,\, GORHAM\, ME\, 04038
END:VEVENT
BEGIN:VEVENT
DTSTART;TZID=America/New_York:20250927T033000
DTEND;TZID=America/New_York:20250927T050000
DTSTAMP:20260422T145045
CREATED:20200423T011934Z
LAST-MODIFIED:20200423T011934Z
UID:5578-1758943800-1758949200@theorchardcommunitychurch.com
SUMMARY:Women's Group
DESCRIPTION:Details
URL:https://theorchardcommunitychurch.com/event/womens-group/2025-09-27/
LOCATION:The Orchard Community Church\, 1 NORTH ST\,\, GORHAM\, ME\, 04038
CATEGORIES:Women's Group
END:VEVENT
BEGIN:VEVENT
DTSTART;TZID=America/New_York:20250924T140000
DTEND;TZID=America/New_York:20250924T153000
DTSTAMP:20260422T145045
CREATED:20200423T013106Z
LAST-MODIFIED:20200423T013106Z
UID:5752-1758722400-1758727800@theorchardcommunitychurch.com
SUMMARY:Bible Study
DESCRIPTION:If you would like to join or gor more information about our Small Group Bible Study contact us here
URL:https://theorchardcommunitychurch.com/event/bible-study/2025-09-24/
LOCATION:The Orchard Community Church\, 1 NORTH ST\,\, GORHAM\, ME\, 04038
END:VEVENT
BEGIN:VEVENT
DTSTART;TZID=America/New_York:20250921T093000
DTEND;TZID=America/New_York:20250921T093000
DTSTAMP:20260422T145045
CREATED:20220228T001907Z
LAST-MODIFIED:20220228T001907Z
UID:5868-1758447000-1758447000@theorchardcommunitychurch.com
SUMMARY:Worship Service
DESCRIPTION:
URL:https://theorchardcommunitychurch.com/event/worship-service-2/2025-09-21/
LOCATION:The Orchard Community Church\, 1 NORTH ST\,\, GORHAM\, ME\, 04038
CATEGORIES:Church Service
END:VEVENT
BEGIN:VEVENT
DTSTART;TZID=America/New_York:20250921T053000
DTEND;TZID=America/New_York:20250921T070000
DTSTAMP:20260422T145045
CREATED:20220321T232229Z
LAST-MODIFIED:20220321T232229Z
UID:5926-1758432600-1758438000@theorchardcommunitychurch.com
SUMMARY:Worship Service
DESCRIPTION:
URL:https://theorchardcommunitychurch.com/event/worship-service-4/2025-09-21/
LOCATION:The Orchard Community Church\, 1 NORTH ST\,\, GORHAM\, ME\, 04038
CATEGORIES:Church Service
END:VEVENT
BEGIN:VEVENT
DTSTART;TZID=America/New_York:20250921T053000
DTEND;TZID=America/New_York:20250921T053000
DTSTAMP:20260422T145045
CREATED:20220228T000902Z
LAST-MODIFIED:20220228T000902Z
UID:5810-1758432600-1758432600@theorchardcommunitychurch.com
SUMMARY:Worship Service
DESCRIPTION:
URL:https://theorchardcommunitychurch.com/event/worship-service/2025-09-21/
LOCATION:The Orchard Community Church\, 1 NORTH ST\,\, GORHAM\, ME\, 04038
CATEGORIES:Church Service
END:VEVENT
BEGIN:VEVENT
DTSTART;TZID=America/New_York:20250921T053000
DTEND;TZID=America/New_York:20250921T053000
DTSTAMP:20260422T145045
CREATED:20200423T012714Z
LAST-MODIFIED:20200423T012714Z
UID:5693-1758432600-1758432600@theorchardcommunitychurch.com
SUMMARY:Sunday Worship Service
DESCRIPTION:Details
URL:https://theorchardcommunitychurch.com/event/sunday-worship-service/2025-09-21/
LOCATION:The Orchard Community Church\, 1 NORTH ST\,\, GORHAM\, ME\, 04038
CATEGORIES:Church Service
END:VEVENT
BEGIN:VEVENT
DTSTART;TZID=America/New_York:20250920T033000
DTEND;TZID=America/New_York:20250920T050000
DTSTAMP:20260422T145045
CREATED:20200423T012334Z
LAST-MODIFIED:20200423T012334Z
UID:5635-1758339000-1758344400@theorchardcommunitychurch.com
SUMMARY:Men's Group
DESCRIPTION:Details
URL:https://theorchardcommunitychurch.com/event/mens-group/2025-09-20/
LOCATION:The Orchard Community Church\, 1 NORTH ST\,\, GORHAM\, ME\, 04038
END:VEVENT
BEGIN:VEVENT
DTSTART;TZID=America/New_York:20250920T033000
DTEND;TZID=America/New_York:20250920T050000
DTSTAMP:20260422T145045
CREATED:20200423T011934Z
LAST-MODIFIED:20200423T011934Z
UID:5577-1758339000-1758344400@theorchardcommunitychurch.com
SUMMARY:Women's Group
DESCRIPTION:Details
URL:https://theorchardcommunitychurch.com/event/womens-group/2025-09-20/
LOCATION:The Orchard Community Church\, 1 NORTH ST\,\, GORHAM\, ME\, 04038
CATEGORIES:Women's Group
END:VEVENT
BEGIN:VEVENT
DTSTART;TZID=America/New_York:20250917T140000
DTEND;TZID=America/New_York:20250917T153000
DTSTAMP:20260422T145045
CREATED:20200423T013106Z
LAST-MODIFIED:20200423T013106Z
UID:5751-1758117600-1758123000@theorchardcommunitychurch.com
SUMMARY:Bible Study
DESCRIPTION:If you would like to join or gor more information about our Small Group Bible Study contact us here
URL:https://theorchardcommunitychurch.com/event/bible-study/2025-09-17/
LOCATION:The Orchard Community Church\, 1 NORTH ST\,\, GORHAM\, ME\, 04038
END:VEVENT
BEGIN:VEVENT
DTSTART;TZID=America/New_York:20250914T093000
DTEND;TZID=America/New_York:20250914T093000
DTSTAMP:20260422T145045
CREATED:20220228T001907Z
LAST-MODIFIED:20220228T001907Z
UID:5867-1757842200-1757842200@theorchardcommunitychurch.com
SUMMARY:Worship Service
DESCRIPTION:
URL:https://theorchardcommunitychurch.com/event/worship-service-2/2025-09-14/
LOCATION:The Orchard Community Church\, 1 NORTH ST\,\, GORHAM\, ME\, 04038
CATEGORIES:Church Service
END:VEVENT
BEGIN:VEVENT
DTSTART;TZID=America/New_York:20250914T053000
DTEND;TZID=America/New_York:20250914T070000
DTSTAMP:20260422T145045
CREATED:20220321T232229Z
LAST-MODIFIED:20220321T232229Z
UID:5925-1757827800-1757833200@theorchardcommunitychurch.com
SUMMARY:Worship Service
DESCRIPTION:
URL:https://theorchardcommunitychurch.com/event/worship-service-4/2025-09-14/
LOCATION:The Orchard Community Church\, 1 NORTH ST\,\, GORHAM\, ME\, 04038
CATEGORIES:Church Service
END:VEVENT
BEGIN:VEVENT
DTSTART;TZID=America/New_York:20250914T053000
DTEND;TZID=America/New_York:20250914T053000
DTSTAMP:20260422T145045
CREATED:20220228T000902Z
LAST-MODIFIED:20220228T000902Z
UID:5809-1757827800-1757827800@theorchardcommunitychurch.com
SUMMARY:Worship Service
DESCRIPTION:
URL:https://theorchardcommunitychurch.com/event/worship-service/2025-09-14/
LOCATION:The Orchard Community Church\, 1 NORTH ST\,\, GORHAM\, ME\, 04038
CATEGORIES:Church Service
END:VEVENT
BEGIN:VEVENT
DTSTART;TZID=America/New_York:20250914T053000
DTEND;TZID=America/New_York:20250914T053000
DTSTAMP:20260422T145045
CREATED:20200423T012714Z
LAST-MODIFIED:20200423T012714Z
UID:5692-1757827800-1757827800@theorchardcommunitychurch.com
SUMMARY:Sunday Worship Service
DESCRIPTION:Details
URL:https://theorchardcommunitychurch.com/event/sunday-worship-service/2025-09-14/
LOCATION:The Orchard Community Church\, 1 NORTH ST\,\, GORHAM\, ME\, 04038
CATEGORIES:Church Service
END:VEVENT
BEGIN:VEVENT
DTSTART;TZID=America/New_York:20250913T033000
DTEND;TZID=America/New_York:20250913T050000
DTSTAMP:20260422T145045
CREATED:20200423T012334Z
LAST-MODIFIED:20200423T012334Z
UID:5634-1757734200-1757739600@theorchardcommunitychurch.com
SUMMARY:Men's Group
DESCRIPTION:Details
URL:https://theorchardcommunitychurch.com/event/mens-group/2025-09-13/
LOCATION:The Orchard Community Church\, 1 NORTH ST\,\, GORHAM\, ME\, 04038
END:VEVENT
BEGIN:VEVENT
DTSTART;TZID=America/New_York:20250913T033000
DTEND;TZID=America/New_York:20250913T050000
DTSTAMP:20260422T145045
CREATED:20200423T011934Z
LAST-MODIFIED:20200423T011934Z
UID:5576-1757734200-1757739600@theorchardcommunitychurch.com
SUMMARY:Women's Group
DESCRIPTION:Details
URL:https://theorchardcommunitychurch.com/event/womens-group/2025-09-13/
LOCATION:The Orchard Community Church\, 1 NORTH ST\,\, GORHAM\, ME\, 04038
CATEGORIES:Women's Group
END:VEVENT
BEGIN:VEVENT
DTSTART;TZID=America/New_York:20250910T140000
DTEND;TZID=America/New_York:20250910T153000
DTSTAMP:20260422T145045
CREATED:20200423T013106Z
LAST-MODIFIED:20200423T013106Z
UID:5750-1757512800-1757518200@theorchardcommunitychurch.com
SUMMARY:Bible Study
DESCRIPTION:If you would like to join or gor more information about our Small Group Bible Study contact us here
URL:https://theorchardcommunitychurch.com/event/bible-study/2025-09-10/
LOCATION:The Orchard Community Church\, 1 NORTH ST\,\, GORHAM\, ME\, 04038
END:VEVENT
BEGIN:VEVENT
DTSTART;TZID=America/New_York:20250907T093000
DTEND;TZID=America/New_York:20250907T093000
DTSTAMP:20260422T145045
CREATED:20220228T001907Z
LAST-MODIFIED:20220228T001907Z
UID:5866-1757237400-1757237400@theorchardcommunitychurch.com
SUMMARY:Worship Service
DESCRIPTION:
URL:https://theorchardcommunitychurch.com/event/worship-service-2/2025-09-07/
LOCATION:The Orchard Community Church\, 1 NORTH ST\,\, GORHAM\, ME\, 04038
CATEGORIES:Church Service
END:VEVENT
BEGIN:VEVENT
DTSTART;TZID=America/New_York:20250907T053000
DTEND;TZID=America/New_York:20250907T070000
DTSTAMP:20260422T145045
CREATED:20220321T232229Z
LAST-MODIFIED:20220321T232229Z
UID:5924-1757223000-1757228400@theorchardcommunitychurch.com
SUMMARY:Worship Service
DESCRIPTION:
URL:https://theorchardcommunitychurch.com/event/worship-service-4/2025-09-07/
LOCATION:The Orchard Community Church\, 1 NORTH ST\,\, GORHAM\, ME\, 04038
CATEGORIES:Church Service
END:VEVENT
BEGIN:VEVENT
DTSTART;TZID=America/New_York:20250907T053000
DTEND;TZID=America/New_York:20250907T053000
DTSTAMP:20260422T145045
CREATED:20220228T000902Z
LAST-MODIFIED:20220228T000902Z
UID:5808-1757223000-1757223000@theorchardcommunitychurch.com
SUMMARY:Worship Service
DESCRIPTION:
URL:https://theorchardcommunitychurch.com/event/worship-service/2025-09-07/
LOCATION:The Orchard Community Church\, 1 NORTH ST\,\, GORHAM\, ME\, 04038
CATEGORIES:Church Service
END:VEVENT
BEGIN:VEVENT
DTSTART;TZID=America/New_York:20250907T053000
DTEND;TZID=America/New_York:20250907T053000
DTSTAMP:20260422T145045
CREATED:20200423T012714Z
LAST-MODIFIED:20200423T012714Z
UID:5691-1757223000-1757223000@theorchardcommunitychurch.com
SUMMARY:Sunday Worship Service
DESCRIPTION:Details
URL:https://theorchardcommunitychurch.com/event/sunday-worship-service/2025-09-07/
LOCATION:The Orchard Community Church\, 1 NORTH ST\,\, GORHAM\, ME\, 04038
CATEGORIES:Church Service
END:VEVENT
BEGIN:VEVENT
DTSTART;TZID=America/New_York:20250906T033000
DTEND;TZID=America/New_York:20250906T050000
DTSTAMP:20260422T145045
CREATED:20200423T012334Z
LAST-MODIFIED:20200423T012334Z
UID:5633-1757129400-1757134800@theorchardcommunitychurch.com
SUMMARY:Men's Group
DESCRIPTION:Details
URL:https://theorchardcommunitychurch.com/event/mens-group/2025-09-06/
LOCATION:The Orchard Community Church\, 1 NORTH ST\,\, GORHAM\, ME\, 04038
END:VEVENT
BEGIN:VEVENT
DTSTART;TZID=America/New_York:20250906T033000
DTEND;TZID=America/New_York:20250906T050000
DTSTAMP:20260422T145045
CREATED:20200423T011934Z
LAST-MODIFIED:20200423T011934Z
UID:5575-1757129400-1757134800@theorchardcommunitychurch.com
SUMMARY:Women's Group
DESCRIPTION:Details
URL:https://theorchardcommunitychurch.com/event/womens-group/2025-09-06/
LOCATION:The Orchard Community Church\, 1 NORTH ST\,\, GORHAM\, ME\, 04038
CATEGORIES:Women's Group
END:VEVENT
BEGIN:VEVENT
DTSTART;TZID=America/New_York:20250903T140000
DTEND;TZID=America/New_York:20250903T153000
DTSTAMP:20260422T145045
CREATED:20200423T013106Z
LAST-MODIFIED:20200423T013106Z
UID:5749-1756908000-1756913400@theorchardcommunitychurch.com
SUMMARY:Bible Study
DESCRIPTION:If you would like to join or gor more information about our Small Group Bible Study contact us here
URL:https://theorchardcommunitychurch.com/event/bible-study/2025-09-03/
LOCATION:The Orchard Community Church\, 1 NORTH ST\,\, GORHAM\, ME\, 04038
END:VEVENT
BEGIN:VEVENT
DTSTART;TZID=America/New_York:20250831T093000
DTEND;TZID=America/New_York:20250831T093000
DTSTAMP:20260422T145045
CREATED:20220228T001907Z
LAST-MODIFIED:20220228T001907Z
UID:5865-1756632600-1756632600@theorchardcommunitychurch.com
SUMMARY:Worship Service
DESCRIPTION:
URL:https://theorchardcommunitychurch.com/event/worship-service-2/2025-08-31/
LOCATION:The Orchard Community Church\, 1 NORTH ST\,\, GORHAM\, ME\, 04038
CATEGORIES:Church Service
END:VEVENT
BEGIN:VEVENT
DTSTART;TZID=America/New_York:20250831T053000
DTEND;TZID=America/New_York:20250831T070000
DTSTAMP:20260422T145045
CREATED:20220321T232229Z
LAST-MODIFIED:20220321T232229Z
UID:5923-1756618200-1756623600@theorchardcommunitychurch.com
SUMMARY:Worship Service
DESCRIPTION:
URL:https://theorchardcommunitychurch.com/event/worship-service-4/2025-08-31/
LOCATION:The Orchard Community Church\, 1 NORTH ST\,\, GORHAM\, ME\, 04038
CATEGORIES:Church Service
END:VEVENT
BEGIN:VEVENT
DTSTART;TZID=America/New_York:20250831T053000
DTEND;TZID=America/New_York:20250831T053000
DTSTAMP:20260422T145045
CREATED:20220228T000902Z
LAST-MODIFIED:20220228T000902Z
UID:5807-1756618200-1756618200@theorchardcommunitychurch.com
SUMMARY:Worship Service
DESCRIPTION:
URL:https://theorchardcommunitychurch.com/event/worship-service/2025-08-31/
LOCATION:The Orchard Community Church\, 1 NORTH ST\,\, GORHAM\, ME\, 04038
CATEGORIES:Church Service
END:VEVENT
END:VCALENDAR