BEGIN:VCALENDAR
VERSION:2.0
PRODID:-//Orchard Community Church - ECPv6.9.0//NONSGML v1.0//EN
CALSCALE:GREGORIAN
METHOD:PUBLISH
X-WR-CALNAME:Orchard Community Church
X-ORIGINAL-URL:https://theorchardcommunitychurch.com
X-WR-CALDESC:Events for Orchard Community Church
REFRESH-INTERVAL;VALUE=DURATION:PT1H
X-Robots-Tag:noindex
X-PUBLISHED-TTL:PT1H
BEGIN:VTIMEZONE
TZID:America/New_York
BEGIN:DAYLIGHT
TZOFFSETFROM:-0500
TZOFFSETTO:-0400
TZNAME:EDT
DTSTART:20260308T070000
END:DAYLIGHT
BEGIN:STANDARD
TZOFFSETFROM:-0400
TZOFFSETTO:-0500
TZNAME:EST
DTSTART:20261101T060000
END:STANDARD
END:VTIMEZONE
BEGIN:VEVENT
DTSTART;TZID=America/New_York:20260411T033000
DTEND;TZID=America/New_York:20260411T050000
DTSTAMP:20260421T111419
CREATED:20200423T011934Z
LAST-MODIFIED:20200423T011934Z
UID:5606-1775878200-1775883600@theorchardcommunitychurch.com
SUMMARY:Women's Group
DESCRIPTION:Details
URL:https://theorchardcommunitychurch.com/event/womens-group/2026-04-11/
LOCATION:The Orchard Community Church\, 1 NORTH ST\,\, GORHAM\, ME\, 04038
CATEGORIES:Women's Group
END:VEVENT
BEGIN:VEVENT
DTSTART;TZID=America/New_York:20260408T140000
DTEND;TZID=America/New_York:20260408T153000
DTSTAMP:20260421T111419
CREATED:20200423T013106Z
LAST-MODIFIED:20200423T013106Z
UID:5780-1775656800-1775662200@theorchardcommunitychurch.com
SUMMARY:Bible Study
DESCRIPTION:If you would like to join or gor more information about our Small Group Bible Study contact us here
URL:https://theorchardcommunitychurch.com/event/bible-study/2026-04-08/
LOCATION:The Orchard Community Church\, 1 NORTH ST\,\, GORHAM\, ME\, 04038
END:VEVENT
BEGIN:VEVENT
DTSTART;TZID=America/New_York:20260405T093000
DTEND;TZID=America/New_York:20260405T093000
DTSTAMP:20260421T111419
CREATED:20220228T001907Z
LAST-MODIFIED:20220228T001907Z
UID:5896-1775381400-1775381400@theorchardcommunitychurch.com
SUMMARY:Worship Service
DESCRIPTION:
URL:https://theorchardcommunitychurch.com/event/worship-service-2/2026-04-05/
LOCATION:The Orchard Community Church\, 1 NORTH ST\,\, GORHAM\, ME\, 04038
CATEGORIES:Church Service
END:VEVENT
BEGIN:VEVENT
DTSTART;TZID=America/New_York:20260405T053000
DTEND;TZID=America/New_York:20260405T070000
DTSTAMP:20260421T111419
CREATED:20220321T232229Z
LAST-MODIFIED:20220321T232229Z
UID:5954-1775367000-1775372400@theorchardcommunitychurch.com
SUMMARY:Worship Service
DESCRIPTION:
URL:https://theorchardcommunitychurch.com/event/worship-service-4/2026-04-05/
LOCATION:The Orchard Community Church\, 1 NORTH ST\,\, GORHAM\, ME\, 04038
CATEGORIES:Church Service
END:VEVENT
BEGIN:VEVENT
DTSTART;TZID=America/New_York:20260405T053000
DTEND;TZID=America/New_York:20260405T053000
DTSTAMP:20260421T111419
CREATED:20220228T000902Z
LAST-MODIFIED:20220228T000902Z
UID:5838-1775367000-1775367000@theorchardcommunitychurch.com
SUMMARY:Worship Service
DESCRIPTION:
URL:https://theorchardcommunitychurch.com/event/worship-service/2026-04-05/
LOCATION:The Orchard Community Church\, 1 NORTH ST\,\, GORHAM\, ME\, 04038
CATEGORIES:Church Service
END:VEVENT
BEGIN:VEVENT
DTSTART;TZID=America/New_York:20260405T053000
DTEND;TZID=America/New_York:20260405T053000
DTSTAMP:20260421T111419
CREATED:20200423T012714Z
LAST-MODIFIED:20200423T012714Z
UID:5721-1775367000-1775367000@theorchardcommunitychurch.com
SUMMARY:Sunday Worship Service
DESCRIPTION:Details
URL:https://theorchardcommunitychurch.com/event/sunday-worship-service/2026-04-05/
LOCATION:The Orchard Community Church\, 1 NORTH ST\,\, GORHAM\, ME\, 04038
CATEGORIES:Church Service
END:VEVENT
BEGIN:VEVENT
DTSTART;TZID=America/New_York:20260404T033000
DTEND;TZID=America/New_York:20260404T050000
DTSTAMP:20260421T111419
CREATED:20200423T012334Z
LAST-MODIFIED:20200423T012334Z
UID:5663-1775273400-1775278800@theorchardcommunitychurch.com
SUMMARY:Men's Group
DESCRIPTION:Details
URL:https://theorchardcommunitychurch.com/event/mens-group/2026-04-04/
LOCATION:The Orchard Community Church\, 1 NORTH ST\,\, GORHAM\, ME\, 04038
END:VEVENT
BEGIN:VEVENT
DTSTART;TZID=America/New_York:20260404T033000
DTEND;TZID=America/New_York:20260404T050000
DTSTAMP:20260421T111419
CREATED:20200423T011934Z
LAST-MODIFIED:20200423T011934Z
UID:5605-1775273400-1775278800@theorchardcommunitychurch.com
SUMMARY:Women's Group
DESCRIPTION:Details
URL:https://theorchardcommunitychurch.com/event/womens-group/2026-04-04/
LOCATION:The Orchard Community Church\, 1 NORTH ST\,\, GORHAM\, ME\, 04038
CATEGORIES:Women's Group
END:VEVENT
BEGIN:VEVENT
DTSTART;TZID=America/New_York:20260401T140000
DTEND;TZID=America/New_York:20260401T153000
DTSTAMP:20260421T111419
CREATED:20200423T013106Z
LAST-MODIFIED:20200423T013106Z
UID:5779-1775052000-1775057400@theorchardcommunitychurch.com
SUMMARY:Bible Study
DESCRIPTION:If you would like to join or gor more information about our Small Group Bible Study contact us here
URL:https://theorchardcommunitychurch.com/event/bible-study/2026-04-01/
LOCATION:The Orchard Community Church\, 1 NORTH ST\,\, GORHAM\, ME\, 04038
END:VEVENT
BEGIN:VEVENT
DTSTART;TZID=America/New_York:20260329T093000
DTEND;TZID=America/New_York:20260329T093000
DTSTAMP:20260421T111419
CREATED:20220228T001907Z
LAST-MODIFIED:20220228T001907Z
UID:5895-1774776600-1774776600@theorchardcommunitychurch.com
SUMMARY:Worship Service
DESCRIPTION:
URL:https://theorchardcommunitychurch.com/event/worship-service-2/2026-03-29/
LOCATION:The Orchard Community Church\, 1 NORTH ST\,\, GORHAM\, ME\, 04038
CATEGORIES:Church Service
END:VEVENT
BEGIN:VEVENT
DTSTART;TZID=America/New_York:20260329T053000
DTEND;TZID=America/New_York:20260329T070000
DTSTAMP:20260421T111419
CREATED:20220321T232229Z
LAST-MODIFIED:20220321T232229Z
UID:5953-1774762200-1774767600@theorchardcommunitychurch.com
SUMMARY:Worship Service
DESCRIPTION:
URL:https://theorchardcommunitychurch.com/event/worship-service-4/2026-03-29/
LOCATION:The Orchard Community Church\, 1 NORTH ST\,\, GORHAM\, ME\, 04038
CATEGORIES:Church Service
END:VEVENT
BEGIN:VEVENT
DTSTART;TZID=America/New_York:20260329T053000
DTEND;TZID=America/New_York:20260329T053000
DTSTAMP:20260421T111419
CREATED:20220228T000902Z
LAST-MODIFIED:20220228T000902Z
UID:5837-1774762200-1774762200@theorchardcommunitychurch.com
SUMMARY:Worship Service
DESCRIPTION:
URL:https://theorchardcommunitychurch.com/event/worship-service/2026-03-29/
LOCATION:The Orchard Community Church\, 1 NORTH ST\,\, GORHAM\, ME\, 04038
CATEGORIES:Church Service
END:VEVENT
BEGIN:VEVENT
DTSTART;TZID=America/New_York:20260329T053000
DTEND;TZID=America/New_York:20260329T053000
DTSTAMP:20260421T111419
CREATED:20200423T012714Z
LAST-MODIFIED:20200423T012714Z
UID:5720-1774762200-1774762200@theorchardcommunitychurch.com
SUMMARY:Sunday Worship Service
DESCRIPTION:Details
URL:https://theorchardcommunitychurch.com/event/sunday-worship-service/2026-03-29/
LOCATION:The Orchard Community Church\, 1 NORTH ST\,\, GORHAM\, ME\, 04038
CATEGORIES:Church Service
END:VEVENT
BEGIN:VEVENT
DTSTART;TZID=America/New_York:20260328T033000
DTEND;TZID=America/New_York:20260328T050000
DTSTAMP:20260421T111419
CREATED:20200423T012334Z
LAST-MODIFIED:20200423T012334Z
UID:5662-1774668600-1774674000@theorchardcommunitychurch.com
SUMMARY:Men's Group
DESCRIPTION:Details
URL:https://theorchardcommunitychurch.com/event/mens-group/2026-03-28/
LOCATION:The Orchard Community Church\, 1 NORTH ST\,\, GORHAM\, ME\, 04038
END:VEVENT
BEGIN:VEVENT
DTSTART;TZID=America/New_York:20260328T033000
DTEND;TZID=America/New_York:20260328T050000
DTSTAMP:20260421T111419
CREATED:20200423T011934Z
LAST-MODIFIED:20200423T011934Z
UID:5604-1774668600-1774674000@theorchardcommunitychurch.com
SUMMARY:Women's Group
DESCRIPTION:Details
URL:https://theorchardcommunitychurch.com/event/womens-group/2026-03-28/
LOCATION:The Orchard Community Church\, 1 NORTH ST\,\, GORHAM\, ME\, 04038
CATEGORIES:Women's Group
END:VEVENT
BEGIN:VEVENT
DTSTART;TZID=America/New_York:20260325T140000
DTEND;TZID=America/New_York:20260325T153000
DTSTAMP:20260421T111419
CREATED:20200423T013106Z
LAST-MODIFIED:20200423T013106Z
UID:5778-1774447200-1774452600@theorchardcommunitychurch.com
SUMMARY:Bible Study
DESCRIPTION:If you would like to join or gor more information about our Small Group Bible Study contact us here
URL:https://theorchardcommunitychurch.com/event/bible-study/2026-03-25/
LOCATION:The Orchard Community Church\, 1 NORTH ST\,\, GORHAM\, ME\, 04038
END:VEVENT
BEGIN:VEVENT
DTSTART;TZID=America/New_York:20260322T093000
DTEND;TZID=America/New_York:20260322T093000
DTSTAMP:20260421T111419
CREATED:20220228T001907Z
LAST-MODIFIED:20220228T001907Z
UID:5894-1774171800-1774171800@theorchardcommunitychurch.com
SUMMARY:Worship Service
DESCRIPTION:
URL:https://theorchardcommunitychurch.com/event/worship-service-2/2026-03-22/
LOCATION:The Orchard Community Church\, 1 NORTH ST\,\, GORHAM\, ME\, 04038
CATEGORIES:Church Service
END:VEVENT
BEGIN:VEVENT
DTSTART;TZID=America/New_York:20260322T053000
DTEND;TZID=America/New_York:20260322T070000
DTSTAMP:20260421T111419
CREATED:20220321T232229Z
LAST-MODIFIED:20220321T232229Z
UID:5952-1774157400-1774162800@theorchardcommunitychurch.com
SUMMARY:Worship Service
DESCRIPTION:
URL:https://theorchardcommunitychurch.com/event/worship-service-4/2026-03-22/
LOCATION:The Orchard Community Church\, 1 NORTH ST\,\, GORHAM\, ME\, 04038
CATEGORIES:Church Service
END:VEVENT
BEGIN:VEVENT
DTSTART;TZID=America/New_York:20260322T053000
DTEND;TZID=America/New_York:20260322T053000
DTSTAMP:20260421T111419
CREATED:20220228T000902Z
LAST-MODIFIED:20220228T000902Z
UID:5836-1774157400-1774157400@theorchardcommunitychurch.com
SUMMARY:Worship Service
DESCRIPTION:
URL:https://theorchardcommunitychurch.com/event/worship-service/2026-03-22/
LOCATION:The Orchard Community Church\, 1 NORTH ST\,\, GORHAM\, ME\, 04038
CATEGORIES:Church Service
END:VEVENT
BEGIN:VEVENT
DTSTART;TZID=America/New_York:20260322T053000
DTEND;TZID=America/New_York:20260322T053000
DTSTAMP:20260421T111419
CREATED:20200423T012714Z
LAST-MODIFIED:20200423T012714Z
UID:5719-1774157400-1774157400@theorchardcommunitychurch.com
SUMMARY:Sunday Worship Service
DESCRIPTION:Details
URL:https://theorchardcommunitychurch.com/event/sunday-worship-service/2026-03-22/
LOCATION:The Orchard Community Church\, 1 NORTH ST\,\, GORHAM\, ME\, 04038
CATEGORIES:Church Service
END:VEVENT
BEGIN:VEVENT
DTSTART;TZID=America/New_York:20260321T033000
DTEND;TZID=America/New_York:20260321T050000
DTSTAMP:20260421T111419
CREATED:20200423T012334Z
LAST-MODIFIED:20200423T012334Z
UID:5661-1774063800-1774069200@theorchardcommunitychurch.com
SUMMARY:Men's Group
DESCRIPTION:Details
URL:https://theorchardcommunitychurch.com/event/mens-group/2026-03-21/
LOCATION:The Orchard Community Church\, 1 NORTH ST\,\, GORHAM\, ME\, 04038
END:VEVENT
BEGIN:VEVENT
DTSTART;TZID=America/New_York:20260321T033000
DTEND;TZID=America/New_York:20260321T050000
DTSTAMP:20260421T111419
CREATED:20200423T011934Z
LAST-MODIFIED:20200423T011934Z
UID:5603-1774063800-1774069200@theorchardcommunitychurch.com
SUMMARY:Women's Group
DESCRIPTION:Details
URL:https://theorchardcommunitychurch.com/event/womens-group/2026-03-21/
LOCATION:The Orchard Community Church\, 1 NORTH ST\,\, GORHAM\, ME\, 04038
CATEGORIES:Women's Group
END:VEVENT
BEGIN:VEVENT
DTSTART;TZID=America/New_York:20260318T140000
DTEND;TZID=America/New_York:20260318T153000
DTSTAMP:20260421T111419
CREATED:20200423T013106Z
LAST-MODIFIED:20200423T013106Z
UID:5777-1773842400-1773847800@theorchardcommunitychurch.com
SUMMARY:Bible Study
DESCRIPTION:If you would like to join or gor more information about our Small Group Bible Study contact us here
URL:https://theorchardcommunitychurch.com/event/bible-study/2026-03-18/
LOCATION:The Orchard Community Church\, 1 NORTH ST\,\, GORHAM\, ME\, 04038
END:VEVENT
BEGIN:VEVENT
DTSTART;TZID=America/New_York:20260315T093000
DTEND;TZID=America/New_York:20260315T093000
DTSTAMP:20260421T111419
CREATED:20220228T001907Z
LAST-MODIFIED:20220228T001907Z
UID:5893-1773567000-1773567000@theorchardcommunitychurch.com
SUMMARY:Worship Service
DESCRIPTION:
URL:https://theorchardcommunitychurch.com/event/worship-service-2/2026-03-15/
LOCATION:The Orchard Community Church\, 1 NORTH ST\,\, GORHAM\, ME\, 04038
CATEGORIES:Church Service
END:VEVENT
BEGIN:VEVENT
DTSTART;TZID=America/New_York:20260315T053000
DTEND;TZID=America/New_York:20260315T070000
DTSTAMP:20260421T111419
CREATED:20220321T232229Z
LAST-MODIFIED:20220321T232229Z
UID:5951-1773552600-1773558000@theorchardcommunitychurch.com
SUMMARY:Worship Service
DESCRIPTION:
URL:https://theorchardcommunitychurch.com/event/worship-service-4/2026-03-15/
LOCATION:The Orchard Community Church\, 1 NORTH ST\,\, GORHAM\, ME\, 04038
CATEGORIES:Church Service
END:VEVENT
BEGIN:VEVENT
DTSTART;TZID=America/New_York:20260315T053000
DTEND;TZID=America/New_York:20260315T053000
DTSTAMP:20260421T111419
CREATED:20220228T000902Z
LAST-MODIFIED:20220228T000902Z
UID:5835-1773552600-1773552600@theorchardcommunitychurch.com
SUMMARY:Worship Service
DESCRIPTION:
URL:https://theorchardcommunitychurch.com/event/worship-service/2026-03-15/
LOCATION:The Orchard Community Church\, 1 NORTH ST\,\, GORHAM\, ME\, 04038
CATEGORIES:Church Service
END:VEVENT
BEGIN:VEVENT
DTSTART;TZID=America/New_York:20260315T053000
DTEND;TZID=America/New_York:20260315T053000
DTSTAMP:20260421T111419
CREATED:20200423T012714Z
LAST-MODIFIED:20200423T012714Z
UID:5718-1773552600-1773552600@theorchardcommunitychurch.com
SUMMARY:Sunday Worship Service
DESCRIPTION:Details
URL:https://theorchardcommunitychurch.com/event/sunday-worship-service/2026-03-15/
LOCATION:The Orchard Community Church\, 1 NORTH ST\,\, GORHAM\, ME\, 04038
CATEGORIES:Church Service
END:VEVENT
BEGIN:VEVENT
DTSTART;TZID=America/New_York:20260314T033000
DTEND;TZID=America/New_York:20260314T050000
DTSTAMP:20260421T111419
CREATED:20200423T012334Z
LAST-MODIFIED:20200423T012334Z
UID:5660-1773459000-1773464400@theorchardcommunitychurch.com
SUMMARY:Men's Group
DESCRIPTION:Details
URL:https://theorchardcommunitychurch.com/event/mens-group/2026-03-14/
LOCATION:The Orchard Community Church\, 1 NORTH ST\,\, GORHAM\, ME\, 04038
END:VEVENT
BEGIN:VEVENT
DTSTART;TZID=America/New_York:20260314T033000
DTEND;TZID=America/New_York:20260314T050000
DTSTAMP:20260421T111419
CREATED:20200423T011934Z
LAST-MODIFIED:20200423T011934Z
UID:5602-1773459000-1773464400@theorchardcommunitychurch.com
SUMMARY:Women's Group
DESCRIPTION:Details
URL:https://theorchardcommunitychurch.com/event/womens-group/2026-03-14/
LOCATION:The Orchard Community Church\, 1 NORTH ST\,\, GORHAM\, ME\, 04038
CATEGORIES:Women's Group
END:VEVENT
BEGIN:VEVENT
DTSTART;TZID=America/New_York:20260311T140000
DTEND;TZID=America/New_York:20260311T153000
DTSTAMP:20260421T111419
CREATED:20200423T013106Z
LAST-MODIFIED:20200423T013106Z
UID:5776-1773237600-1773243000@theorchardcommunitychurch.com
SUMMARY:Bible Study
DESCRIPTION:If you would like to join or gor more information about our Small Group Bible Study contact us here
URL:https://theorchardcommunitychurch.com/event/bible-study/2026-03-11/
LOCATION:The Orchard Community Church\, 1 NORTH ST\,\, GORHAM\, ME\, 04038
END:VEVENT
END:VCALENDAR