BEGIN:VCALENDAR
VERSION:2.0
PRODID:-//Orchard Community Church - ECPv6.9.0//NONSGML v1.0//EN
CALSCALE:GREGORIAN
METHOD:PUBLISH
X-WR-CALNAME:Orchard Community Church
X-ORIGINAL-URL:https://theorchardcommunitychurch.com
X-WR-CALDESC:Events for Orchard Community Church
REFRESH-INTERVAL;VALUE=DURATION:PT1H
X-Robots-Tag:noindex
X-PUBLISHED-TTL:PT1H
BEGIN:VTIMEZONE
TZID:America/New_York
BEGIN:DAYLIGHT
TZOFFSETFROM:-0500
TZOFFSETTO:-0400
TZNAME:EDT
DTSTART:20250309T070000
END:DAYLIGHT
BEGIN:STANDARD
TZOFFSETFROM:-0400
TZOFFSETTO:-0500
TZNAME:EST
DTSTART:20251102T060000
END:STANDARD
END:VTIMEZONE
BEGIN:VEVENT
DTSTART;TZID=America/New_York:20250907T053000
DTEND;TZID=America/New_York:20250907T053000
DTSTAMP:20260422T180359
CREATED:20200423T012714Z
LAST-MODIFIED:20200423T012714Z
UID:5691-1757223000-1757223000@theorchardcommunitychurch.com
SUMMARY:Sunday Worship Service
DESCRIPTION:Details
URL:https://theorchardcommunitychurch.com/event/sunday-worship-service/2025-09-07/
LOCATION:The Orchard Community Church\, 1 NORTH ST\,\, GORHAM\, ME\, 04038
CATEGORIES:Church Service
END:VEVENT
BEGIN:VEVENT
DTSTART;TZID=America/New_York:20250906T033000
DTEND;TZID=America/New_York:20250906T050000
DTSTAMP:20260422T180359
CREATED:20200423T012334Z
LAST-MODIFIED:20200423T012334Z
UID:5633-1757129400-1757134800@theorchardcommunitychurch.com
SUMMARY:Men's Group
DESCRIPTION:Details
URL:https://theorchardcommunitychurch.com/event/mens-group/2025-09-06/
LOCATION:The Orchard Community Church\, 1 NORTH ST\,\, GORHAM\, ME\, 04038
END:VEVENT
BEGIN:VEVENT
DTSTART;TZID=America/New_York:20250906T033000
DTEND;TZID=America/New_York:20250906T050000
DTSTAMP:20260422T180359
CREATED:20200423T011934Z
LAST-MODIFIED:20200423T011934Z
UID:5575-1757129400-1757134800@theorchardcommunitychurch.com
SUMMARY:Women's Group
DESCRIPTION:Details
URL:https://theorchardcommunitychurch.com/event/womens-group/2025-09-06/
LOCATION:The Orchard Community Church\, 1 NORTH ST\,\, GORHAM\, ME\, 04038
CATEGORIES:Women's Group
END:VEVENT
BEGIN:VEVENT
DTSTART;TZID=America/New_York:20250903T140000
DTEND;TZID=America/New_York:20250903T153000
DTSTAMP:20260422T180359
CREATED:20200423T013106Z
LAST-MODIFIED:20200423T013106Z
UID:5749-1756908000-1756913400@theorchardcommunitychurch.com
SUMMARY:Bible Study
DESCRIPTION:If you would like to join or gor more information about our Small Group Bible Study contact us here
URL:https://theorchardcommunitychurch.com/event/bible-study/2025-09-03/
LOCATION:The Orchard Community Church\, 1 NORTH ST\,\, GORHAM\, ME\, 04038
END:VEVENT
BEGIN:VEVENT
DTSTART;TZID=America/New_York:20250831T093000
DTEND;TZID=America/New_York:20250831T093000
DTSTAMP:20260422T180359
CREATED:20220228T001907Z
LAST-MODIFIED:20220228T001907Z
UID:5865-1756632600-1756632600@theorchardcommunitychurch.com
SUMMARY:Worship Service
DESCRIPTION:
URL:https://theorchardcommunitychurch.com/event/worship-service-2/2025-08-31/
LOCATION:The Orchard Community Church\, 1 NORTH ST\,\, GORHAM\, ME\, 04038
CATEGORIES:Church Service
END:VEVENT
BEGIN:VEVENT
DTSTART;TZID=America/New_York:20250831T053000
DTEND;TZID=America/New_York:20250831T070000
DTSTAMP:20260422T180359
CREATED:20220321T232229Z
LAST-MODIFIED:20220321T232229Z
UID:5923-1756618200-1756623600@theorchardcommunitychurch.com
SUMMARY:Worship Service
DESCRIPTION:
URL:https://theorchardcommunitychurch.com/event/worship-service-4/2025-08-31/
LOCATION:The Orchard Community Church\, 1 NORTH ST\,\, GORHAM\, ME\, 04038
CATEGORIES:Church Service
END:VEVENT
BEGIN:VEVENT
DTSTART;TZID=America/New_York:20250831T053000
DTEND;TZID=America/New_York:20250831T053000
DTSTAMP:20260422T180359
CREATED:20220228T000902Z
LAST-MODIFIED:20220228T000902Z
UID:5807-1756618200-1756618200@theorchardcommunitychurch.com
SUMMARY:Worship Service
DESCRIPTION:
URL:https://theorchardcommunitychurch.com/event/worship-service/2025-08-31/
LOCATION:The Orchard Community Church\, 1 NORTH ST\,\, GORHAM\, ME\, 04038
CATEGORIES:Church Service
END:VEVENT
BEGIN:VEVENT
DTSTART;TZID=America/New_York:20250831T053000
DTEND;TZID=America/New_York:20250831T053000
DTSTAMP:20260422T180359
CREATED:20200423T012714Z
LAST-MODIFIED:20200423T012714Z
UID:5690-1756618200-1756618200@theorchardcommunitychurch.com
SUMMARY:Sunday Worship Service
DESCRIPTION:Details
URL:https://theorchardcommunitychurch.com/event/sunday-worship-service/2025-08-31/
LOCATION:The Orchard Community Church\, 1 NORTH ST\,\, GORHAM\, ME\, 04038
CATEGORIES:Church Service
END:VEVENT
BEGIN:VEVENT
DTSTART;TZID=America/New_York:20250830T033000
DTEND;TZID=America/New_York:20250830T050000
DTSTAMP:20260422T180359
CREATED:20200423T012334Z
LAST-MODIFIED:20200423T012334Z
UID:5632-1756524600-1756530000@theorchardcommunitychurch.com
SUMMARY:Men's Group
DESCRIPTION:Details
URL:https://theorchardcommunitychurch.com/event/mens-group/2025-08-30/
LOCATION:The Orchard Community Church\, 1 NORTH ST\,\, GORHAM\, ME\, 04038
END:VEVENT
BEGIN:VEVENT
DTSTART;TZID=America/New_York:20250830T033000
DTEND;TZID=America/New_York:20250830T050000
DTSTAMP:20260422T180359
CREATED:20200423T011934Z
LAST-MODIFIED:20200423T011934Z
UID:5574-1756524600-1756530000@theorchardcommunitychurch.com
SUMMARY:Women's Group
DESCRIPTION:Details
URL:https://theorchardcommunitychurch.com/event/womens-group/2025-08-30/
LOCATION:The Orchard Community Church\, 1 NORTH ST\,\, GORHAM\, ME\, 04038
CATEGORIES:Women's Group
END:VEVENT
BEGIN:VEVENT
DTSTART;TZID=America/New_York:20250827T140000
DTEND;TZID=America/New_York:20250827T153000
DTSTAMP:20260422T180359
CREATED:20200423T013106Z
LAST-MODIFIED:20200423T013106Z
UID:5748-1756303200-1756308600@theorchardcommunitychurch.com
SUMMARY:Bible Study
DESCRIPTION:If you would like to join or gor more information about our Small Group Bible Study contact us here
URL:https://theorchardcommunitychurch.com/event/bible-study/2025-08-27/
LOCATION:The Orchard Community Church\, 1 NORTH ST\,\, GORHAM\, ME\, 04038
END:VEVENT
BEGIN:VEVENT
DTSTART;TZID=America/New_York:20250824T093000
DTEND;TZID=America/New_York:20250824T093000
DTSTAMP:20260422T180359
CREATED:20220228T001907Z
LAST-MODIFIED:20220228T001907Z
UID:5864-1756027800-1756027800@theorchardcommunitychurch.com
SUMMARY:Worship Service
DESCRIPTION:
URL:https://theorchardcommunitychurch.com/event/worship-service-2/2025-08-24/
LOCATION:The Orchard Community Church\, 1 NORTH ST\,\, GORHAM\, ME\, 04038
CATEGORIES:Church Service
END:VEVENT
BEGIN:VEVENT
DTSTART;TZID=America/New_York:20250824T053000
DTEND;TZID=America/New_York:20250824T070000
DTSTAMP:20260422T180359
CREATED:20220321T232229Z
LAST-MODIFIED:20220321T232229Z
UID:5922-1756013400-1756018800@theorchardcommunitychurch.com
SUMMARY:Worship Service
DESCRIPTION:
URL:https://theorchardcommunitychurch.com/event/worship-service-4/2025-08-24/
LOCATION:The Orchard Community Church\, 1 NORTH ST\,\, GORHAM\, ME\, 04038
CATEGORIES:Church Service
END:VEVENT
BEGIN:VEVENT
DTSTART;TZID=America/New_York:20250824T053000
DTEND;TZID=America/New_York:20250824T053000
DTSTAMP:20260422T180359
CREATED:20220228T000902Z
LAST-MODIFIED:20220228T000902Z
UID:5806-1756013400-1756013400@theorchardcommunitychurch.com
SUMMARY:Worship Service
DESCRIPTION:
URL:https://theorchardcommunitychurch.com/event/worship-service/2025-08-24/
LOCATION:The Orchard Community Church\, 1 NORTH ST\,\, GORHAM\, ME\, 04038
CATEGORIES:Church Service
END:VEVENT
BEGIN:VEVENT
DTSTART;TZID=America/New_York:20250824T053000
DTEND;TZID=America/New_York:20250824T053000
DTSTAMP:20260422T180359
CREATED:20200423T012714Z
LAST-MODIFIED:20200423T012714Z
UID:5689-1756013400-1756013400@theorchardcommunitychurch.com
SUMMARY:Sunday Worship Service
DESCRIPTION:Details
URL:https://theorchardcommunitychurch.com/event/sunday-worship-service/2025-08-24/
LOCATION:The Orchard Community Church\, 1 NORTH ST\,\, GORHAM\, ME\, 04038
CATEGORIES:Church Service
END:VEVENT
BEGIN:VEVENT
DTSTART;TZID=America/New_York:20250823T033000
DTEND;TZID=America/New_York:20250823T050000
DTSTAMP:20260422T180359
CREATED:20200423T012334Z
LAST-MODIFIED:20200423T012334Z
UID:5631-1755919800-1755925200@theorchardcommunitychurch.com
SUMMARY:Men's Group
DESCRIPTION:Details
URL:https://theorchardcommunitychurch.com/event/mens-group/2025-08-23/
LOCATION:The Orchard Community Church\, 1 NORTH ST\,\, GORHAM\, ME\, 04038
END:VEVENT
BEGIN:VEVENT
DTSTART;TZID=America/New_York:20250823T033000
DTEND;TZID=America/New_York:20250823T050000
DTSTAMP:20260422T180359
CREATED:20200423T011934Z
LAST-MODIFIED:20200423T011934Z
UID:5573-1755919800-1755925200@theorchardcommunitychurch.com
SUMMARY:Women's Group
DESCRIPTION:Details
URL:https://theorchardcommunitychurch.com/event/womens-group/2025-08-23/
LOCATION:The Orchard Community Church\, 1 NORTH ST\,\, GORHAM\, ME\, 04038
CATEGORIES:Women's Group
END:VEVENT
BEGIN:VEVENT
DTSTART;TZID=America/New_York:20250820T140000
DTEND;TZID=America/New_York:20250820T153000
DTSTAMP:20260422T180359
CREATED:20200423T013106Z
LAST-MODIFIED:20200423T013106Z
UID:5747-1755698400-1755703800@theorchardcommunitychurch.com
SUMMARY:Bible Study
DESCRIPTION:If you would like to join or gor more information about our Small Group Bible Study contact us here
URL:https://theorchardcommunitychurch.com/event/bible-study/2025-08-20/
LOCATION:The Orchard Community Church\, 1 NORTH ST\,\, GORHAM\, ME\, 04038
END:VEVENT
BEGIN:VEVENT
DTSTART;TZID=America/New_York:20250817T093000
DTEND;TZID=America/New_York:20250817T093000
DTSTAMP:20260422T180359
CREATED:20220228T001907Z
LAST-MODIFIED:20220228T001907Z
UID:5863-1755423000-1755423000@theorchardcommunitychurch.com
SUMMARY:Worship Service
DESCRIPTION:
URL:https://theorchardcommunitychurch.com/event/worship-service-2/2025-08-17/
LOCATION:The Orchard Community Church\, 1 NORTH ST\,\, GORHAM\, ME\, 04038
CATEGORIES:Church Service
END:VEVENT
BEGIN:VEVENT
DTSTART;TZID=America/New_York:20250817T053000
DTEND;TZID=America/New_York:20250817T070000
DTSTAMP:20260422T180359
CREATED:20220321T232229Z
LAST-MODIFIED:20220321T232229Z
UID:5921-1755408600-1755414000@theorchardcommunitychurch.com
SUMMARY:Worship Service
DESCRIPTION:
URL:https://theorchardcommunitychurch.com/event/worship-service-4/2025-08-17/
LOCATION:The Orchard Community Church\, 1 NORTH ST\,\, GORHAM\, ME\, 04038
CATEGORIES:Church Service
END:VEVENT
BEGIN:VEVENT
DTSTART;TZID=America/New_York:20250817T053000
DTEND;TZID=America/New_York:20250817T053000
DTSTAMP:20260422T180359
CREATED:20220228T000902Z
LAST-MODIFIED:20220228T000902Z
UID:5805-1755408600-1755408600@theorchardcommunitychurch.com
SUMMARY:Worship Service
DESCRIPTION:
URL:https://theorchardcommunitychurch.com/event/worship-service/2025-08-17/
LOCATION:The Orchard Community Church\, 1 NORTH ST\,\, GORHAM\, ME\, 04038
CATEGORIES:Church Service
END:VEVENT
BEGIN:VEVENT
DTSTART;TZID=America/New_York:20250817T053000
DTEND;TZID=America/New_York:20250817T053000
DTSTAMP:20260422T180359
CREATED:20200423T012714Z
LAST-MODIFIED:20200423T012714Z
UID:5688-1755408600-1755408600@theorchardcommunitychurch.com
SUMMARY:Sunday Worship Service
DESCRIPTION:Details
URL:https://theorchardcommunitychurch.com/event/sunday-worship-service/2025-08-17/
LOCATION:The Orchard Community Church\, 1 NORTH ST\,\, GORHAM\, ME\, 04038
CATEGORIES:Church Service
END:VEVENT
BEGIN:VEVENT
DTSTART;TZID=America/New_York:20250816T033000
DTEND;TZID=America/New_York:20250816T050000
DTSTAMP:20260422T180359
CREATED:20200423T012334Z
LAST-MODIFIED:20200423T012334Z
UID:5630-1755315000-1755320400@theorchardcommunitychurch.com
SUMMARY:Men's Group
DESCRIPTION:Details
URL:https://theorchardcommunitychurch.com/event/mens-group/2025-08-16/
LOCATION:The Orchard Community Church\, 1 NORTH ST\,\, GORHAM\, ME\, 04038
END:VEVENT
BEGIN:VEVENT
DTSTART;TZID=America/New_York:20250816T033000
DTEND;TZID=America/New_York:20250816T050000
DTSTAMP:20260422T180359
CREATED:20200423T011934Z
LAST-MODIFIED:20200423T011934Z
UID:5572-1755315000-1755320400@theorchardcommunitychurch.com
SUMMARY:Women's Group
DESCRIPTION:Details
URL:https://theorchardcommunitychurch.com/event/womens-group/2025-08-16/
LOCATION:The Orchard Community Church\, 1 NORTH ST\,\, GORHAM\, ME\, 04038
CATEGORIES:Women's Group
END:VEVENT
BEGIN:VEVENT
DTSTART;TZID=America/New_York:20250813T140000
DTEND;TZID=America/New_York:20250813T153000
DTSTAMP:20260422T180359
CREATED:20200423T013106Z
LAST-MODIFIED:20200423T013106Z
UID:5746-1755093600-1755099000@theorchardcommunitychurch.com
SUMMARY:Bible Study
DESCRIPTION:If you would like to join or gor more information about our Small Group Bible Study contact us here
URL:https://theorchardcommunitychurch.com/event/bible-study/2025-08-13/
LOCATION:The Orchard Community Church\, 1 NORTH ST\,\, GORHAM\, ME\, 04038
END:VEVENT
BEGIN:VEVENT
DTSTART;TZID=America/New_York:20250810T093000
DTEND;TZID=America/New_York:20250810T093000
DTSTAMP:20260422T180359
CREATED:20220228T001907Z
LAST-MODIFIED:20220228T001907Z
UID:5862-1754818200-1754818200@theorchardcommunitychurch.com
SUMMARY:Worship Service
DESCRIPTION:
URL:https://theorchardcommunitychurch.com/event/worship-service-2/2025-08-10/
LOCATION:The Orchard Community Church\, 1 NORTH ST\,\, GORHAM\, ME\, 04038
CATEGORIES:Church Service
END:VEVENT
BEGIN:VEVENT
DTSTART;TZID=America/New_York:20250810T053000
DTEND;TZID=America/New_York:20250810T070000
DTSTAMP:20260422T180359
CREATED:20220321T232229Z
LAST-MODIFIED:20220321T232229Z
UID:5920-1754803800-1754809200@theorchardcommunitychurch.com
SUMMARY:Worship Service
DESCRIPTION:
URL:https://theorchardcommunitychurch.com/event/worship-service-4/2025-08-10/
LOCATION:The Orchard Community Church\, 1 NORTH ST\,\, GORHAM\, ME\, 04038
CATEGORIES:Church Service
END:VEVENT
BEGIN:VEVENT
DTSTART;TZID=America/New_York:20250810T053000
DTEND;TZID=America/New_York:20250810T053000
DTSTAMP:20260422T180359
CREATED:20220228T000902Z
LAST-MODIFIED:20220228T000902Z
UID:5804-1754803800-1754803800@theorchardcommunitychurch.com
SUMMARY:Worship Service
DESCRIPTION:
URL:https://theorchardcommunitychurch.com/event/worship-service/2025-08-10/
LOCATION:The Orchard Community Church\, 1 NORTH ST\,\, GORHAM\, ME\, 04038
CATEGORIES:Church Service
END:VEVENT
BEGIN:VEVENT
DTSTART;TZID=America/New_York:20250810T053000
DTEND;TZID=America/New_York:20250810T053000
DTSTAMP:20260422T180359
CREATED:20200423T012714Z
LAST-MODIFIED:20200423T012714Z
UID:5687-1754803800-1754803800@theorchardcommunitychurch.com
SUMMARY:Sunday Worship Service
DESCRIPTION:Details
URL:https://theorchardcommunitychurch.com/event/sunday-worship-service/2025-08-10/
LOCATION:The Orchard Community Church\, 1 NORTH ST\,\, GORHAM\, ME\, 04038
CATEGORIES:Church Service
END:VEVENT
BEGIN:VEVENT
DTSTART;TZID=America/New_York:20250809T033000
DTEND;TZID=America/New_York:20250809T050000
DTSTAMP:20260422T180359
CREATED:20200423T012334Z
LAST-MODIFIED:20200423T012334Z
UID:5629-1754710200-1754715600@theorchardcommunitychurch.com
SUMMARY:Men's Group
DESCRIPTION:Details
URL:https://theorchardcommunitychurch.com/event/mens-group/2025-08-09/
LOCATION:The Orchard Community Church\, 1 NORTH ST\,\, GORHAM\, ME\, 04038
END:VEVENT
END:VCALENDAR