BEGIN:VCALENDAR
VERSION:2.0
PRODID:-//Orchard Community Church - ECPv6.9.0//NONSGML v1.0//EN
CALSCALE:GREGORIAN
METHOD:PUBLISH
X-ORIGINAL-URL:https://theorchardcommunitychurch.com
X-WR-CALDESC:Events for Orchard Community Church
REFRESH-INTERVAL;VALUE=DURATION:PT1H
X-Robots-Tag:noindex
X-PUBLISHED-TTL:PT1H
BEGIN:VTIMEZONE
TZID:America/New_York
BEGIN:DAYLIGHT
TZOFFSETFROM:-0500
TZOFFSETTO:-0400
TZNAME:EDT
DTSTART:20250309T070000
END:DAYLIGHT
BEGIN:STANDARD
TZOFFSETFROM:-0400
TZOFFSETTO:-0500
TZNAME:EST
DTSTART:20251102T060000
END:STANDARD
END:VTIMEZONE
BEGIN:VEVENT
DTSTART;TZID=America/New_York:20250813T140000
DTEND;TZID=America/New_York:20250813T153000
DTSTAMP:20260422T214254
CREATED:20200423T013106Z
LAST-MODIFIED:20200423T013106Z
UID:5746-1755093600-1755099000@theorchardcommunitychurch.com
SUMMARY:Bible Study
DESCRIPTION:If you would like to join or gor more information about our Small Group Bible Study contact us here
URL:https://theorchardcommunitychurch.com/event/bible-study/2025-08-13/
LOCATION:The Orchard Community Church\, 1 NORTH ST\,\, GORHAM\, ME\, 04038
END:VEVENT
BEGIN:VEVENT
DTSTART;TZID=America/New_York:20250810T093000
DTEND;TZID=America/New_York:20250810T093000
DTSTAMP:20260422T214254
CREATED:20220228T001907Z
LAST-MODIFIED:20220228T001907Z
UID:5862-1754818200-1754818200@theorchardcommunitychurch.com
SUMMARY:Worship Service
DESCRIPTION:
URL:https://theorchardcommunitychurch.com/event/worship-service-2/2025-08-10/
LOCATION:The Orchard Community Church\, 1 NORTH ST\,\, GORHAM\, ME\, 04038
CATEGORIES:Church Service
END:VEVENT
BEGIN:VEVENT
DTSTART;TZID=America/New_York:20250810T053000
DTEND;TZID=America/New_York:20250810T070000
DTSTAMP:20260422T214254
CREATED:20220321T232229Z
LAST-MODIFIED:20220321T232229Z
UID:5920-1754803800-1754809200@theorchardcommunitychurch.com
SUMMARY:Worship Service
DESCRIPTION:
URL:https://theorchardcommunitychurch.com/event/worship-service-4/2025-08-10/
LOCATION:The Orchard Community Church\, 1 NORTH ST\,\, GORHAM\, ME\, 04038
CATEGORIES:Church Service
END:VEVENT
BEGIN:VEVENT
DTSTART;TZID=America/New_York:20250810T053000
DTEND;TZID=America/New_York:20250810T053000
DTSTAMP:20260422T214254
CREATED:20220228T000902Z
LAST-MODIFIED:20220228T000902Z
UID:5804-1754803800-1754803800@theorchardcommunitychurch.com
SUMMARY:Worship Service
DESCRIPTION:
URL:https://theorchardcommunitychurch.com/event/worship-service/2025-08-10/
LOCATION:The Orchard Community Church\, 1 NORTH ST\,\, GORHAM\, ME\, 04038
CATEGORIES:Church Service
END:VEVENT
BEGIN:VEVENT
DTSTART;TZID=America/New_York:20250810T053000
DTEND;TZID=America/New_York:20250810T053000
DTSTAMP:20260422T214254
CREATED:20200423T012714Z
LAST-MODIFIED:20200423T012714Z
UID:5687-1754803800-1754803800@theorchardcommunitychurch.com
SUMMARY:Sunday Worship Service
DESCRIPTION:Details
URL:https://theorchardcommunitychurch.com/event/sunday-worship-service/2025-08-10/
LOCATION:The Orchard Community Church\, 1 NORTH ST\,\, GORHAM\, ME\, 04038
CATEGORIES:Church Service
END:VEVENT
BEGIN:VEVENT
DTSTART;TZID=America/New_York:20250809T033000
DTEND;TZID=America/New_York:20250809T050000
DTSTAMP:20260422T214254
CREATED:20200423T012334Z
LAST-MODIFIED:20200423T012334Z
UID:5629-1754710200-1754715600@theorchardcommunitychurch.com
SUMMARY:Men's Group
DESCRIPTION:Details
URL:https://theorchardcommunitychurch.com/event/mens-group/2025-08-09/
LOCATION:The Orchard Community Church\, 1 NORTH ST\,\, GORHAM\, ME\, 04038
END:VEVENT
BEGIN:VEVENT
DTSTART;TZID=America/New_York:20250809T033000
DTEND;TZID=America/New_York:20250809T050000
DTSTAMP:20260422T214254
CREATED:20200423T011934Z
LAST-MODIFIED:20200423T011934Z
UID:5571-1754710200-1754715600@theorchardcommunitychurch.com
SUMMARY:Women's Group
DESCRIPTION:Details
URL:https://theorchardcommunitychurch.com/event/womens-group/2025-08-09/
LOCATION:The Orchard Community Church\, 1 NORTH ST\,\, GORHAM\, ME\, 04038
CATEGORIES:Women's Group
END:VEVENT
BEGIN:VEVENT
DTSTART;TZID=America/New_York:20250806T140000
DTEND;TZID=America/New_York:20250806T153000
DTSTAMP:20260422T214254
CREATED:20200423T013106Z
LAST-MODIFIED:20200423T013106Z
UID:5745-1754488800-1754494200@theorchardcommunitychurch.com
SUMMARY:Bible Study
DESCRIPTION:If you would like to join or gor more information about our Small Group Bible Study contact us here
URL:https://theorchardcommunitychurch.com/event/bible-study/2025-08-06/
LOCATION:The Orchard Community Church\, 1 NORTH ST\,\, GORHAM\, ME\, 04038
END:VEVENT
BEGIN:VEVENT
DTSTART;TZID=America/New_York:20250803T093000
DTEND;TZID=America/New_York:20250803T093000
DTSTAMP:20260422T214254
CREATED:20220228T001907Z
LAST-MODIFIED:20220228T001907Z
UID:5861-1754213400-1754213400@theorchardcommunitychurch.com
SUMMARY:Worship Service
DESCRIPTION:
URL:https://theorchardcommunitychurch.com/event/worship-service-2/2025-08-03/
LOCATION:The Orchard Community Church\, 1 NORTH ST\,\, GORHAM\, ME\, 04038
CATEGORIES:Church Service
END:VEVENT
BEGIN:VEVENT
DTSTART;TZID=America/New_York:20250803T053000
DTEND;TZID=America/New_York:20250803T070000
DTSTAMP:20260422T214254
CREATED:20220321T232229Z
LAST-MODIFIED:20220321T232229Z
UID:5919-1754199000-1754204400@theorchardcommunitychurch.com
SUMMARY:Worship Service
DESCRIPTION:
URL:https://theorchardcommunitychurch.com/event/worship-service-4/2025-08-03/
LOCATION:The Orchard Community Church\, 1 NORTH ST\,\, GORHAM\, ME\, 04038
CATEGORIES:Church Service
END:VEVENT
BEGIN:VEVENT
DTSTART;TZID=America/New_York:20250803T053000
DTEND;TZID=America/New_York:20250803T053000
DTSTAMP:20260422T214254
CREATED:20220228T000902Z
LAST-MODIFIED:20220228T000902Z
UID:5803-1754199000-1754199000@theorchardcommunitychurch.com
SUMMARY:Worship Service
DESCRIPTION:
URL:https://theorchardcommunitychurch.com/event/worship-service/2025-08-03/
LOCATION:The Orchard Community Church\, 1 NORTH ST\,\, GORHAM\, ME\, 04038
CATEGORIES:Church Service
END:VEVENT
BEGIN:VEVENT
DTSTART;TZID=America/New_York:20250803T053000
DTEND;TZID=America/New_York:20250803T053000
DTSTAMP:20260422T214254
CREATED:20200423T012714Z
LAST-MODIFIED:20200423T012714Z
UID:5686-1754199000-1754199000@theorchardcommunitychurch.com
SUMMARY:Sunday Worship Service
DESCRIPTION:Details
URL:https://theorchardcommunitychurch.com/event/sunday-worship-service/2025-08-03/
LOCATION:The Orchard Community Church\, 1 NORTH ST\,\, GORHAM\, ME\, 04038
CATEGORIES:Church Service
END:VEVENT
BEGIN:VEVENT
DTSTART;TZID=America/New_York:20250802T033000
DTEND;TZID=America/New_York:20250802T050000
DTSTAMP:20260422T214254
CREATED:20200423T012334Z
LAST-MODIFIED:20200423T012334Z
UID:5628-1754105400-1754110800@theorchardcommunitychurch.com
SUMMARY:Men's Group
DESCRIPTION:Details
URL:https://theorchardcommunitychurch.com/event/mens-group/2025-08-02/
LOCATION:The Orchard Community Church\, 1 NORTH ST\,\, GORHAM\, ME\, 04038
END:VEVENT
BEGIN:VEVENT
DTSTART;TZID=America/New_York:20250802T033000
DTEND;TZID=America/New_York:20250802T050000
DTSTAMP:20260422T214254
CREATED:20200423T011934Z
LAST-MODIFIED:20200423T011934Z
UID:5570-1754105400-1754110800@theorchardcommunitychurch.com
SUMMARY:Women's Group
DESCRIPTION:Details
URL:https://theorchardcommunitychurch.com/event/womens-group/2025-08-02/
LOCATION:The Orchard Community Church\, 1 NORTH ST\,\, GORHAM\, ME\, 04038
CATEGORIES:Women's Group
END:VEVENT
BEGIN:VEVENT
DTSTART;TZID=America/New_York:20250730T140000
DTEND;TZID=America/New_York:20250730T153000
DTSTAMP:20260422T214254
CREATED:20200423T013106Z
LAST-MODIFIED:20200423T013106Z
UID:5744-1753884000-1753889400@theorchardcommunitychurch.com
SUMMARY:Bible Study
DESCRIPTION:If you would like to join or gor more information about our Small Group Bible Study contact us here
URL:https://theorchardcommunitychurch.com/event/bible-study/2025-07-30/
LOCATION:The Orchard Community Church\, 1 NORTH ST\,\, GORHAM\, ME\, 04038
END:VEVENT
BEGIN:VEVENT
DTSTART;TZID=America/New_York:20250727T093000
DTEND;TZID=America/New_York:20250727T093000
DTSTAMP:20260422T214254
CREATED:20220228T001907Z
LAST-MODIFIED:20220228T001907Z
UID:5860-1753608600-1753608600@theorchardcommunitychurch.com
SUMMARY:Worship Service
DESCRIPTION:
URL:https://theorchardcommunitychurch.com/event/worship-service-2/2025-07-27/
LOCATION:The Orchard Community Church\, 1 NORTH ST\,\, GORHAM\, ME\, 04038
CATEGORIES:Church Service
END:VEVENT
BEGIN:VEVENT
DTSTART;TZID=America/New_York:20250727T053000
DTEND;TZID=America/New_York:20250727T070000
DTSTAMP:20260422T214254
CREATED:20220321T232229Z
LAST-MODIFIED:20220321T232229Z
UID:5918-1753594200-1753599600@theorchardcommunitychurch.com
SUMMARY:Worship Service
DESCRIPTION:
URL:https://theorchardcommunitychurch.com/event/worship-service-4/2025-07-27/
LOCATION:The Orchard Community Church\, 1 NORTH ST\,\, GORHAM\, ME\, 04038
CATEGORIES:Church Service
END:VEVENT
BEGIN:VEVENT
DTSTART;TZID=America/New_York:20250727T053000
DTEND;TZID=America/New_York:20250727T053000
DTSTAMP:20260422T214254
CREATED:20220228T000902Z
LAST-MODIFIED:20220228T000902Z
UID:5802-1753594200-1753594200@theorchardcommunitychurch.com
SUMMARY:Worship Service
DESCRIPTION:
URL:https://theorchardcommunitychurch.com/event/worship-service/2025-07-27/
LOCATION:The Orchard Community Church\, 1 NORTH ST\,\, GORHAM\, ME\, 04038
CATEGORIES:Church Service
END:VEVENT
BEGIN:VEVENT
DTSTART;TZID=America/New_York:20250727T053000
DTEND;TZID=America/New_York:20250727T053000
DTSTAMP:20260422T214254
CREATED:20200423T012714Z
LAST-MODIFIED:20200423T012714Z
UID:5685-1753594200-1753594200@theorchardcommunitychurch.com
SUMMARY:Sunday Worship Service
DESCRIPTION:Details
URL:https://theorchardcommunitychurch.com/event/sunday-worship-service/2025-07-27/
LOCATION:The Orchard Community Church\, 1 NORTH ST\,\, GORHAM\, ME\, 04038
CATEGORIES:Church Service
END:VEVENT
BEGIN:VEVENT
DTSTART;TZID=America/New_York:20250726T033000
DTEND;TZID=America/New_York:20250726T050000
DTSTAMP:20260422T214254
CREATED:20200423T012334Z
LAST-MODIFIED:20200423T012334Z
UID:5627-1753500600-1753506000@theorchardcommunitychurch.com
SUMMARY:Men's Group
DESCRIPTION:Details
URL:https://theorchardcommunitychurch.com/event/mens-group/2025-07-26/
LOCATION:The Orchard Community Church\, 1 NORTH ST\,\, GORHAM\, ME\, 04038
END:VEVENT
BEGIN:VEVENT
DTSTART;TZID=America/New_York:20250726T033000
DTEND;TZID=America/New_York:20250726T050000
DTSTAMP:20260422T214254
CREATED:20200423T011934Z
LAST-MODIFIED:20200423T011934Z
UID:5569-1753500600-1753506000@theorchardcommunitychurch.com
SUMMARY:Women's Group
DESCRIPTION:Details
URL:https://theorchardcommunitychurch.com/event/womens-group/2025-07-26/
LOCATION:The Orchard Community Church\, 1 NORTH ST\,\, GORHAM\, ME\, 04038
CATEGORIES:Women's Group
END:VEVENT
BEGIN:VEVENT
DTSTART;TZID=America/New_York:20250723T140000
DTEND;TZID=America/New_York:20250723T153000
DTSTAMP:20260422T214254
CREATED:20200423T013106Z
LAST-MODIFIED:20200423T013106Z
UID:5743-1753279200-1753284600@theorchardcommunitychurch.com
SUMMARY:Bible Study
DESCRIPTION:If you would like to join or gor more information about our Small Group Bible Study contact us here
URL:https://theorchardcommunitychurch.com/event/bible-study/2025-07-23/
LOCATION:The Orchard Community Church\, 1 NORTH ST\,\, GORHAM\, ME\, 04038
END:VEVENT
BEGIN:VEVENT
DTSTART;TZID=America/New_York:20250720T093000
DTEND;TZID=America/New_York:20250720T093000
DTSTAMP:20260422T214254
CREATED:20220228T001907Z
LAST-MODIFIED:20220228T001907Z
UID:5859-1753003800-1753003800@theorchardcommunitychurch.com
SUMMARY:Worship Service
DESCRIPTION:
URL:https://theorchardcommunitychurch.com/event/worship-service-2/2025-07-20/
LOCATION:The Orchard Community Church\, 1 NORTH ST\,\, GORHAM\, ME\, 04038
CATEGORIES:Church Service
END:VEVENT
BEGIN:VEVENT
DTSTART;TZID=America/New_York:20250720T053000
DTEND;TZID=America/New_York:20250720T070000
DTSTAMP:20260422T214254
CREATED:20220321T232229Z
LAST-MODIFIED:20220321T232229Z
UID:5917-1752989400-1752994800@theorchardcommunitychurch.com
SUMMARY:Worship Service
DESCRIPTION:
URL:https://theorchardcommunitychurch.com/event/worship-service-4/2025-07-20/
LOCATION:The Orchard Community Church\, 1 NORTH ST\,\, GORHAM\, ME\, 04038
CATEGORIES:Church Service
END:VEVENT
BEGIN:VEVENT
DTSTART;TZID=America/New_York:20250720T053000
DTEND;TZID=America/New_York:20250720T053000
DTSTAMP:20260422T214254
CREATED:20220228T000902Z
LAST-MODIFIED:20220228T000902Z
UID:5801-1752989400-1752989400@theorchardcommunitychurch.com
SUMMARY:Worship Service
DESCRIPTION:
URL:https://theorchardcommunitychurch.com/event/worship-service/2025-07-20/
LOCATION:The Orchard Community Church\, 1 NORTH ST\,\, GORHAM\, ME\, 04038
CATEGORIES:Church Service
END:VEVENT
BEGIN:VEVENT
DTSTART;TZID=America/New_York:20250720T053000
DTEND;TZID=America/New_York:20250720T053000
DTSTAMP:20260422T214254
CREATED:20200423T012714Z
LAST-MODIFIED:20200423T012714Z
UID:5684-1752989400-1752989400@theorchardcommunitychurch.com
SUMMARY:Sunday Worship Service
DESCRIPTION:Details
URL:https://theorchardcommunitychurch.com/event/sunday-worship-service/2025-07-20/
LOCATION:The Orchard Community Church\, 1 NORTH ST\,\, GORHAM\, ME\, 04038
CATEGORIES:Church Service
END:VEVENT
BEGIN:VEVENT
DTSTART;TZID=America/New_York:20250719T033000
DTEND;TZID=America/New_York:20250719T050000
DTSTAMP:20260422T214254
CREATED:20200423T012334Z
LAST-MODIFIED:20200423T012334Z
UID:5626-1752895800-1752901200@theorchardcommunitychurch.com
SUMMARY:Men's Group
DESCRIPTION:Details
URL:https://theorchardcommunitychurch.com/event/mens-group/2025-07-19/
LOCATION:The Orchard Community Church\, 1 NORTH ST\,\, GORHAM\, ME\, 04038
END:VEVENT
BEGIN:VEVENT
DTSTART;TZID=America/New_York:20250719T033000
DTEND;TZID=America/New_York:20250719T050000
DTSTAMP:20260422T214254
CREATED:20200423T011934Z
LAST-MODIFIED:20200423T011934Z
UID:5568-1752895800-1752901200@theorchardcommunitychurch.com
SUMMARY:Women's Group
DESCRIPTION:Details
URL:https://theorchardcommunitychurch.com/event/womens-group/2025-07-19/
LOCATION:The Orchard Community Church\, 1 NORTH ST\,\, GORHAM\, ME\, 04038
CATEGORIES:Women's Group
END:VEVENT
BEGIN:VEVENT
DTSTART;TZID=America/New_York:20250716T140000
DTEND;TZID=America/New_York:20250716T153000
DTSTAMP:20260422T214254
CREATED:20200423T013106Z
LAST-MODIFIED:20200423T013106Z
UID:5742-1752674400-1752679800@theorchardcommunitychurch.com
SUMMARY:Bible Study
DESCRIPTION:If you would like to join or gor more information about our Small Group Bible Study contact us here
URL:https://theorchardcommunitychurch.com/event/bible-study/2025-07-16/
LOCATION:The Orchard Community Church\, 1 NORTH ST\,\, GORHAM\, ME\, 04038
END:VEVENT
BEGIN:VEVENT
DTSTART;TZID=America/New_York:20250713T093000
DTEND;TZID=America/New_York:20250713T093000
DTSTAMP:20260422T214254
CREATED:20220228T001907Z
LAST-MODIFIED:20220228T001907Z
UID:5858-1752399000-1752399000@theorchardcommunitychurch.com
SUMMARY:Worship Service
DESCRIPTION:
URL:https://theorchardcommunitychurch.com/event/worship-service-2/2025-07-13/
LOCATION:The Orchard Community Church\, 1 NORTH ST\,\, GORHAM\, ME\, 04038
CATEGORIES:Church Service
END:VEVENT
END:VCALENDAR