BEGIN:VCALENDAR
VERSION:2.0
PRODID:-//Orchard Community Church - ECPv6.9.0//NONSGML v1.0//EN
CALSCALE:GREGORIAN
METHOD:PUBLISH
X-WR-CALNAME:Orchard Community Church
X-ORIGINAL-URL:https://theorchardcommunitychurch.com
X-WR-CALDESC:Events for Orchard Community Church
REFRESH-INTERVAL;VALUE=DURATION:PT1H
X-Robots-Tag:noindex
X-PUBLISHED-TTL:PT1H
BEGIN:VTIMEZONE
TZID:America/New_York
BEGIN:DAYLIGHT
TZOFFSETFROM:-0500
TZOFFSETTO:-0400
TZNAME:EDT
DTSTART:20260308T070000
END:DAYLIGHT
BEGIN:STANDARD
TZOFFSETFROM:-0400
TZOFFSETTO:-0500
TZNAME:EST
DTSTART:20261101T060000
END:STANDARD
BEGIN:DAYLIGHT
TZOFFSETFROM:-0500
TZOFFSETTO:-0400
TZNAME:EDT
DTSTART:20270314T070000
END:DAYLIGHT
BEGIN:STANDARD
TZOFFSETFROM:-0400
TZOFFSETTO:-0500
TZNAME:EST
DTSTART:20271107T060000
END:STANDARD
END:VTIMEZONE
BEGIN:VEVENT
DTSTART;TZID=America/New_York:20261230T130000
DTEND;TZID=America/New_York:20261230T143000
DTSTAMP:20260421T174720
CREATED:20200423T013106Z
LAST-MODIFIED:20200423T013106Z
UID:6117-1798635600-1798641000@theorchardcommunitychurch.com
SUMMARY:Bible Study
DESCRIPTION:If you would like to join or gor more information about our Small Group Bible Study contact us here
URL:https://theorchardcommunitychurch.com/event/bible-study/2026-12-30/
LOCATION:The Orchard Community Church\, 1 NORTH ST\,\, GORHAM\, ME\, 04038
END:VEVENT
BEGIN:VEVENT
DTSTART;TZID=America/New_York:20270102T023000
DTEND;TZID=America/New_York:20270102T040000
DTSTAMP:20260421T174720
CREATED:20200423T011934Z
LAST-MODIFIED:20200423T011934Z
UID:6118-1798857000-1798862400@theorchardcommunitychurch.com
SUMMARY:Women's Group
DESCRIPTION:Details
URL:https://theorchardcommunitychurch.com/event/womens-group/2027-01-02/
LOCATION:The Orchard Community Church\, 1 NORTH ST\,\, GORHAM\, ME\, 04038
CATEGORIES:Women's Group
END:VEVENT
BEGIN:VEVENT
DTSTART;TZID=America/New_York:20270102T023000
DTEND;TZID=America/New_York:20270102T040000
DTSTAMP:20260421T174720
CREATED:20200423T012334Z
LAST-MODIFIED:20200423T012334Z
UID:6119-1798857000-1798862400@theorchardcommunitychurch.com
SUMMARY:Men's Group
DESCRIPTION:Details
URL:https://theorchardcommunitychurch.com/event/mens-group/2027-01-02/
LOCATION:The Orchard Community Church\, 1 NORTH ST\,\, GORHAM\, ME\, 04038
END:VEVENT
BEGIN:VEVENT
DTSTART;TZID=America/New_York:20270103T043000
DTEND;TZID=America/New_York:20270103T043000
DTSTAMP:20260421T174720
CREATED:20200423T012714Z
LAST-MODIFIED:20200423T012714Z
UID:6120-1798950600-1798950600@theorchardcommunitychurch.com
SUMMARY:Sunday Worship Service
DESCRIPTION:Details
URL:https://theorchardcommunitychurch.com/event/sunday-worship-service/2027-01-03/
LOCATION:The Orchard Community Church\, 1 NORTH ST\,\, GORHAM\, ME\, 04038
CATEGORIES:Church Service
END:VEVENT
BEGIN:VEVENT
DTSTART;TZID=America/New_York:20270103T043000
DTEND;TZID=America/New_York:20270103T043000
DTSTAMP:20260421T174720
CREATED:20220228T000902Z
LAST-MODIFIED:20220228T000902Z
UID:6121-1798950600-1798950600@theorchardcommunitychurch.com
SUMMARY:Worship Service
DESCRIPTION:
URL:https://theorchardcommunitychurch.com/event/worship-service/2027-01-03/
LOCATION:The Orchard Community Church\, 1 NORTH ST\,\, GORHAM\, ME\, 04038
CATEGORIES:Church Service
END:VEVENT
BEGIN:VEVENT
DTSTART;TZID=America/New_York:20270103T043000
DTEND;TZID=America/New_York:20270103T060000
DTSTAMP:20260421T174720
CREATED:20220321T232229Z
LAST-MODIFIED:20220321T232229Z
UID:6123-1798950600-1798956000@theorchardcommunitychurch.com
SUMMARY:Worship Service
DESCRIPTION:
URL:https://theorchardcommunitychurch.com/event/worship-service-4/2027-01-03/
LOCATION:The Orchard Community Church\, 1 NORTH ST\,\, GORHAM\, ME\, 04038
CATEGORIES:Church Service
END:VEVENT
BEGIN:VEVENT
DTSTART;TZID=America/New_York:20270106T130000
DTEND;TZID=America/New_York:20270106T143000
DTSTAMP:20260421T174720
CREATED:20200423T013106Z
LAST-MODIFIED:20200423T013106Z
UID:6124-1799240400-1799245800@theorchardcommunitychurch.com
SUMMARY:Bible Study
DESCRIPTION:If you would like to join or gor more information about our Small Group Bible Study contact us here
URL:https://theorchardcommunitychurch.com/event/bible-study/2027-01-06/
LOCATION:The Orchard Community Church\, 1 NORTH ST\,\, GORHAM\, ME\, 04038
END:VEVENT
BEGIN:VEVENT
DTSTART;TZID=America/New_York:20270109T023000
DTEND;TZID=America/New_York:20270109T040000
DTSTAMP:20260421T174720
CREATED:20200423T011934Z
LAST-MODIFIED:20200423T011934Z
UID:6165-1799461800-1799467200@theorchardcommunitychurch.com
SUMMARY:Women's Group
DESCRIPTION:Details
URL:https://theorchardcommunitychurch.com/event/womens-group/2027-01-09/
LOCATION:The Orchard Community Church\, 1 NORTH ST\,\, GORHAM\, ME\, 04038
CATEGORIES:Women's Group
END:VEVENT
BEGIN:VEVENT
DTSTART;TZID=America/New_York:20270109T023000
DTEND;TZID=America/New_York:20270109T040000
DTSTAMP:20260421T174720
CREATED:20200423T012334Z
LAST-MODIFIED:20200423T012334Z
UID:6166-1799461800-1799467200@theorchardcommunitychurch.com
SUMMARY:Men's Group
DESCRIPTION:Details
URL:https://theorchardcommunitychurch.com/event/mens-group/2027-01-09/
LOCATION:The Orchard Community Church\, 1 NORTH ST\,\, GORHAM\, ME\, 04038
END:VEVENT
BEGIN:VEVENT
DTSTART;TZID=America/New_York:20270110T043000
DTEND;TZID=America/New_York:20270110T043000
DTSTAMP:20260421T174720
CREATED:20200423T012714Z
LAST-MODIFIED:20200423T012714Z
UID:6167-1799555400-1799555400@theorchardcommunitychurch.com
SUMMARY:Sunday Worship Service
DESCRIPTION:Details
URL:https://theorchardcommunitychurch.com/event/sunday-worship-service/2027-01-10/
LOCATION:The Orchard Community Church\, 1 NORTH ST\,\, GORHAM\, ME\, 04038
CATEGORIES:Church Service
END:VEVENT
BEGIN:VEVENT
DTSTART;TZID=America/New_York:20270110T043000
DTEND;TZID=America/New_York:20270110T043000
DTSTAMP:20260421T174720
CREATED:20220228T000902Z
LAST-MODIFIED:20220228T000902Z
UID:6168-1799555400-1799555400@theorchardcommunitychurch.com
SUMMARY:Worship Service
DESCRIPTION:
URL:https://theorchardcommunitychurch.com/event/worship-service/2027-01-10/
LOCATION:The Orchard Community Church\, 1 NORTH ST\,\, GORHAM\, ME\, 04038
CATEGORIES:Church Service
END:VEVENT
BEGIN:VEVENT
DTSTART;TZID=America/New_York:20270110T043000
DTEND;TZID=America/New_York:20270110T060000
DTSTAMP:20260421T174720
CREATED:20220321T232229Z
LAST-MODIFIED:20220321T232229Z
UID:6170-1799555400-1799560800@theorchardcommunitychurch.com
SUMMARY:Worship Service
DESCRIPTION:
URL:https://theorchardcommunitychurch.com/event/worship-service-4/2027-01-10/
LOCATION:The Orchard Community Church\, 1 NORTH ST\,\, GORHAM\, ME\, 04038
CATEGORIES:Church Service
END:VEVENT
BEGIN:VEVENT
DTSTART;TZID=America/New_York:20270110T093000
DTEND;TZID=America/New_York:20270110T093000
DTSTAMP:20260421T174720
CREATED:20220228T001907Z
LAST-MODIFIED:20220228T001907Z
UID:6169-1799573400-1799573400@theorchardcommunitychurch.com
SUMMARY:Worship Service
DESCRIPTION:
URL:https://theorchardcommunitychurch.com/event/worship-service-2/2027-01-10/
LOCATION:The Orchard Community Church\, 1 NORTH ST\,\, GORHAM\, ME\, 04038
CATEGORIES:Church Service
END:VEVENT
BEGIN:VEVENT
DTSTART;TZID=America/New_York:20270113T130000
DTEND;TZID=America/New_York:20270113T143000
DTSTAMP:20260421T174720
CREATED:20200423T013106Z
LAST-MODIFIED:20200423T013106Z
UID:6171-1799845200-1799850600@theorchardcommunitychurch.com
SUMMARY:Bible Study
DESCRIPTION:If you would like to join or gor more information about our Small Group Bible Study contact us here
URL:https://theorchardcommunitychurch.com/event/bible-study/2027-01-13/
LOCATION:The Orchard Community Church\, 1 NORTH ST\,\, GORHAM\, ME\, 04038
END:VEVENT
BEGIN:VEVENT
DTSTART;TZID=America/New_York:20270116T023000
DTEND;TZID=America/New_York:20270116T040000
DTSTAMP:20260421T174720
CREATED:20200423T011934Z
LAST-MODIFIED:20200423T011934Z
UID:6172-1800066600-1800072000@theorchardcommunitychurch.com
SUMMARY:Women's Group
DESCRIPTION:Details
URL:https://theorchardcommunitychurch.com/event/womens-group/2027-01-16/
LOCATION:The Orchard Community Church\, 1 NORTH ST\,\, GORHAM\, ME\, 04038
CATEGORIES:Women's Group
END:VEVENT
BEGIN:VEVENT
DTSTART;TZID=America/New_York:20270116T023000
DTEND;TZID=America/New_York:20270116T040000
DTSTAMP:20260421T174720
CREATED:20200423T012334Z
LAST-MODIFIED:20200423T012334Z
UID:6173-1800066600-1800072000@theorchardcommunitychurch.com
SUMMARY:Men's Group
DESCRIPTION:Details
URL:https://theorchardcommunitychurch.com/event/mens-group/2027-01-16/
LOCATION:The Orchard Community Church\, 1 NORTH ST\,\, GORHAM\, ME\, 04038
END:VEVENT
BEGIN:VEVENT
DTSTART;TZID=America/New_York:20270117T043000
DTEND;TZID=America/New_York:20270117T043000
DTSTAMP:20260421T174720
CREATED:20200423T012714Z
LAST-MODIFIED:20200423T012714Z
UID:6174-1800160200-1800160200@theorchardcommunitychurch.com
SUMMARY:Sunday Worship Service
DESCRIPTION:Details
URL:https://theorchardcommunitychurch.com/event/sunday-worship-service/2027-01-17/
LOCATION:The Orchard Community Church\, 1 NORTH ST\,\, GORHAM\, ME\, 04038
CATEGORIES:Church Service
END:VEVENT
BEGIN:VEVENT
DTSTART;TZID=America/New_York:20270117T043000
DTEND;TZID=America/New_York:20270117T043000
DTSTAMP:20260421T174720
CREATED:20220228T000902Z
LAST-MODIFIED:20220228T000902Z
UID:6175-1800160200-1800160200@theorchardcommunitychurch.com
SUMMARY:Worship Service
DESCRIPTION:
URL:https://theorchardcommunitychurch.com/event/worship-service/2027-01-17/
LOCATION:The Orchard Community Church\, 1 NORTH ST\,\, GORHAM\, ME\, 04038
CATEGORIES:Church Service
END:VEVENT
BEGIN:VEVENT
DTSTART;TZID=America/New_York:20270117T043000
DTEND;TZID=America/New_York:20270117T060000
DTSTAMP:20260421T174720
CREATED:20220321T232229Z
LAST-MODIFIED:20220321T232229Z
UID:6177-1800160200-1800165600@theorchardcommunitychurch.com
SUMMARY:Worship Service
DESCRIPTION:
URL:https://theorchardcommunitychurch.com/event/worship-service-4/2027-01-17/
LOCATION:The Orchard Community Church\, 1 NORTH ST\,\, GORHAM\, ME\, 04038
CATEGORIES:Church Service
END:VEVENT
BEGIN:VEVENT
DTSTART;TZID=America/New_York:20270117T093000
DTEND;TZID=America/New_York:20270117T093000
DTSTAMP:20260421T174720
CREATED:20220228T001907Z
LAST-MODIFIED:20220228T001907Z
UID:6176-1800178200-1800178200@theorchardcommunitychurch.com
SUMMARY:Worship Service
DESCRIPTION:
URL:https://theorchardcommunitychurch.com/event/worship-service-2/2027-01-17/
LOCATION:The Orchard Community Church\, 1 NORTH ST\,\, GORHAM\, ME\, 04038
CATEGORIES:Church Service
END:VEVENT
BEGIN:VEVENT
DTSTART;TZID=America/New_York:20270120T130000
DTEND;TZID=America/New_York:20270120T143000
DTSTAMP:20260421T174720
CREATED:20200423T013106Z
LAST-MODIFIED:20200423T013106Z
UID:6178-1800450000-1800455400@theorchardcommunitychurch.com
SUMMARY:Bible Study
DESCRIPTION:If you would like to join or gor more information about our Small Group Bible Study contact us here
URL:https://theorchardcommunitychurch.com/event/bible-study/2027-01-20/
LOCATION:The Orchard Community Church\, 1 NORTH ST\,\, GORHAM\, ME\, 04038
END:VEVENT
BEGIN:VEVENT
DTSTART;TZID=America/New_York:20270123T023000
DTEND;TZID=America/New_York:20270123T040000
DTSTAMP:20260421T174720
CREATED:20200423T011934Z
LAST-MODIFIED:20200423T011934Z
UID:6179-1800671400-1800676800@theorchardcommunitychurch.com
SUMMARY:Women's Group
DESCRIPTION:Details
URL:https://theorchardcommunitychurch.com/event/womens-group/2027-01-23/
LOCATION:The Orchard Community Church\, 1 NORTH ST\,\, GORHAM\, ME\, 04038
CATEGORIES:Women's Group
END:VEVENT
BEGIN:VEVENT
DTSTART;TZID=America/New_York:20270123T023000
DTEND;TZID=America/New_York:20270123T040000
DTSTAMP:20260421T174720
CREATED:20200423T012334Z
LAST-MODIFIED:20200423T012334Z
UID:6180-1800671400-1800676800@theorchardcommunitychurch.com
SUMMARY:Men's Group
DESCRIPTION:Details
URL:https://theorchardcommunitychurch.com/event/mens-group/2027-01-23/
LOCATION:The Orchard Community Church\, 1 NORTH ST\,\, GORHAM\, ME\, 04038
END:VEVENT
BEGIN:VEVENT
DTSTART;TZID=America/New_York:20270124T043000
DTEND;TZID=America/New_York:20270124T043000
DTSTAMP:20260421T174720
CREATED:20200423T012714Z
LAST-MODIFIED:20200423T012714Z
UID:6181-1800765000-1800765000@theorchardcommunitychurch.com
SUMMARY:Sunday Worship Service
DESCRIPTION:Details
URL:https://theorchardcommunitychurch.com/event/sunday-worship-service/2027-01-24/
LOCATION:The Orchard Community Church\, 1 NORTH ST\,\, GORHAM\, ME\, 04038
CATEGORIES:Church Service
END:VEVENT
BEGIN:VEVENT
DTSTART;TZID=America/New_York:20270124T043000
DTEND;TZID=America/New_York:20270124T043000
DTSTAMP:20260421T174720
CREATED:20220228T000902Z
LAST-MODIFIED:20220228T000902Z
UID:6182-1800765000-1800765000@theorchardcommunitychurch.com
SUMMARY:Worship Service
DESCRIPTION:
URL:https://theorchardcommunitychurch.com/event/worship-service/2027-01-24/
LOCATION:The Orchard Community Church\, 1 NORTH ST\,\, GORHAM\, ME\, 04038
CATEGORIES:Church Service
END:VEVENT
BEGIN:VEVENT
DTSTART;TZID=America/New_York:20270124T043000
DTEND;TZID=America/New_York:20270124T060000
DTSTAMP:20260421T174720
CREATED:20220321T232229Z
LAST-MODIFIED:20220321T232229Z
UID:6184-1800765000-1800770400@theorchardcommunitychurch.com
SUMMARY:Worship Service
DESCRIPTION:
URL:https://theorchardcommunitychurch.com/event/worship-service-4/2027-01-24/
LOCATION:The Orchard Community Church\, 1 NORTH ST\,\, GORHAM\, ME\, 04038
CATEGORIES:Church Service
END:VEVENT
BEGIN:VEVENT
DTSTART;TZID=America/New_York:20270124T093000
DTEND;TZID=America/New_York:20270124T093000
DTSTAMP:20260421T174720
CREATED:20220228T001907Z
LAST-MODIFIED:20220228T001907Z
UID:6183-1800783000-1800783000@theorchardcommunitychurch.com
SUMMARY:Worship Service
DESCRIPTION:
URL:https://theorchardcommunitychurch.com/event/worship-service-2/2027-01-24/
LOCATION:The Orchard Community Church\, 1 NORTH ST\,\, GORHAM\, ME\, 04038
CATEGORIES:Church Service
END:VEVENT
BEGIN:VEVENT
DTSTART;TZID=America/New_York:20270127T130000
DTEND;TZID=America/New_York:20270127T143000
DTSTAMP:20260421T174720
CREATED:20200423T013106Z
LAST-MODIFIED:20200423T013106Z
UID:6185-1801054800-1801060200@theorchardcommunitychurch.com
SUMMARY:Bible Study
DESCRIPTION:If you would like to join or gor more information about our Small Group Bible Study contact us here
URL:https://theorchardcommunitychurch.com/event/bible-study/2027-01-27/
LOCATION:The Orchard Community Church\, 1 NORTH ST\,\, GORHAM\, ME\, 04038
END:VEVENT
BEGIN:VEVENT
DTSTART;TZID=America/New_York:20270130T023000
DTEND;TZID=America/New_York:20270130T040000
DTSTAMP:20260421T174720
CREATED:20200423T011934Z
LAST-MODIFIED:20200423T011934Z
UID:6186-1801276200-1801281600@theorchardcommunitychurch.com
SUMMARY:Women's Group
DESCRIPTION:Details
URL:https://theorchardcommunitychurch.com/event/womens-group/2027-01-30/
LOCATION:The Orchard Community Church\, 1 NORTH ST\,\, GORHAM\, ME\, 04038
CATEGORIES:Women's Group
END:VEVENT
BEGIN:VEVENT
DTSTART;TZID=America/New_York:20270130T023000
DTEND;TZID=America/New_York:20270130T040000
DTSTAMP:20260421T174720
CREATED:20200423T012334Z
LAST-MODIFIED:20200423T012334Z
UID:6187-1801276200-1801281600@theorchardcommunitychurch.com
SUMMARY:Men's Group
DESCRIPTION:Details
URL:https://theorchardcommunitychurch.com/event/mens-group/2027-01-30/
LOCATION:The Orchard Community Church\, 1 NORTH ST\,\, GORHAM\, ME\, 04038
END:VEVENT
END:VCALENDAR