BEGIN:VCALENDAR
VERSION:2.0
PRODID:-//Orchard Community Church - ECPv6.9.0//NONSGML v1.0//EN
CALSCALE:GREGORIAN
METHOD:PUBLISH
X-ORIGINAL-URL:https://theorchardcommunitychurch.com
X-WR-CALDESC:Events for Orchard Community Church
REFRESH-INTERVAL;VALUE=DURATION:PT1H
X-Robots-Tag:noindex
X-PUBLISHED-TTL:PT1H
BEGIN:VTIMEZONE
TZID:America/New_York
BEGIN:DAYLIGHT
TZOFFSETFROM:-0500
TZOFFSETTO:-0400
TZNAME:EDT
DTSTART:20270314T070000
END:DAYLIGHT
BEGIN:STANDARD
TZOFFSETFROM:-0400
TZOFFSETTO:-0500
TZNAME:EST
DTSTART:20271107T060000
END:STANDARD
END:VTIMEZONE
BEGIN:VEVENT
DTSTART;TZID=America/New_York:20270124T043000
DTEND;TZID=America/New_York:20270124T043000
DTSTAMP:20260421T210406
CREATED:20220228T000902Z
LAST-MODIFIED:20220228T000902Z
UID:6182-1800765000-1800765000@theorchardcommunitychurch.com
SUMMARY:Worship Service
DESCRIPTION:
URL:https://theorchardcommunitychurch.com/event/worship-service/2027-01-24/
LOCATION:The Orchard Community Church\, 1 NORTH ST\,\, GORHAM\, ME\, 04038
CATEGORIES:Church Service
END:VEVENT
BEGIN:VEVENT
DTSTART;TZID=America/New_York:20270124T043000
DTEND;TZID=America/New_York:20270124T060000
DTSTAMP:20260421T210406
CREATED:20220321T232229Z
LAST-MODIFIED:20220321T232229Z
UID:6184-1800765000-1800770400@theorchardcommunitychurch.com
SUMMARY:Worship Service
DESCRIPTION:
URL:https://theorchardcommunitychurch.com/event/worship-service-4/2027-01-24/
LOCATION:The Orchard Community Church\, 1 NORTH ST\,\, GORHAM\, ME\, 04038
CATEGORIES:Church Service
END:VEVENT
BEGIN:VEVENT
DTSTART;TZID=America/New_York:20270124T093000
DTEND;TZID=America/New_York:20270124T093000
DTSTAMP:20260421T210406
CREATED:20220228T001907Z
LAST-MODIFIED:20220228T001907Z
UID:6183-1800783000-1800783000@theorchardcommunitychurch.com
SUMMARY:Worship Service
DESCRIPTION:
URL:https://theorchardcommunitychurch.com/event/worship-service-2/2027-01-24/
LOCATION:The Orchard Community Church\, 1 NORTH ST\,\, GORHAM\, ME\, 04038
CATEGORIES:Church Service
END:VEVENT
BEGIN:VEVENT
DTSTART;TZID=America/New_York:20270127T130000
DTEND;TZID=America/New_York:20270127T143000
DTSTAMP:20260421T210406
CREATED:20200423T013106Z
LAST-MODIFIED:20200423T013106Z
UID:6185-1801054800-1801060200@theorchardcommunitychurch.com
SUMMARY:Bible Study
DESCRIPTION:If you would like to join or gor more information about our Small Group Bible Study contact us here
URL:https://theorchardcommunitychurch.com/event/bible-study/2027-01-27/
LOCATION:The Orchard Community Church\, 1 NORTH ST\,\, GORHAM\, ME\, 04038
END:VEVENT
BEGIN:VEVENT
DTSTART;TZID=America/New_York:20270130T023000
DTEND;TZID=America/New_York:20270130T040000
DTSTAMP:20260421T210406
CREATED:20200423T011934Z
LAST-MODIFIED:20200423T011934Z
UID:6186-1801276200-1801281600@theorchardcommunitychurch.com
SUMMARY:Women's Group
DESCRIPTION:Details
URL:https://theorchardcommunitychurch.com/event/womens-group/2027-01-30/
LOCATION:The Orchard Community Church\, 1 NORTH ST\,\, GORHAM\, ME\, 04038
CATEGORIES:Women's Group
END:VEVENT
BEGIN:VEVENT
DTSTART;TZID=America/New_York:20270130T023000
DTEND;TZID=America/New_York:20270130T040000
DTSTAMP:20260421T210406
CREATED:20200423T012334Z
LAST-MODIFIED:20200423T012334Z
UID:6187-1801276200-1801281600@theorchardcommunitychurch.com
SUMMARY:Men's Group
DESCRIPTION:Details
URL:https://theorchardcommunitychurch.com/event/mens-group/2027-01-30/
LOCATION:The Orchard Community Church\, 1 NORTH ST\,\, GORHAM\, ME\, 04038
END:VEVENT
BEGIN:VEVENT
DTSTART;TZID=America/New_York:20270131T043000
DTEND;TZID=America/New_York:20270131T043000
DTSTAMP:20260421T210406
CREATED:20200423T012714Z
LAST-MODIFIED:20200423T012714Z
UID:6188-1801369800-1801369800@theorchardcommunitychurch.com
SUMMARY:Sunday Worship Service
DESCRIPTION:Details
URL:https://theorchardcommunitychurch.com/event/sunday-worship-service/2027-01-31/
LOCATION:The Orchard Community Church\, 1 NORTH ST\,\, GORHAM\, ME\, 04038
CATEGORIES:Church Service
END:VEVENT
BEGIN:VEVENT
DTSTART;TZID=America/New_York:20270131T043000
DTEND;TZID=America/New_York:20270131T043000
DTSTAMP:20260421T210406
CREATED:20220228T000902Z
LAST-MODIFIED:20220228T000902Z
UID:6189-1801369800-1801369800@theorchardcommunitychurch.com
SUMMARY:Worship Service
DESCRIPTION:
URL:https://theorchardcommunitychurch.com/event/worship-service/2027-01-31/
LOCATION:The Orchard Community Church\, 1 NORTH ST\,\, GORHAM\, ME\, 04038
CATEGORIES:Church Service
END:VEVENT
BEGIN:VEVENT
DTSTART;TZID=America/New_York:20270131T043000
DTEND;TZID=America/New_York:20270131T060000
DTSTAMP:20260421T210406
CREATED:20220321T232229Z
LAST-MODIFIED:20220321T232229Z
UID:6191-1801369800-1801375200@theorchardcommunitychurch.com
SUMMARY:Worship Service
DESCRIPTION:
URL:https://theorchardcommunitychurch.com/event/worship-service-4/2027-01-31/
LOCATION:The Orchard Community Church\, 1 NORTH ST\,\, GORHAM\, ME\, 04038
CATEGORIES:Church Service
END:VEVENT
BEGIN:VEVENT
DTSTART;TZID=America/New_York:20270131T093000
DTEND;TZID=America/New_York:20270131T093000
DTSTAMP:20260421T210406
CREATED:20220228T001907Z
LAST-MODIFIED:20220228T001907Z
UID:6190-1801387800-1801387800@theorchardcommunitychurch.com
SUMMARY:Worship Service
DESCRIPTION:
URL:https://theorchardcommunitychurch.com/event/worship-service-2/2027-01-31/
LOCATION:The Orchard Community Church\, 1 NORTH ST\,\, GORHAM\, ME\, 04038
CATEGORIES:Church Service
END:VEVENT
BEGIN:VEVENT
DTSTART;TZID=America/New_York:20270203T130000
DTEND;TZID=America/New_York:20270203T143000
DTSTAMP:20260421T210406
CREATED:20200423T013106Z
LAST-MODIFIED:20200423T013106Z
UID:6192-1801659600-1801665000@theorchardcommunitychurch.com
SUMMARY:Bible Study
DESCRIPTION:If you would like to join or gor more information about our Small Group Bible Study contact us here
URL:https://theorchardcommunitychurch.com/event/bible-study/2027-02-03/
LOCATION:The Orchard Community Church\, 1 NORTH ST\,\, GORHAM\, ME\, 04038
END:VEVENT
BEGIN:VEVENT
DTSTART;TZID=America/New_York:20270206T023000
DTEND;TZID=America/New_York:20270206T040000
DTSTAMP:20260421T210406
CREATED:20200423T011934Z
LAST-MODIFIED:20200423T011934Z
UID:6193-1801881000-1801886400@theorchardcommunitychurch.com
SUMMARY:Women's Group
DESCRIPTION:Details
URL:https://theorchardcommunitychurch.com/event/womens-group/2027-02-06/
LOCATION:The Orchard Community Church\, 1 NORTH ST\,\, GORHAM\, ME\, 04038
CATEGORIES:Women's Group
END:VEVENT
BEGIN:VEVENT
DTSTART;TZID=America/New_York:20270206T023000
DTEND;TZID=America/New_York:20270206T040000
DTSTAMP:20260421T210406
CREATED:20200423T012334Z
LAST-MODIFIED:20200423T012334Z
UID:6194-1801881000-1801886400@theorchardcommunitychurch.com
SUMMARY:Men's Group
DESCRIPTION:Details
URL:https://theorchardcommunitychurch.com/event/mens-group/2027-02-06/
LOCATION:The Orchard Community Church\, 1 NORTH ST\,\, GORHAM\, ME\, 04038
END:VEVENT
BEGIN:VEVENT
DTSTART;TZID=America/New_York:20270207T043000
DTEND;TZID=America/New_York:20270207T043000
DTSTAMP:20260421T210406
CREATED:20200423T012714Z
LAST-MODIFIED:20200423T012714Z
UID:6195-1801974600-1801974600@theorchardcommunitychurch.com
SUMMARY:Sunday Worship Service
DESCRIPTION:Details
URL:https://theorchardcommunitychurch.com/event/sunday-worship-service/2027-02-07/
LOCATION:The Orchard Community Church\, 1 NORTH ST\,\, GORHAM\, ME\, 04038
CATEGORIES:Church Service
END:VEVENT
BEGIN:VEVENT
DTSTART;TZID=America/New_York:20270207T043000
DTEND;TZID=America/New_York:20270207T043000
DTSTAMP:20260421T210406
CREATED:20220228T000902Z
LAST-MODIFIED:20220228T000902Z
UID:6196-1801974600-1801974600@theorchardcommunitychurch.com
SUMMARY:Worship Service
DESCRIPTION:
URL:https://theorchardcommunitychurch.com/event/worship-service/2027-02-07/
LOCATION:The Orchard Community Church\, 1 NORTH ST\,\, GORHAM\, ME\, 04038
CATEGORIES:Church Service
END:VEVENT
BEGIN:VEVENT
DTSTART;TZID=America/New_York:20270207T043000
DTEND;TZID=America/New_York:20270207T060000
DTSTAMP:20260421T210406
CREATED:20220321T232229Z
LAST-MODIFIED:20220321T232229Z
UID:6198-1801974600-1801980000@theorchardcommunitychurch.com
SUMMARY:Worship Service
DESCRIPTION:
URL:https://theorchardcommunitychurch.com/event/worship-service-4/2027-02-07/
LOCATION:The Orchard Community Church\, 1 NORTH ST\,\, GORHAM\, ME\, 04038
CATEGORIES:Church Service
END:VEVENT
BEGIN:VEVENT
DTSTART;TZID=America/New_York:20270207T093000
DTEND;TZID=America/New_York:20270207T093000
DTSTAMP:20260421T210406
CREATED:20220228T001907Z
LAST-MODIFIED:20220228T001907Z
UID:6197-1801992600-1801992600@theorchardcommunitychurch.com
SUMMARY:Worship Service
DESCRIPTION:
URL:https://theorchardcommunitychurch.com/event/worship-service-2/2027-02-07/
LOCATION:The Orchard Community Church\, 1 NORTH ST\,\, GORHAM\, ME\, 04038
CATEGORIES:Church Service
END:VEVENT
BEGIN:VEVENT
DTSTART;TZID=America/New_York:20270210T130000
DTEND;TZID=America/New_York:20270210T143000
DTSTAMP:20260421T210406
CREATED:20200423T013106Z
LAST-MODIFIED:20200423T013106Z
UID:6199-1802264400-1802269800@theorchardcommunitychurch.com
SUMMARY:Bible Study
DESCRIPTION:If you would like to join or gor more information about our Small Group Bible Study contact us here
URL:https://theorchardcommunitychurch.com/event/bible-study/2027-02-10/
LOCATION:The Orchard Community Church\, 1 NORTH ST\,\, GORHAM\, ME\, 04038
END:VEVENT
BEGIN:VEVENT
DTSTART;TZID=America/New_York:20270213T023000
DTEND;TZID=America/New_York:20270213T040000
DTSTAMP:20260421T210406
CREATED:20200423T011934Z
LAST-MODIFIED:20200423T011934Z
UID:6200-1802485800-1802491200@theorchardcommunitychurch.com
SUMMARY:Women's Group
DESCRIPTION:Details
URL:https://theorchardcommunitychurch.com/event/womens-group/2027-02-13/
LOCATION:The Orchard Community Church\, 1 NORTH ST\,\, GORHAM\, ME\, 04038
CATEGORIES:Women's Group
END:VEVENT
BEGIN:VEVENT
DTSTART;TZID=America/New_York:20270213T023000
DTEND;TZID=America/New_York:20270213T040000
DTSTAMP:20260421T210406
CREATED:20200423T012334Z
LAST-MODIFIED:20200423T012334Z
UID:6201-1802485800-1802491200@theorchardcommunitychurch.com
SUMMARY:Men's Group
DESCRIPTION:Details
URL:https://theorchardcommunitychurch.com/event/mens-group/2027-02-13/
LOCATION:The Orchard Community Church\, 1 NORTH ST\,\, GORHAM\, ME\, 04038
END:VEVENT
BEGIN:VEVENT
DTSTART;TZID=America/New_York:20270214T043000
DTEND;TZID=America/New_York:20270214T043000
DTSTAMP:20260421T210406
CREATED:20200423T012714Z
LAST-MODIFIED:20200423T012714Z
UID:6202-1802579400-1802579400@theorchardcommunitychurch.com
SUMMARY:Sunday Worship Service
DESCRIPTION:Details
URL:https://theorchardcommunitychurch.com/event/sunday-worship-service/2027-02-14/
LOCATION:The Orchard Community Church\, 1 NORTH ST\,\, GORHAM\, ME\, 04038
CATEGORIES:Church Service
END:VEVENT
BEGIN:VEVENT
DTSTART;TZID=America/New_York:20270214T043000
DTEND;TZID=America/New_York:20270214T043000
DTSTAMP:20260421T210406
CREATED:20220228T000902Z
LAST-MODIFIED:20220228T000902Z
UID:6203-1802579400-1802579400@theorchardcommunitychurch.com
SUMMARY:Worship Service
DESCRIPTION:
URL:https://theorchardcommunitychurch.com/event/worship-service/2027-02-14/
LOCATION:The Orchard Community Church\, 1 NORTH ST\,\, GORHAM\, ME\, 04038
CATEGORIES:Church Service
END:VEVENT
BEGIN:VEVENT
DTSTART;TZID=America/New_York:20270214T043000
DTEND;TZID=America/New_York:20270214T060000
DTSTAMP:20260421T210406
CREATED:20220321T232229Z
LAST-MODIFIED:20220321T232229Z
UID:6205-1802579400-1802584800@theorchardcommunitychurch.com
SUMMARY:Worship Service
DESCRIPTION:
URL:https://theorchardcommunitychurch.com/event/worship-service-4/2027-02-14/
LOCATION:The Orchard Community Church\, 1 NORTH ST\,\, GORHAM\, ME\, 04038
CATEGORIES:Church Service
END:VEVENT
BEGIN:VEVENT
DTSTART;TZID=America/New_York:20270214T093000
DTEND;TZID=America/New_York:20270214T093000
DTSTAMP:20260421T210406
CREATED:20220228T001907Z
LAST-MODIFIED:20220228T001907Z
UID:6204-1802597400-1802597400@theorchardcommunitychurch.com
SUMMARY:Worship Service
DESCRIPTION:
URL:https://theorchardcommunitychurch.com/event/worship-service-2/2027-02-14/
LOCATION:The Orchard Community Church\, 1 NORTH ST\,\, GORHAM\, ME\, 04038
CATEGORIES:Church Service
END:VEVENT
BEGIN:VEVENT
DTSTART;TZID=America/New_York:20270217T130000
DTEND;TZID=America/New_York:20270217T143000
DTSTAMP:20260421T210406
CREATED:20200423T013106Z
LAST-MODIFIED:20200423T013106Z
UID:6206-1802869200-1802874600@theorchardcommunitychurch.com
SUMMARY:Bible Study
DESCRIPTION:If you would like to join or gor more information about our Small Group Bible Study contact us here
URL:https://theorchardcommunitychurch.com/event/bible-study/2027-02-17/
LOCATION:The Orchard Community Church\, 1 NORTH ST\,\, GORHAM\, ME\, 04038
END:VEVENT
BEGIN:VEVENT
DTSTART;TZID=America/New_York:20270220T023000
DTEND;TZID=America/New_York:20270220T040000
DTSTAMP:20260421T210406
CREATED:20200423T011934Z
LAST-MODIFIED:20200423T011934Z
UID:6207-1803090600-1803096000@theorchardcommunitychurch.com
SUMMARY:Women's Group
DESCRIPTION:Details
URL:https://theorchardcommunitychurch.com/event/womens-group/2027-02-20/
LOCATION:The Orchard Community Church\, 1 NORTH ST\,\, GORHAM\, ME\, 04038
CATEGORIES:Women's Group
END:VEVENT
BEGIN:VEVENT
DTSTART;TZID=America/New_York:20270220T023000
DTEND;TZID=America/New_York:20270220T040000
DTSTAMP:20260421T210406
CREATED:20200423T012334Z
LAST-MODIFIED:20200423T012334Z
UID:6208-1803090600-1803096000@theorchardcommunitychurch.com
SUMMARY:Men's Group
DESCRIPTION:Details
URL:https://theorchardcommunitychurch.com/event/mens-group/2027-02-20/
LOCATION:The Orchard Community Church\, 1 NORTH ST\,\, GORHAM\, ME\, 04038
END:VEVENT
BEGIN:VEVENT
DTSTART;TZID=America/New_York:20270221T043000
DTEND;TZID=America/New_York:20270221T043000
DTSTAMP:20260421T210406
CREATED:20200423T012714Z
LAST-MODIFIED:20200423T012714Z
UID:6209-1803184200-1803184200@theorchardcommunitychurch.com
SUMMARY:Sunday Worship Service
DESCRIPTION:Details
URL:https://theorchardcommunitychurch.com/event/sunday-worship-service/2027-02-21/
LOCATION:The Orchard Community Church\, 1 NORTH ST\,\, GORHAM\, ME\, 04038
CATEGORIES:Church Service
END:VEVENT
BEGIN:VEVENT
DTSTART;TZID=America/New_York:20270221T043000
DTEND;TZID=America/New_York:20270221T043000
DTSTAMP:20260421T210406
CREATED:20220228T000902Z
LAST-MODIFIED:20220228T000902Z
UID:6210-1803184200-1803184200@theorchardcommunitychurch.com
SUMMARY:Worship Service
DESCRIPTION:
URL:https://theorchardcommunitychurch.com/event/worship-service/2027-02-21/
LOCATION:The Orchard Community Church\, 1 NORTH ST\,\, GORHAM\, ME\, 04038
CATEGORIES:Church Service
END:VEVENT
BEGIN:VEVENT
DTSTART;TZID=America/New_York:20270221T043000
DTEND;TZID=America/New_York:20270221T060000
DTSTAMP:20260421T210406
CREATED:20220321T232229Z
LAST-MODIFIED:20220321T232229Z
UID:6212-1803184200-1803189600@theorchardcommunitychurch.com
SUMMARY:Worship Service
DESCRIPTION:
URL:https://theorchardcommunitychurch.com/event/worship-service-4/2027-02-21/
LOCATION:The Orchard Community Church\, 1 NORTH ST\,\, GORHAM\, ME\, 04038
CATEGORIES:Church Service
END:VEVENT
END:VCALENDAR