BEGIN:VCALENDAR
VERSION:2.0
PRODID:-//Orchard Community Church - ECPv6.9.0//NONSGML v1.0//EN
CALSCALE:GREGORIAN
METHOD:PUBLISH
X-ORIGINAL-URL:https://theorchardcommunitychurch.com
X-WR-CALDESC:Events for Orchard Community Church
REFRESH-INTERVAL;VALUE=DURATION:PT1H
X-Robots-Tag:noindex
X-PUBLISHED-TTL:PT1H
BEGIN:VTIMEZONE
TZID:America/New_York
BEGIN:DAYLIGHT
TZOFFSETFROM:-0500
TZOFFSETTO:-0400
TZNAME:EDT
DTSTART:20270314T070000
END:DAYLIGHT
BEGIN:STANDARD
TZOFFSETFROM:-0400
TZOFFSETTO:-0500
TZNAME:EST
DTSTART:20271107T060000
END:STANDARD
END:VTIMEZONE
BEGIN:VEVENT
DTSTART;TZID=America/New_York:20270217T130000
DTEND;TZID=America/New_York:20270217T143000
DTSTAMP:20260422T004637
CREATED:20200423T013106Z
LAST-MODIFIED:20200423T013106Z
UID:6206-1802869200-1802874600@theorchardcommunitychurch.com
SUMMARY:Bible Study
DESCRIPTION:If you would like to join or gor more information about our Small Group Bible Study contact us here
URL:https://theorchardcommunitychurch.com/event/bible-study/2027-02-17/
LOCATION:The Orchard Community Church\, 1 NORTH ST\,\, GORHAM\, ME\, 04038
END:VEVENT
BEGIN:VEVENT
DTSTART;TZID=America/New_York:20270220T023000
DTEND;TZID=America/New_York:20270220T040000
DTSTAMP:20260422T004637
CREATED:20200423T011934Z
LAST-MODIFIED:20200423T011934Z
UID:6207-1803090600-1803096000@theorchardcommunitychurch.com
SUMMARY:Women's Group
DESCRIPTION:Details
URL:https://theorchardcommunitychurch.com/event/womens-group/2027-02-20/
LOCATION:The Orchard Community Church\, 1 NORTH ST\,\, GORHAM\, ME\, 04038
CATEGORIES:Women's Group
END:VEVENT
BEGIN:VEVENT
DTSTART;TZID=America/New_York:20270220T023000
DTEND;TZID=America/New_York:20270220T040000
DTSTAMP:20260422T004637
CREATED:20200423T012334Z
LAST-MODIFIED:20200423T012334Z
UID:6208-1803090600-1803096000@theorchardcommunitychurch.com
SUMMARY:Men's Group
DESCRIPTION:Details
URL:https://theorchardcommunitychurch.com/event/mens-group/2027-02-20/
LOCATION:The Orchard Community Church\, 1 NORTH ST\,\, GORHAM\, ME\, 04038
END:VEVENT
BEGIN:VEVENT
DTSTART;TZID=America/New_York:20270221T043000
DTEND;TZID=America/New_York:20270221T043000
DTSTAMP:20260422T004637
CREATED:20200423T012714Z
LAST-MODIFIED:20200423T012714Z
UID:6209-1803184200-1803184200@theorchardcommunitychurch.com
SUMMARY:Sunday Worship Service
DESCRIPTION:Details
URL:https://theorchardcommunitychurch.com/event/sunday-worship-service/2027-02-21/
LOCATION:The Orchard Community Church\, 1 NORTH ST\,\, GORHAM\, ME\, 04038
CATEGORIES:Church Service
END:VEVENT
BEGIN:VEVENT
DTSTART;TZID=America/New_York:20270221T043000
DTEND;TZID=America/New_York:20270221T043000
DTSTAMP:20260422T004637
CREATED:20220228T000902Z
LAST-MODIFIED:20220228T000902Z
UID:6210-1803184200-1803184200@theorchardcommunitychurch.com
SUMMARY:Worship Service
DESCRIPTION:
URL:https://theorchardcommunitychurch.com/event/worship-service/2027-02-21/
LOCATION:The Orchard Community Church\, 1 NORTH ST\,\, GORHAM\, ME\, 04038
CATEGORIES:Church Service
END:VEVENT
BEGIN:VEVENT
DTSTART;TZID=America/New_York:20270221T043000
DTEND;TZID=America/New_York:20270221T060000
DTSTAMP:20260422T004637
CREATED:20220321T232229Z
LAST-MODIFIED:20220321T232229Z
UID:6212-1803184200-1803189600@theorchardcommunitychurch.com
SUMMARY:Worship Service
DESCRIPTION:
URL:https://theorchardcommunitychurch.com/event/worship-service-4/2027-02-21/
LOCATION:The Orchard Community Church\, 1 NORTH ST\,\, GORHAM\, ME\, 04038
CATEGORIES:Church Service
END:VEVENT
BEGIN:VEVENT
DTSTART;TZID=America/New_York:20270221T093000
DTEND;TZID=America/New_York:20270221T093000
DTSTAMP:20260422T004637
CREATED:20220228T001907Z
LAST-MODIFIED:20220228T001907Z
UID:6211-1803202200-1803202200@theorchardcommunitychurch.com
SUMMARY:Worship Service
DESCRIPTION:
URL:https://theorchardcommunitychurch.com/event/worship-service-2/2027-02-21/
LOCATION:The Orchard Community Church\, 1 NORTH ST\,\, GORHAM\, ME\, 04038
CATEGORIES:Church Service
END:VEVENT
BEGIN:VEVENT
DTSTART;TZID=America/New_York:20270224T130000
DTEND;TZID=America/New_York:20270224T143000
DTSTAMP:20260422T004637
CREATED:20200423T013106Z
LAST-MODIFIED:20200423T013106Z
UID:6213-1803474000-1803479400@theorchardcommunitychurch.com
SUMMARY:Bible Study
DESCRIPTION:If you would like to join or gor more information about our Small Group Bible Study contact us here
URL:https://theorchardcommunitychurch.com/event/bible-study/2027-02-24/
LOCATION:The Orchard Community Church\, 1 NORTH ST\,\, GORHAM\, ME\, 04038
END:VEVENT
BEGIN:VEVENT
DTSTART;TZID=America/New_York:20270227T023000
DTEND;TZID=America/New_York:20270227T040000
DTSTAMP:20260422T004637
CREATED:20200423T011934Z
LAST-MODIFIED:20200423T011934Z
UID:6214-1803695400-1803700800@theorchardcommunitychurch.com
SUMMARY:Women's Group
DESCRIPTION:Details
URL:https://theorchardcommunitychurch.com/event/womens-group/2027-02-27/
LOCATION:The Orchard Community Church\, 1 NORTH ST\,\, GORHAM\, ME\, 04038
CATEGORIES:Women's Group
END:VEVENT
BEGIN:VEVENT
DTSTART;TZID=America/New_York:20270227T023000
DTEND;TZID=America/New_York:20270227T040000
DTSTAMP:20260422T004637
CREATED:20200423T012334Z
LAST-MODIFIED:20200423T012334Z
UID:6215-1803695400-1803700800@theorchardcommunitychurch.com
SUMMARY:Men's Group
DESCRIPTION:Details
URL:https://theorchardcommunitychurch.com/event/mens-group/2027-02-27/
LOCATION:The Orchard Community Church\, 1 NORTH ST\,\, GORHAM\, ME\, 04038
END:VEVENT
BEGIN:VEVENT
DTSTART;TZID=America/New_York:20270228T043000
DTEND;TZID=America/New_York:20270228T043000
DTSTAMP:20260422T004637
CREATED:20200423T012714Z
LAST-MODIFIED:20200423T012714Z
UID:6216-1803789000-1803789000@theorchardcommunitychurch.com
SUMMARY:Sunday Worship Service
DESCRIPTION:Details
URL:https://theorchardcommunitychurch.com/event/sunday-worship-service/2027-02-28/
LOCATION:The Orchard Community Church\, 1 NORTH ST\,\, GORHAM\, ME\, 04038
CATEGORIES:Church Service
END:VEVENT
BEGIN:VEVENT
DTSTART;TZID=America/New_York:20270228T043000
DTEND;TZID=America/New_York:20270228T043000
DTSTAMP:20260422T004637
CREATED:20220228T000902Z
LAST-MODIFIED:20220228T000902Z
UID:6217-1803789000-1803789000@theorchardcommunitychurch.com
SUMMARY:Worship Service
DESCRIPTION:
URL:https://theorchardcommunitychurch.com/event/worship-service/2027-02-28/
LOCATION:The Orchard Community Church\, 1 NORTH ST\,\, GORHAM\, ME\, 04038
CATEGORIES:Church Service
END:VEVENT
BEGIN:VEVENT
DTSTART;TZID=America/New_York:20270228T043000
DTEND;TZID=America/New_York:20270228T060000
DTSTAMP:20260422T004637
CREATED:20220321T232229Z
LAST-MODIFIED:20220321T232229Z
UID:6219-1803789000-1803794400@theorchardcommunitychurch.com
SUMMARY:Worship Service
DESCRIPTION:
URL:https://theorchardcommunitychurch.com/event/worship-service-4/2027-02-28/
LOCATION:The Orchard Community Church\, 1 NORTH ST\,\, GORHAM\, ME\, 04038
CATEGORIES:Church Service
END:VEVENT
BEGIN:VEVENT
DTSTART;TZID=America/New_York:20270228T093000
DTEND;TZID=America/New_York:20270228T093000
DTSTAMP:20260422T004637
CREATED:20220228T001907Z
LAST-MODIFIED:20220228T001907Z
UID:6218-1803807000-1803807000@theorchardcommunitychurch.com
SUMMARY:Worship Service
DESCRIPTION:
URL:https://theorchardcommunitychurch.com/event/worship-service-2/2027-02-28/
LOCATION:The Orchard Community Church\, 1 NORTH ST\,\, GORHAM\, ME\, 04038
CATEGORIES:Church Service
END:VEVENT
BEGIN:VEVENT
DTSTART;TZID=America/New_York:20270303T130000
DTEND;TZID=America/New_York:20270303T143000
DTSTAMP:20260422T004637
CREATED:20200423T013106Z
LAST-MODIFIED:20200423T013106Z
UID:6220-1804078800-1804084200@theorchardcommunitychurch.com
SUMMARY:Bible Study
DESCRIPTION:If you would like to join or gor more information about our Small Group Bible Study contact us here
URL:https://theorchardcommunitychurch.com/event/bible-study/2027-03-03/
LOCATION:The Orchard Community Church\, 1 NORTH ST\,\, GORHAM\, ME\, 04038
END:VEVENT
BEGIN:VEVENT
DTSTART;TZID=America/New_York:20270306T023000
DTEND;TZID=America/New_York:20270306T040000
DTSTAMP:20260422T004637
CREATED:20200423T011934Z
LAST-MODIFIED:20200423T011934Z
UID:6221-1804300200-1804305600@theorchardcommunitychurch.com
SUMMARY:Women's Group
DESCRIPTION:Details
URL:https://theorchardcommunitychurch.com/event/womens-group/2027-03-06/
LOCATION:The Orchard Community Church\, 1 NORTH ST\,\, GORHAM\, ME\, 04038
CATEGORIES:Women's Group
END:VEVENT
BEGIN:VEVENT
DTSTART;TZID=America/New_York:20270306T023000
DTEND;TZID=America/New_York:20270306T040000
DTSTAMP:20260422T004637
CREATED:20200423T012334Z
LAST-MODIFIED:20200423T012334Z
UID:6222-1804300200-1804305600@theorchardcommunitychurch.com
SUMMARY:Men's Group
DESCRIPTION:Details
URL:https://theorchardcommunitychurch.com/event/mens-group/2027-03-06/
LOCATION:The Orchard Community Church\, 1 NORTH ST\,\, GORHAM\, ME\, 04038
END:VEVENT
BEGIN:VEVENT
DTSTART;TZID=America/New_York:20270307T043000
DTEND;TZID=America/New_York:20270307T043000
DTSTAMP:20260422T004637
CREATED:20200423T012714Z
LAST-MODIFIED:20200423T012714Z
UID:6223-1804393800-1804393800@theorchardcommunitychurch.com
SUMMARY:Sunday Worship Service
DESCRIPTION:Details
URL:https://theorchardcommunitychurch.com/event/sunday-worship-service/2027-03-07/
LOCATION:The Orchard Community Church\, 1 NORTH ST\,\, GORHAM\, ME\, 04038
CATEGORIES:Church Service
END:VEVENT
BEGIN:VEVENT
DTSTART;TZID=America/New_York:20270307T043000
DTEND;TZID=America/New_York:20270307T043000
DTSTAMP:20260422T004637
CREATED:20220228T000902Z
LAST-MODIFIED:20220228T000902Z
UID:6224-1804393800-1804393800@theorchardcommunitychurch.com
SUMMARY:Worship Service
DESCRIPTION:
URL:https://theorchardcommunitychurch.com/event/worship-service/2027-03-07/
LOCATION:The Orchard Community Church\, 1 NORTH ST\,\, GORHAM\, ME\, 04038
CATEGORIES:Church Service
END:VEVENT
BEGIN:VEVENT
DTSTART;TZID=America/New_York:20270307T043000
DTEND;TZID=America/New_York:20270307T060000
DTSTAMP:20260422T004637
CREATED:20220321T232229Z
LAST-MODIFIED:20220321T232229Z
UID:6226-1804393800-1804399200@theorchardcommunitychurch.com
SUMMARY:Worship Service
DESCRIPTION:
URL:https://theorchardcommunitychurch.com/event/worship-service-4/2027-03-07/
LOCATION:The Orchard Community Church\, 1 NORTH ST\,\, GORHAM\, ME\, 04038
CATEGORIES:Church Service
END:VEVENT
BEGIN:VEVENT
DTSTART;TZID=America/New_York:20270307T093000
DTEND;TZID=America/New_York:20270307T093000
DTSTAMP:20260422T004637
CREATED:20220228T001907Z
LAST-MODIFIED:20220228T001907Z
UID:6225-1804411800-1804411800@theorchardcommunitychurch.com
SUMMARY:Worship Service
DESCRIPTION:
URL:https://theorchardcommunitychurch.com/event/worship-service-2/2027-03-07/
LOCATION:The Orchard Community Church\, 1 NORTH ST\,\, GORHAM\, ME\, 04038
CATEGORIES:Church Service
END:VEVENT
BEGIN:VEVENT
DTSTART;TZID=America/New_York:20270310T130000
DTEND;TZID=America/New_York:20270310T143000
DTSTAMP:20260422T004637
CREATED:20200423T013106Z
LAST-MODIFIED:20200423T013106Z
UID:6227-1804683600-1804689000@theorchardcommunitychurch.com
SUMMARY:Bible Study
DESCRIPTION:If you would like to join or gor more information about our Small Group Bible Study contact us here
URL:https://theorchardcommunitychurch.com/event/bible-study/2027-03-10/
LOCATION:The Orchard Community Church\, 1 NORTH ST\,\, GORHAM\, ME\, 04038
END:VEVENT
BEGIN:VEVENT
DTSTART;TZID=America/New_York:20270313T023000
DTEND;TZID=America/New_York:20270313T040000
DTSTAMP:20260422T004637
CREATED:20200423T011934Z
LAST-MODIFIED:20200423T011934Z
UID:6228-1804905000-1804910400@theorchardcommunitychurch.com
SUMMARY:Women's Group
DESCRIPTION:Details
URL:https://theorchardcommunitychurch.com/event/womens-group/2027-03-13/
LOCATION:The Orchard Community Church\, 1 NORTH ST\,\, GORHAM\, ME\, 04038
CATEGORIES:Women's Group
END:VEVENT
BEGIN:VEVENT
DTSTART;TZID=America/New_York:20270313T023000
DTEND;TZID=America/New_York:20270313T040000
DTSTAMP:20260422T004637
CREATED:20200423T012334Z
LAST-MODIFIED:20200423T012334Z
UID:6229-1804905000-1804910400@theorchardcommunitychurch.com
SUMMARY:Men's Group
DESCRIPTION:Details
URL:https://theorchardcommunitychurch.com/event/mens-group/2027-03-13/
LOCATION:The Orchard Community Church\, 1 NORTH ST\,\, GORHAM\, ME\, 04038
END:VEVENT
BEGIN:VEVENT
DTSTART;TZID=America/New_York:20270314T053000
DTEND;TZID=America/New_York:20270314T053000
DTSTAMP:20260422T004637
CREATED:20200423T012714Z
LAST-MODIFIED:20200423T012714Z
UID:6230-1805002200-1805002200@theorchardcommunitychurch.com
SUMMARY:Sunday Worship Service
DESCRIPTION:Details
URL:https://theorchardcommunitychurch.com/event/sunday-worship-service/2027-03-14/
LOCATION:The Orchard Community Church\, 1 NORTH ST\,\, GORHAM\, ME\, 04038
CATEGORIES:Church Service
END:VEVENT
BEGIN:VEVENT
DTSTART;TZID=America/New_York:20270314T053000
DTEND;TZID=America/New_York:20270314T053000
DTSTAMP:20260422T004637
CREATED:20220228T000902Z
LAST-MODIFIED:20220228T000902Z
UID:6231-1805002200-1805002200@theorchardcommunitychurch.com
SUMMARY:Worship Service
DESCRIPTION:
URL:https://theorchardcommunitychurch.com/event/worship-service/2027-03-14/
LOCATION:The Orchard Community Church\, 1 NORTH ST\,\, GORHAM\, ME\, 04038
CATEGORIES:Church Service
END:VEVENT
BEGIN:VEVENT
DTSTART;TZID=America/New_York:20270314T053000
DTEND;TZID=America/New_York:20270314T070000
DTSTAMP:20260422T004637
CREATED:20220321T232229Z
LAST-MODIFIED:20220321T232229Z
UID:6233-1805002200-1805007600@theorchardcommunitychurch.com
SUMMARY:Worship Service
DESCRIPTION:
URL:https://theorchardcommunitychurch.com/event/worship-service-4/2027-03-14/
LOCATION:The Orchard Community Church\, 1 NORTH ST\,\, GORHAM\, ME\, 04038
CATEGORIES:Church Service
END:VEVENT
BEGIN:VEVENT
DTSTART;TZID=America/New_York:20270314T093000
DTEND;TZID=America/New_York:20270314T093000
DTSTAMP:20260422T004637
CREATED:20220228T001907Z
LAST-MODIFIED:20220228T001907Z
UID:6232-1805016600-1805016600@theorchardcommunitychurch.com
SUMMARY:Worship Service
DESCRIPTION:
URL:https://theorchardcommunitychurch.com/event/worship-service-2/2027-03-14/
LOCATION:The Orchard Community Church\, 1 NORTH ST\,\, GORHAM\, ME\, 04038
CATEGORIES:Church Service
END:VEVENT
BEGIN:VEVENT
DTSTART;TZID=America/New_York:20270317T140000
DTEND;TZID=America/New_York:20270317T153000
DTSTAMP:20260422T004637
CREATED:20200423T013106Z
LAST-MODIFIED:20200423T013106Z
UID:6234-1805292000-1805297400@theorchardcommunitychurch.com
SUMMARY:Bible Study
DESCRIPTION:If you would like to join or gor more information about our Small Group Bible Study contact us here
URL:https://theorchardcommunitychurch.com/event/bible-study/2027-03-17/
LOCATION:The Orchard Community Church\, 1 NORTH ST\,\, GORHAM\, ME\, 04038
END:VEVENT
BEGIN:VEVENT
DTSTART;TZID=America/New_York:20270320T033000
DTEND;TZID=America/New_York:20270320T050000
DTSTAMP:20260422T004637
CREATED:20200423T011934Z
LAST-MODIFIED:20200423T011934Z
UID:6235-1805513400-1805518800@theorchardcommunitychurch.com
SUMMARY:Women's Group
DESCRIPTION:Details
URL:https://theorchardcommunitychurch.com/event/womens-group/2027-03-20/
LOCATION:The Orchard Community Church\, 1 NORTH ST\,\, GORHAM\, ME\, 04038
CATEGORIES:Women's Group
END:VEVENT
END:VCALENDAR