BEGIN:VCALENDAR
VERSION:2.0
PRODID:-//Orchard Community Church - ECPv6.9.0//NONSGML v1.0//EN
CALSCALE:GREGORIAN
METHOD:PUBLISH
X-WR-CALNAME:Orchard Community Church
X-ORIGINAL-URL:https://theorchardcommunitychurch.com
X-WR-CALDESC:Events for Orchard Community Church
REFRESH-INTERVAL;VALUE=DURATION:PT1H
X-Robots-Tag:noindex
X-PUBLISHED-TTL:PT1H
BEGIN:VTIMEZONE
TZID:America/New_York
BEGIN:DAYLIGHT
TZOFFSETFROM:-0500
TZOFFSETTO:-0400
TZNAME:EDT
DTSTART:20250309T070000
END:DAYLIGHT
BEGIN:STANDARD
TZOFFSETFROM:-0400
TZOFFSETTO:-0500
TZNAME:EST
DTSTART:20251102T060000
END:STANDARD
END:VTIMEZONE
BEGIN:VEVENT
DTSTART;TZID=America/New_York:20250601T053000
DTEND;TZID=America/New_York:20250601T070000
DTSTAMP:20260423T065929
CREATED:20220321T232229Z
LAST-MODIFIED:20220321T232229Z
UID:5482-1748755800-1748761200@theorchardcommunitychurch.com
SUMMARY:Worship Service
DESCRIPTION:
URL:https://theorchardcommunitychurch.com/event/worship-service-4/2025-06-01/
LOCATION:The Orchard Community Church\, 1 NORTH ST\,\, GORHAM\, ME\, 04038
CATEGORIES:Church Service
END:VEVENT
BEGIN:VEVENT
DTSTART;TZID=America/New_York:20250601T053000
DTEND;TZID=America/New_York:20250601T053000
DTSTAMP:20260423T065929
CREATED:20220228T000902Z
LAST-MODIFIED:20220228T000902Z
UID:5480-1748755800-1748755800@theorchardcommunitychurch.com
SUMMARY:Worship Service
DESCRIPTION:
URL:https://theorchardcommunitychurch.com/event/worship-service/2025-06-01/
LOCATION:The Orchard Community Church\, 1 NORTH ST\,\, GORHAM\, ME\, 04038
CATEGORIES:Church Service
END:VEVENT
BEGIN:VEVENT
DTSTART;TZID=America/New_York:20250601T053000
DTEND;TZID=America/New_York:20250601T053000
DTSTAMP:20260423T065929
CREATED:20200423T012714Z
LAST-MODIFIED:20200423T012714Z
UID:5479-1748755800-1748755800@theorchardcommunitychurch.com
SUMMARY:Sunday Worship Service
DESCRIPTION:Details
URL:https://theorchardcommunitychurch.com/event/sunday-worship-service/2025-06-01/
LOCATION:The Orchard Community Church\, 1 NORTH ST\,\, GORHAM\, ME\, 04038
CATEGORIES:Church Service
END:VEVENT
BEGIN:VEVENT
DTSTART;TZID=America/New_York:20250531T033000
DTEND;TZID=America/New_York:20250531T050000
DTSTAMP:20260423T065929
CREATED:20200423T012334Z
LAST-MODIFIED:20200423T012334Z
UID:5477-1748662200-1748667600@theorchardcommunitychurch.com
SUMMARY:Men's Group
DESCRIPTION:Details
URL:https://theorchardcommunitychurch.com/event/mens-group/2025-05-31/
LOCATION:The Orchard Community Church\, 1 NORTH ST\,\, GORHAM\, ME\, 04038
END:VEVENT
BEGIN:VEVENT
DTSTART;TZID=America/New_York:20250531T033000
DTEND;TZID=America/New_York:20250531T050000
DTSTAMP:20260423T065929
CREATED:20200423T011934Z
LAST-MODIFIED:20200423T011934Z
UID:5476-1748662200-1748667600@theorchardcommunitychurch.com
SUMMARY:Women's Group
DESCRIPTION:Details
URL:https://theorchardcommunitychurch.com/event/womens-group/2025-05-31/
LOCATION:The Orchard Community Church\, 1 NORTH ST\,\, GORHAM\, ME\, 04038
CATEGORIES:Women's Group
END:VEVENT
BEGIN:VEVENT
DTSTART;TZID=America/New_York:20250528T140000
DTEND;TZID=America/New_York:20250528T153000
DTSTAMP:20260423T065929
CREATED:20200423T013106Z
LAST-MODIFIED:20200423T013106Z
UID:5475-1748440800-1748446200@theorchardcommunitychurch.com
SUMMARY:Bible Study
DESCRIPTION:If you would like to join or gor more information about our Small Group Bible Study contact us here
URL:https://theorchardcommunitychurch.com/event/bible-study/2025-05-28/
LOCATION:The Orchard Community Church\, 1 NORTH ST\,\, GORHAM\, ME\, 04038
END:VEVENT
BEGIN:VEVENT
DTSTART;TZID=America/New_York:20250525T093000
DTEND;TZID=America/New_York:20250525T093000
DTSTAMP:20260423T065929
CREATED:20220228T001907Z
LAST-MODIFIED:20220228T001907Z
UID:5473-1748165400-1748165400@theorchardcommunitychurch.com
SUMMARY:Worship Service
DESCRIPTION:
URL:https://theorchardcommunitychurch.com/event/worship-service-2/2025-05-25/
LOCATION:The Orchard Community Church\, 1 NORTH ST\,\, GORHAM\, ME\, 04038
CATEGORIES:Church Service
END:VEVENT
BEGIN:VEVENT
DTSTART;TZID=America/New_York:20250525T053000
DTEND;TZID=America/New_York:20250525T070000
DTSTAMP:20260423T065929
CREATED:20220321T232229Z
LAST-MODIFIED:20220321T232229Z
UID:5474-1748151000-1748156400@theorchardcommunitychurch.com
SUMMARY:Worship Service
DESCRIPTION:
URL:https://theorchardcommunitychurch.com/event/worship-service-4/2025-05-25/
LOCATION:The Orchard Community Church\, 1 NORTH ST\,\, GORHAM\, ME\, 04038
CATEGORIES:Church Service
END:VEVENT
BEGIN:VEVENT
DTSTART;TZID=America/New_York:20250525T053000
DTEND;TZID=America/New_York:20250525T053000
DTSTAMP:20260423T065929
CREATED:20220228T000902Z
LAST-MODIFIED:20220228T000902Z
UID:5472-1748151000-1748151000@theorchardcommunitychurch.com
SUMMARY:Worship Service
DESCRIPTION:
URL:https://theorchardcommunitychurch.com/event/worship-service/2025-05-25/
LOCATION:The Orchard Community Church\, 1 NORTH ST\,\, GORHAM\, ME\, 04038
CATEGORIES:Church Service
END:VEVENT
BEGIN:VEVENT
DTSTART;TZID=America/New_York:20250525T053000
DTEND;TZID=America/New_York:20250525T053000
DTSTAMP:20260423T065929
CREATED:20200423T012714Z
LAST-MODIFIED:20200423T012714Z
UID:5471-1748151000-1748151000@theorchardcommunitychurch.com
SUMMARY:Sunday Worship Service
DESCRIPTION:Details
URL:https://theorchardcommunitychurch.com/event/sunday-worship-service/2025-05-25/
LOCATION:The Orchard Community Church\, 1 NORTH ST\,\, GORHAM\, ME\, 04038
CATEGORIES:Church Service
END:VEVENT
BEGIN:VEVENT
DTSTART;TZID=America/New_York:20250524T033000
DTEND;TZID=America/New_York:20250524T050000
DTSTAMP:20260423T065929
CREATED:20200423T012334Z
LAST-MODIFIED:20200423T012334Z
UID:5470-1748057400-1748062800@theorchardcommunitychurch.com
SUMMARY:Men's Group
DESCRIPTION:Details
URL:https://theorchardcommunitychurch.com/event/mens-group/2025-05-24/
LOCATION:The Orchard Community Church\, 1 NORTH ST\,\, GORHAM\, ME\, 04038
END:VEVENT
BEGIN:VEVENT
DTSTART;TZID=America/New_York:20250524T033000
DTEND;TZID=America/New_York:20250524T050000
DTSTAMP:20260423T065929
CREATED:20200423T011934Z
LAST-MODIFIED:20200423T011934Z
UID:5469-1748057400-1748062800@theorchardcommunitychurch.com
SUMMARY:Women's Group
DESCRIPTION:Details
URL:https://theorchardcommunitychurch.com/event/womens-group/2025-05-24/
LOCATION:The Orchard Community Church\, 1 NORTH ST\,\, GORHAM\, ME\, 04038
CATEGORIES:Women's Group
END:VEVENT
BEGIN:VEVENT
DTSTART;TZID=America/New_York:20250521T140000
DTEND;TZID=America/New_York:20250521T153000
DTSTAMP:20260423T065929
CREATED:20200423T013106Z
LAST-MODIFIED:20200423T013106Z
UID:5468-1747836000-1747841400@theorchardcommunitychurch.com
SUMMARY:Bible Study
DESCRIPTION:If you would like to join or gor more information about our Small Group Bible Study contact us here
URL:https://theorchardcommunitychurch.com/event/bible-study/2025-05-21/
LOCATION:The Orchard Community Church\, 1 NORTH ST\,\, GORHAM\, ME\, 04038
END:VEVENT
BEGIN:VEVENT
DTSTART;TZID=America/New_York:20250518T093000
DTEND;TZID=America/New_York:20250518T093000
DTSTAMP:20260423T065929
CREATED:20220228T001907Z
LAST-MODIFIED:20220228T001907Z
UID:5466-1747560600-1747560600@theorchardcommunitychurch.com
SUMMARY:Worship Service
DESCRIPTION:
URL:https://theorchardcommunitychurch.com/event/worship-service-2/2025-05-18/
LOCATION:The Orchard Community Church\, 1 NORTH ST\,\, GORHAM\, ME\, 04038
CATEGORIES:Church Service
END:VEVENT
BEGIN:VEVENT
DTSTART;TZID=America/New_York:20250518T053000
DTEND;TZID=America/New_York:20250518T070000
DTSTAMP:20260423T065929
CREATED:20220321T232229Z
LAST-MODIFIED:20220321T232229Z
UID:5467-1747546200-1747551600@theorchardcommunitychurch.com
SUMMARY:Worship Service
DESCRIPTION:
URL:https://theorchardcommunitychurch.com/event/worship-service-4/2025-05-18/
LOCATION:The Orchard Community Church\, 1 NORTH ST\,\, GORHAM\, ME\, 04038
CATEGORIES:Church Service
END:VEVENT
BEGIN:VEVENT
DTSTART;TZID=America/New_York:20250518T053000
DTEND;TZID=America/New_York:20250518T053000
DTSTAMP:20260423T065929
CREATED:20220228T000902Z
LAST-MODIFIED:20220228T000902Z
UID:5465-1747546200-1747546200@theorchardcommunitychurch.com
SUMMARY:Worship Service
DESCRIPTION:
URL:https://theorchardcommunitychurch.com/event/worship-service/2025-05-18/
LOCATION:The Orchard Community Church\, 1 NORTH ST\,\, GORHAM\, ME\, 04038
CATEGORIES:Church Service
END:VEVENT
BEGIN:VEVENT
DTSTART;TZID=America/New_York:20250518T053000
DTEND;TZID=America/New_York:20250518T053000
DTSTAMP:20260423T065929
CREATED:20200423T012714Z
LAST-MODIFIED:20200423T012714Z
UID:5464-1747546200-1747546200@theorchardcommunitychurch.com
SUMMARY:Sunday Worship Service
DESCRIPTION:Details
URL:https://theorchardcommunitychurch.com/event/sunday-worship-service/2025-05-18/
LOCATION:The Orchard Community Church\, 1 NORTH ST\,\, GORHAM\, ME\, 04038
CATEGORIES:Church Service
END:VEVENT
BEGIN:VEVENT
DTSTART;TZID=America/New_York:20250517T033000
DTEND;TZID=America/New_York:20250517T050000
DTSTAMP:20260423T065929
CREATED:20200423T012334Z
LAST-MODIFIED:20200423T012334Z
UID:5463-1747452600-1747458000@theorchardcommunitychurch.com
SUMMARY:Men's Group
DESCRIPTION:Details
URL:https://theorchardcommunitychurch.com/event/mens-group/2025-05-17/
LOCATION:The Orchard Community Church\, 1 NORTH ST\,\, GORHAM\, ME\, 04038
END:VEVENT
BEGIN:VEVENT
DTSTART;TZID=America/New_York:20250517T033000
DTEND;TZID=America/New_York:20250517T050000
DTSTAMP:20260423T065929
CREATED:20200423T011934Z
LAST-MODIFIED:20200423T011934Z
UID:5462-1747452600-1747458000@theorchardcommunitychurch.com
SUMMARY:Women's Group
DESCRIPTION:Details
URL:https://theorchardcommunitychurch.com/event/womens-group/2025-05-17/
LOCATION:The Orchard Community Church\, 1 NORTH ST\,\, GORHAM\, ME\, 04038
CATEGORIES:Women's Group
END:VEVENT
BEGIN:VEVENT
DTSTART;TZID=America/New_York:20250514T140000
DTEND;TZID=America/New_York:20250514T153000
DTSTAMP:20260423T065929
CREATED:20200423T013106Z
LAST-MODIFIED:20200423T013106Z
UID:5461-1747231200-1747236600@theorchardcommunitychurch.com
SUMMARY:Bible Study
DESCRIPTION:If you would like to join or gor more information about our Small Group Bible Study contact us here
URL:https://theorchardcommunitychurch.com/event/bible-study/2025-05-14/
LOCATION:The Orchard Community Church\, 1 NORTH ST\,\, GORHAM\, ME\, 04038
END:VEVENT
BEGIN:VEVENT
DTSTART;TZID=America/New_York:20250511T093000
DTEND;TZID=America/New_York:20250511T093000
DTSTAMP:20260423T065929
CREATED:20220228T001907Z
LAST-MODIFIED:20220228T001907Z
UID:5451-1746955800-1746955800@theorchardcommunitychurch.com
SUMMARY:Worship Service
DESCRIPTION:
URL:https://theorchardcommunitychurch.com/event/worship-service-2/2025-05-11/
LOCATION:The Orchard Community Church\, 1 NORTH ST\,\, GORHAM\, ME\, 04038
CATEGORIES:Church Service
END:VEVENT
BEGIN:VEVENT
DTSTART;TZID=America/New_York:20250511T053000
DTEND;TZID=America/New_York:20250511T070000
DTSTAMP:20260423T065929
CREATED:20220321T232229Z
LAST-MODIFIED:20220321T232229Z
UID:5452-1746941400-1746946800@theorchardcommunitychurch.com
SUMMARY:Worship Service
DESCRIPTION:
URL:https://theorchardcommunitychurch.com/event/worship-service-4/2025-05-11/
LOCATION:The Orchard Community Church\, 1 NORTH ST\,\, GORHAM\, ME\, 04038
CATEGORIES:Church Service
END:VEVENT
BEGIN:VEVENT
DTSTART;TZID=America/New_York:20250511T053000
DTEND;TZID=America/New_York:20250511T053000
DTSTAMP:20260423T065929
CREATED:20220228T000902Z
LAST-MODIFIED:20220228T000902Z
UID:5450-1746941400-1746941400@theorchardcommunitychurch.com
SUMMARY:Worship Service
DESCRIPTION:
URL:https://theorchardcommunitychurch.com/event/worship-service/2025-05-11/
LOCATION:The Orchard Community Church\, 1 NORTH ST\,\, GORHAM\, ME\, 04038
CATEGORIES:Church Service
END:VEVENT
BEGIN:VEVENT
DTSTART;TZID=America/New_York:20250511T053000
DTEND;TZID=America/New_York:20250511T053000
DTSTAMP:20260423T065929
CREATED:20200423T012714Z
LAST-MODIFIED:20200423T012714Z
UID:5449-1746941400-1746941400@theorchardcommunitychurch.com
SUMMARY:Sunday Worship Service
DESCRIPTION:Details
URL:https://theorchardcommunitychurch.com/event/sunday-worship-service/2025-05-11/
LOCATION:The Orchard Community Church\, 1 NORTH ST\,\, GORHAM\, ME\, 04038
CATEGORIES:Church Service
END:VEVENT
BEGIN:VEVENT
DTSTART;TZID=America/New_York:20250510T033000
DTEND;TZID=America/New_York:20250510T050000
DTSTAMP:20260423T065929
CREATED:20200423T012334Z
LAST-MODIFIED:20200423T012334Z
UID:5448-1746847800-1746853200@theorchardcommunitychurch.com
SUMMARY:Men's Group
DESCRIPTION:Details
URL:https://theorchardcommunitychurch.com/event/mens-group/2025-05-10/
LOCATION:The Orchard Community Church\, 1 NORTH ST\,\, GORHAM\, ME\, 04038
END:VEVENT
BEGIN:VEVENT
DTSTART;TZID=America/New_York:20250510T033000
DTEND;TZID=America/New_York:20250510T050000
DTSTAMP:20260423T065929
CREATED:20200423T011934Z
LAST-MODIFIED:20200423T011934Z
UID:5447-1746847800-1746853200@theorchardcommunitychurch.com
SUMMARY:Women's Group
DESCRIPTION:Details
URL:https://theorchardcommunitychurch.com/event/womens-group/2025-05-10/
LOCATION:The Orchard Community Church\, 1 NORTH ST\,\, GORHAM\, ME\, 04038
CATEGORIES:Women's Group
END:VEVENT
BEGIN:VEVENT
DTSTART;TZID=America/New_York:20250507T140000
DTEND;TZID=America/New_York:20250507T153000
DTSTAMP:20260423T065929
CREATED:20200423T013106Z
LAST-MODIFIED:20200423T013106Z
UID:5446-1746626400-1746631800@theorchardcommunitychurch.com
SUMMARY:Bible Study
DESCRIPTION:If you would like to join or gor more information about our Small Group Bible Study contact us here
URL:https://theorchardcommunitychurch.com/event/bible-study/2025-05-07/
LOCATION:The Orchard Community Church\, 1 NORTH ST\,\, GORHAM\, ME\, 04038
END:VEVENT
BEGIN:VEVENT
DTSTART;TZID=America/New_York:20250504T093000
DTEND;TZID=America/New_York:20250504T093000
DTSTAMP:20260423T065929
CREATED:20220228T001907Z
LAST-MODIFIED:20220228T001907Z
UID:5444-1746351000-1746351000@theorchardcommunitychurch.com
SUMMARY:Worship Service
DESCRIPTION:
URL:https://theorchardcommunitychurch.com/event/worship-service-2/2025-05-04/
LOCATION:The Orchard Community Church\, 1 NORTH ST\,\, GORHAM\, ME\, 04038
CATEGORIES:Church Service
END:VEVENT
BEGIN:VEVENT
DTSTART;TZID=America/New_York:20250504T053000
DTEND;TZID=America/New_York:20250504T070000
DTSTAMP:20260423T065929
CREATED:20220321T232229Z
LAST-MODIFIED:20220321T232229Z
UID:5445-1746336600-1746342000@theorchardcommunitychurch.com
SUMMARY:Worship Service
DESCRIPTION:
URL:https://theorchardcommunitychurch.com/event/worship-service-4/2025-05-04/
LOCATION:The Orchard Community Church\, 1 NORTH ST\,\, GORHAM\, ME\, 04038
CATEGORIES:Church Service
END:VEVENT
BEGIN:VEVENT
DTSTART;TZID=America/New_York:20250504T053000
DTEND;TZID=America/New_York:20250504T053000
DTSTAMP:20260423T065929
CREATED:20220228T000902Z
LAST-MODIFIED:20220228T000902Z
UID:5443-1746336600-1746336600@theorchardcommunitychurch.com
SUMMARY:Worship Service
DESCRIPTION:
URL:https://theorchardcommunitychurch.com/event/worship-service/2025-05-04/
LOCATION:The Orchard Community Church\, 1 NORTH ST\,\, GORHAM\, ME\, 04038
CATEGORIES:Church Service
END:VEVENT
END:VCALENDAR