BEGIN:VCALENDAR
VERSION:2.0
PRODID:-//Orchard Community Church - ECPv6.9.0//NONSGML v1.0//EN
CALSCALE:GREGORIAN
METHOD:PUBLISH
X-ORIGINAL-URL:https://theorchardcommunitychurch.com
X-WR-CALDESC:Events for Orchard Community Church
REFRESH-INTERVAL;VALUE=DURATION:PT1H
X-Robots-Tag:noindex
X-PUBLISHED-TTL:PT1H
BEGIN:VTIMEZONE
TZID:America/New_York
BEGIN:DAYLIGHT
TZOFFSETFROM:-0500
TZOFFSETTO:-0400
TZNAME:EDT
DTSTART:20270314T070000
END:DAYLIGHT
BEGIN:STANDARD
TZOFFSETFROM:-0400
TZOFFSETTO:-0500
TZNAME:EST
DTSTART:20271107T060000
END:STANDARD
END:VTIMEZONE
BEGIN:VEVENT
DTSTART;TZID=America/New_York:20270314T053000
DTEND;TZID=America/New_York:20270314T053000
DTSTAMP:20260422T042210
CREATED:20200423T012714Z
LAST-MODIFIED:20200423T012714Z
UID:6230-1805002200-1805002200@theorchardcommunitychurch.com
SUMMARY:Sunday Worship Service
DESCRIPTION:Details
URL:https://theorchardcommunitychurch.com/event/sunday-worship-service/2027-03-14/
LOCATION:The Orchard Community Church\, 1 NORTH ST\,\, GORHAM\, ME\, 04038
CATEGORIES:Church Service
END:VEVENT
BEGIN:VEVENT
DTSTART;TZID=America/New_York:20270314T053000
DTEND;TZID=America/New_York:20270314T053000
DTSTAMP:20260422T042210
CREATED:20220228T000902Z
LAST-MODIFIED:20220228T000902Z
UID:6231-1805002200-1805002200@theorchardcommunitychurch.com
SUMMARY:Worship Service
DESCRIPTION:
URL:https://theorchardcommunitychurch.com/event/worship-service/2027-03-14/
LOCATION:The Orchard Community Church\, 1 NORTH ST\,\, GORHAM\, ME\, 04038
CATEGORIES:Church Service
END:VEVENT
BEGIN:VEVENT
DTSTART;TZID=America/New_York:20270314T053000
DTEND;TZID=America/New_York:20270314T070000
DTSTAMP:20260422T042210
CREATED:20220321T232229Z
LAST-MODIFIED:20220321T232229Z
UID:6233-1805002200-1805007600@theorchardcommunitychurch.com
SUMMARY:Worship Service
DESCRIPTION:
URL:https://theorchardcommunitychurch.com/event/worship-service-4/2027-03-14/
LOCATION:The Orchard Community Church\, 1 NORTH ST\,\, GORHAM\, ME\, 04038
CATEGORIES:Church Service
END:VEVENT
BEGIN:VEVENT
DTSTART;TZID=America/New_York:20270314T093000
DTEND;TZID=America/New_York:20270314T093000
DTSTAMP:20260422T042210
CREATED:20220228T001907Z
LAST-MODIFIED:20220228T001907Z
UID:6232-1805016600-1805016600@theorchardcommunitychurch.com
SUMMARY:Worship Service
DESCRIPTION:
URL:https://theorchardcommunitychurch.com/event/worship-service-2/2027-03-14/
LOCATION:The Orchard Community Church\, 1 NORTH ST\,\, GORHAM\, ME\, 04038
CATEGORIES:Church Service
END:VEVENT
BEGIN:VEVENT
DTSTART;TZID=America/New_York:20270317T140000
DTEND;TZID=America/New_York:20270317T153000
DTSTAMP:20260422T042210
CREATED:20200423T013106Z
LAST-MODIFIED:20200423T013106Z
UID:6234-1805292000-1805297400@theorchardcommunitychurch.com
SUMMARY:Bible Study
DESCRIPTION:If you would like to join or gor more information about our Small Group Bible Study contact us here
URL:https://theorchardcommunitychurch.com/event/bible-study/2027-03-17/
LOCATION:The Orchard Community Church\, 1 NORTH ST\,\, GORHAM\, ME\, 04038
END:VEVENT
BEGIN:VEVENT
DTSTART;TZID=America/New_York:20270320T033000
DTEND;TZID=America/New_York:20270320T050000
DTSTAMP:20260422T042210
CREATED:20200423T011934Z
LAST-MODIFIED:20200423T011934Z
UID:6235-1805513400-1805518800@theorchardcommunitychurch.com
SUMMARY:Women's Group
DESCRIPTION:Details
URL:https://theorchardcommunitychurch.com/event/womens-group/2027-03-20/
LOCATION:The Orchard Community Church\, 1 NORTH ST\,\, GORHAM\, ME\, 04038
CATEGORIES:Women's Group
END:VEVENT
BEGIN:VEVENT
DTSTART;TZID=America/New_York:20270320T033000
DTEND;TZID=America/New_York:20270320T050000
DTSTAMP:20260422T042210
CREATED:20200423T012334Z
LAST-MODIFIED:20200423T012334Z
UID:6236-1805513400-1805518800@theorchardcommunitychurch.com
SUMMARY:Men's Group
DESCRIPTION:Details
URL:https://theorchardcommunitychurch.com/event/mens-group/2027-03-20/
LOCATION:The Orchard Community Church\, 1 NORTH ST\,\, GORHAM\, ME\, 04038
END:VEVENT
BEGIN:VEVENT
DTSTART;TZID=America/New_York:20270321T053000
DTEND;TZID=America/New_York:20270321T053000
DTSTAMP:20260422T042210
CREATED:20200423T012714Z
LAST-MODIFIED:20200423T012714Z
UID:6237-1805607000-1805607000@theorchardcommunitychurch.com
SUMMARY:Sunday Worship Service
DESCRIPTION:Details
URL:https://theorchardcommunitychurch.com/event/sunday-worship-service/2027-03-21/
LOCATION:The Orchard Community Church\, 1 NORTH ST\,\, GORHAM\, ME\, 04038
CATEGORIES:Church Service
END:VEVENT
BEGIN:VEVENT
DTSTART;TZID=America/New_York:20270321T053000
DTEND;TZID=America/New_York:20270321T053000
DTSTAMP:20260422T042210
CREATED:20220228T000902Z
LAST-MODIFIED:20220228T000902Z
UID:6238-1805607000-1805607000@theorchardcommunitychurch.com
SUMMARY:Worship Service
DESCRIPTION:
URL:https://theorchardcommunitychurch.com/event/worship-service/2027-03-21/
LOCATION:The Orchard Community Church\, 1 NORTH ST\,\, GORHAM\, ME\, 04038
CATEGORIES:Church Service
END:VEVENT
BEGIN:VEVENT
DTSTART;TZID=America/New_York:20270321T053000
DTEND;TZID=America/New_York:20270321T070000
DTSTAMP:20260422T042210
CREATED:20220321T232229Z
LAST-MODIFIED:20220321T232229Z
UID:6240-1805607000-1805612400@theorchardcommunitychurch.com
SUMMARY:Worship Service
DESCRIPTION:
URL:https://theorchardcommunitychurch.com/event/worship-service-4/2027-03-21/
LOCATION:The Orchard Community Church\, 1 NORTH ST\,\, GORHAM\, ME\, 04038
CATEGORIES:Church Service
END:VEVENT
BEGIN:VEVENT
DTSTART;TZID=America/New_York:20270321T093000
DTEND;TZID=America/New_York:20270321T093000
DTSTAMP:20260422T042210
CREATED:20220228T001907Z
LAST-MODIFIED:20220228T001907Z
UID:6239-1805621400-1805621400@theorchardcommunitychurch.com
SUMMARY:Worship Service
DESCRIPTION:
URL:https://theorchardcommunitychurch.com/event/worship-service-2/2027-03-21/
LOCATION:The Orchard Community Church\, 1 NORTH ST\,\, GORHAM\, ME\, 04038
CATEGORIES:Church Service
END:VEVENT
BEGIN:VEVENT
DTSTART;TZID=America/New_York:20270324T140000
DTEND;TZID=America/New_York:20270324T153000
DTSTAMP:20260422T042210
CREATED:20200423T013106Z
LAST-MODIFIED:20200423T013106Z
UID:6241-1805896800-1805902200@theorchardcommunitychurch.com
SUMMARY:Bible Study
DESCRIPTION:If you would like to join or gor more information about our Small Group Bible Study contact us here
URL:https://theorchardcommunitychurch.com/event/bible-study/2027-03-24/
LOCATION:The Orchard Community Church\, 1 NORTH ST\,\, GORHAM\, ME\, 04038
END:VEVENT
BEGIN:VEVENT
DTSTART;TZID=America/New_York:20270327T033000
DTEND;TZID=America/New_York:20270327T050000
DTSTAMP:20260422T042210
CREATED:20200423T011934Z
LAST-MODIFIED:20200423T011934Z
UID:6242-1806118200-1806123600@theorchardcommunitychurch.com
SUMMARY:Women's Group
DESCRIPTION:Details
URL:https://theorchardcommunitychurch.com/event/womens-group/2027-03-27/
LOCATION:The Orchard Community Church\, 1 NORTH ST\,\, GORHAM\, ME\, 04038
CATEGORIES:Women's Group
END:VEVENT
BEGIN:VEVENT
DTSTART;TZID=America/New_York:20270327T033000
DTEND;TZID=America/New_York:20270327T050000
DTSTAMP:20260422T042210
CREATED:20200423T012334Z
LAST-MODIFIED:20200423T012334Z
UID:6243-1806118200-1806123600@theorchardcommunitychurch.com
SUMMARY:Men's Group
DESCRIPTION:Details
URL:https://theorchardcommunitychurch.com/event/mens-group/2027-03-27/
LOCATION:The Orchard Community Church\, 1 NORTH ST\,\, GORHAM\, ME\, 04038
END:VEVENT
BEGIN:VEVENT
DTSTART;TZID=America/New_York:20270328T053000
DTEND;TZID=America/New_York:20270328T053000
DTSTAMP:20260422T042210
CREATED:20200423T012714Z
LAST-MODIFIED:20200423T012714Z
UID:6244-1806211800-1806211800@theorchardcommunitychurch.com
SUMMARY:Sunday Worship Service
DESCRIPTION:Details
URL:https://theorchardcommunitychurch.com/event/sunday-worship-service/2027-03-28/
LOCATION:The Orchard Community Church\, 1 NORTH ST\,\, GORHAM\, ME\, 04038
CATEGORIES:Church Service
END:VEVENT
BEGIN:VEVENT
DTSTART;TZID=America/New_York:20270328T053000
DTEND;TZID=America/New_York:20270328T053000
DTSTAMP:20260422T042210
CREATED:20220228T000902Z
LAST-MODIFIED:20220228T000902Z
UID:6245-1806211800-1806211800@theorchardcommunitychurch.com
SUMMARY:Worship Service
DESCRIPTION:
URL:https://theorchardcommunitychurch.com/event/worship-service/2027-03-28/
LOCATION:The Orchard Community Church\, 1 NORTH ST\,\, GORHAM\, ME\, 04038
CATEGORIES:Church Service
END:VEVENT
BEGIN:VEVENT
DTSTART;TZID=America/New_York:20270328T053000
DTEND;TZID=America/New_York:20270328T070000
DTSTAMP:20260422T042210
CREATED:20220321T232229Z
LAST-MODIFIED:20220321T232229Z
UID:6247-1806211800-1806217200@theorchardcommunitychurch.com
SUMMARY:Worship Service
DESCRIPTION:
URL:https://theorchardcommunitychurch.com/event/worship-service-4/2027-03-28/
LOCATION:The Orchard Community Church\, 1 NORTH ST\,\, GORHAM\, ME\, 04038
CATEGORIES:Church Service
END:VEVENT
BEGIN:VEVENT
DTSTART;TZID=America/New_York:20270328T093000
DTEND;TZID=America/New_York:20270328T093000
DTSTAMP:20260422T042210
CREATED:20220228T001907Z
LAST-MODIFIED:20220228T001907Z
UID:6246-1806226200-1806226200@theorchardcommunitychurch.com
SUMMARY:Worship Service
DESCRIPTION:
URL:https://theorchardcommunitychurch.com/event/worship-service-2/2027-03-28/
LOCATION:The Orchard Community Church\, 1 NORTH ST\,\, GORHAM\, ME\, 04038
CATEGORIES:Church Service
END:VEVENT
BEGIN:VEVENT
DTSTART;TZID=America/New_York:20270331T140000
DTEND;TZID=America/New_York:20270331T153000
DTSTAMP:20260422T042210
CREATED:20200423T013106Z
LAST-MODIFIED:20200423T013106Z
UID:6248-1806501600-1806507000@theorchardcommunitychurch.com
SUMMARY:Bible Study
DESCRIPTION:If you would like to join or gor more information about our Small Group Bible Study contact us here
URL:https://theorchardcommunitychurch.com/event/bible-study/2027-03-31/
LOCATION:The Orchard Community Church\, 1 NORTH ST\,\, GORHAM\, ME\, 04038
END:VEVENT
BEGIN:VEVENT
DTSTART;TZID=America/New_York:20270403T033000
DTEND;TZID=America/New_York:20270403T050000
DTSTAMP:20260422T042210
CREATED:20200423T011934Z
LAST-MODIFIED:20200423T011934Z
UID:6249-1806723000-1806728400@theorchardcommunitychurch.com
SUMMARY:Women's Group
DESCRIPTION:Details
URL:https://theorchardcommunitychurch.com/event/womens-group/2027-04-03/
LOCATION:The Orchard Community Church\, 1 NORTH ST\,\, GORHAM\, ME\, 04038
CATEGORIES:Women's Group
END:VEVENT
BEGIN:VEVENT
DTSTART;TZID=America/New_York:20270403T033000
DTEND;TZID=America/New_York:20270403T050000
DTSTAMP:20260422T042210
CREATED:20200423T012334Z
LAST-MODIFIED:20200423T012334Z
UID:6250-1806723000-1806728400@theorchardcommunitychurch.com
SUMMARY:Men's Group
DESCRIPTION:Details
URL:https://theorchardcommunitychurch.com/event/mens-group/2027-04-03/
LOCATION:The Orchard Community Church\, 1 NORTH ST\,\, GORHAM\, ME\, 04038
END:VEVENT
BEGIN:VEVENT
DTSTART;TZID=America/New_York:20270404T053000
DTEND;TZID=America/New_York:20270404T053000
DTSTAMP:20260422T042210
CREATED:20200423T012714Z
LAST-MODIFIED:20200423T012714Z
UID:6251-1806816600-1806816600@theorchardcommunitychurch.com
SUMMARY:Sunday Worship Service
DESCRIPTION:Details
URL:https://theorchardcommunitychurch.com/event/sunday-worship-service/2027-04-04/
LOCATION:The Orchard Community Church\, 1 NORTH ST\,\, GORHAM\, ME\, 04038
CATEGORIES:Church Service
END:VEVENT
BEGIN:VEVENT
DTSTART;TZID=America/New_York:20270404T053000
DTEND;TZID=America/New_York:20270404T053000
DTSTAMP:20260422T042210
CREATED:20220228T000902Z
LAST-MODIFIED:20220228T000902Z
UID:6252-1806816600-1806816600@theorchardcommunitychurch.com
SUMMARY:Worship Service
DESCRIPTION:
URL:https://theorchardcommunitychurch.com/event/worship-service/2027-04-04/
LOCATION:The Orchard Community Church\, 1 NORTH ST\,\, GORHAM\, ME\, 04038
CATEGORIES:Church Service
END:VEVENT
BEGIN:VEVENT
DTSTART;TZID=America/New_York:20270404T053000
DTEND;TZID=America/New_York:20270404T070000
DTSTAMP:20260422T042210
CREATED:20220321T232229Z
LAST-MODIFIED:20220321T232229Z
UID:6254-1806816600-1806822000@theorchardcommunitychurch.com
SUMMARY:Worship Service
DESCRIPTION:
URL:https://theorchardcommunitychurch.com/event/worship-service-4/2027-04-04/
LOCATION:The Orchard Community Church\, 1 NORTH ST\,\, GORHAM\, ME\, 04038
CATEGORIES:Church Service
END:VEVENT
BEGIN:VEVENT
DTSTART;TZID=America/New_York:20270404T093000
DTEND;TZID=America/New_York:20270404T093000
DTSTAMP:20260422T042210
CREATED:20220228T001907Z
LAST-MODIFIED:20220228T001907Z
UID:6253-1806831000-1806831000@theorchardcommunitychurch.com
SUMMARY:Worship Service
DESCRIPTION:
URL:https://theorchardcommunitychurch.com/event/worship-service-2/2027-04-04/
LOCATION:The Orchard Community Church\, 1 NORTH ST\,\, GORHAM\, ME\, 04038
CATEGORIES:Church Service
END:VEVENT
BEGIN:VEVENT
DTSTART;TZID=America/New_York:20270407T140000
DTEND;TZID=America/New_York:20270407T153000
DTSTAMP:20260422T042210
CREATED:20200423T013106Z
LAST-MODIFIED:20200423T013106Z
UID:6255-1807106400-1807111800@theorchardcommunitychurch.com
SUMMARY:Bible Study
DESCRIPTION:If you would like to join or gor more information about our Small Group Bible Study contact us here
URL:https://theorchardcommunitychurch.com/event/bible-study/2027-04-07/
LOCATION:The Orchard Community Church\, 1 NORTH ST\,\, GORHAM\, ME\, 04038
END:VEVENT
BEGIN:VEVENT
DTSTART;TZID=America/New_York:20270410T033000
DTEND;TZID=America/New_York:20270410T050000
DTSTAMP:20260422T042210
CREATED:20200423T011934Z
LAST-MODIFIED:20200423T011934Z
UID:6256-1807327800-1807333200@theorchardcommunitychurch.com
SUMMARY:Women's Group
DESCRIPTION:Details
URL:https://theorchardcommunitychurch.com/event/womens-group/2027-04-10/
LOCATION:The Orchard Community Church\, 1 NORTH ST\,\, GORHAM\, ME\, 04038
CATEGORIES:Women's Group
END:VEVENT
BEGIN:VEVENT
DTSTART;TZID=America/New_York:20270410T033000
DTEND;TZID=America/New_York:20270410T050000
DTSTAMP:20260422T042210
CREATED:20200423T012334Z
LAST-MODIFIED:20200423T012334Z
UID:6257-1807327800-1807333200@theorchardcommunitychurch.com
SUMMARY:Men's Group
DESCRIPTION:Details
URL:https://theorchardcommunitychurch.com/event/mens-group/2027-04-10/
LOCATION:The Orchard Community Church\, 1 NORTH ST\,\, GORHAM\, ME\, 04038
END:VEVENT
BEGIN:VEVENT
DTSTART;TZID=America/New_York:20270411T053000
DTEND;TZID=America/New_York:20270411T053000
DTSTAMP:20260422T042210
CREATED:20200423T012714Z
LAST-MODIFIED:20200423T012714Z
UID:6258-1807421400-1807421400@theorchardcommunitychurch.com
SUMMARY:Sunday Worship Service
DESCRIPTION:Details
URL:https://theorchardcommunitychurch.com/event/sunday-worship-service/2027-04-11/
LOCATION:The Orchard Community Church\, 1 NORTH ST\,\, GORHAM\, ME\, 04038
CATEGORIES:Church Service
END:VEVENT
BEGIN:VEVENT
DTSTART;TZID=America/New_York:20270411T053000
DTEND;TZID=America/New_York:20270411T053000
DTSTAMP:20260422T042210
CREATED:20220228T000902Z
LAST-MODIFIED:20220228T000902Z
UID:6259-1807421400-1807421400@theorchardcommunitychurch.com
SUMMARY:Worship Service
DESCRIPTION:
URL:https://theorchardcommunitychurch.com/event/worship-service/2027-04-11/
LOCATION:The Orchard Community Church\, 1 NORTH ST\,\, GORHAM\, ME\, 04038
CATEGORIES:Church Service
END:VEVENT
END:VCALENDAR