BEGIN:VCALENDAR
VERSION:2.0
PRODID:-//Orchard Community Church - ECPv6.9.0//NONSGML v1.0//EN
CALSCALE:GREGORIAN
METHOD:PUBLISH
X-WR-CALNAME:Orchard Community Church
X-ORIGINAL-URL:https://theorchardcommunitychurch.com
X-WR-CALDESC:Events for Orchard Community Church
REFRESH-INTERVAL;VALUE=DURATION:PT1H
X-Robots-Tag:noindex
X-PUBLISHED-TTL:PT1H
BEGIN:VTIMEZONE
TZID:America/New_York
BEGIN:DAYLIGHT
TZOFFSETFROM:-0500
TZOFFSETTO:-0400
TZNAME:EDT
DTSTART:20270314T070000
END:DAYLIGHT
BEGIN:STANDARD
TZOFFSETFROM:-0400
TZOFFSETTO:-0500
TZNAME:EST
DTSTART:20271107T060000
END:STANDARD
END:VTIMEZONE
BEGIN:VEVENT
DTSTART;TZID=America/New_York:20270501T033000
DTEND;TZID=America/New_York:20270501T050000
DTSTAMP:20260422T113605
CREATED:20200423T012334Z
LAST-MODIFIED:20200423T012334Z
UID:6278-1809142200-1809147600@theorchardcommunitychurch.com
SUMMARY:Men's Group
DESCRIPTION:Details
URL:https://theorchardcommunitychurch.com/event/mens-group/2027-05-01/
LOCATION:The Orchard Community Church\, 1 NORTH ST\,\, GORHAM\, ME\, 04038
END:VEVENT
BEGIN:VEVENT
DTSTART;TZID=America/New_York:20270502T053000
DTEND;TZID=America/New_York:20270502T053000
DTSTAMP:20260422T113605
CREATED:20200423T012714Z
LAST-MODIFIED:20200423T012714Z
UID:6279-1809235800-1809235800@theorchardcommunitychurch.com
SUMMARY:Sunday Worship Service
DESCRIPTION:Details
URL:https://theorchardcommunitychurch.com/event/sunday-worship-service/2027-05-02/
LOCATION:The Orchard Community Church\, 1 NORTH ST\,\, GORHAM\, ME\, 04038
CATEGORIES:Church Service
END:VEVENT
BEGIN:VEVENT
DTSTART;TZID=America/New_York:20270502T053000
DTEND;TZID=America/New_York:20270502T053000
DTSTAMP:20260422T113605
CREATED:20220228T000902Z
LAST-MODIFIED:20220228T000902Z
UID:6280-1809235800-1809235800@theorchardcommunitychurch.com
SUMMARY:Worship Service
DESCRIPTION:
URL:https://theorchardcommunitychurch.com/event/worship-service/2027-05-02/
LOCATION:The Orchard Community Church\, 1 NORTH ST\,\, GORHAM\, ME\, 04038
CATEGORIES:Church Service
END:VEVENT
BEGIN:VEVENT
DTSTART;TZID=America/New_York:20270502T053000
DTEND;TZID=America/New_York:20270502T070000
DTSTAMP:20260422T113605
CREATED:20220321T232229Z
LAST-MODIFIED:20220321T232229Z
UID:6282-1809235800-1809241200@theorchardcommunitychurch.com
SUMMARY:Worship Service
DESCRIPTION:
URL:https://theorchardcommunitychurch.com/event/worship-service-4/2027-05-02/
LOCATION:The Orchard Community Church\, 1 NORTH ST\,\, GORHAM\, ME\, 04038
CATEGORIES:Church Service
END:VEVENT
BEGIN:VEVENT
DTSTART;TZID=America/New_York:20270502T093000
DTEND;TZID=America/New_York:20270502T093000
DTSTAMP:20260422T113605
CREATED:20220228T001907Z
LAST-MODIFIED:20220228T001907Z
UID:6281-1809250200-1809250200@theorchardcommunitychurch.com
SUMMARY:Worship Service
DESCRIPTION:
URL:https://theorchardcommunitychurch.com/event/worship-service-2/2027-05-02/
LOCATION:The Orchard Community Church\, 1 NORTH ST\,\, GORHAM\, ME\, 04038
CATEGORIES:Church Service
END:VEVENT
BEGIN:VEVENT
DTSTART;TZID=America/New_York:20270505T140000
DTEND;TZID=America/New_York:20270505T153000
DTSTAMP:20260422T113605
CREATED:20200423T013106Z
LAST-MODIFIED:20200423T013106Z
UID:6283-1809525600-1809531000@theorchardcommunitychurch.com
SUMMARY:Bible Study
DESCRIPTION:If you would like to join or gor more information about our Small Group Bible Study contact us here
URL:https://theorchardcommunitychurch.com/event/bible-study/2027-05-05/
LOCATION:The Orchard Community Church\, 1 NORTH ST\,\, GORHAM\, ME\, 04038
END:VEVENT
BEGIN:VEVENT
DTSTART;TZID=America/New_York:20270508T033000
DTEND;TZID=America/New_York:20270508T050000
DTSTAMP:20260422T113605
CREATED:20200423T011934Z
LAST-MODIFIED:20200423T011934Z
UID:6284-1809747000-1809752400@theorchardcommunitychurch.com
SUMMARY:Women's Group
DESCRIPTION:Details
URL:https://theorchardcommunitychurch.com/event/womens-group/2027-05-08/
LOCATION:The Orchard Community Church\, 1 NORTH ST\,\, GORHAM\, ME\, 04038
CATEGORIES:Women's Group
END:VEVENT
BEGIN:VEVENT
DTSTART;TZID=America/New_York:20270508T033000
DTEND;TZID=America/New_York:20270508T050000
DTSTAMP:20260422T113605
CREATED:20200423T012334Z
LAST-MODIFIED:20200423T012334Z
UID:6285-1809747000-1809752400@theorchardcommunitychurch.com
SUMMARY:Men's Group
DESCRIPTION:Details
URL:https://theorchardcommunitychurch.com/event/mens-group/2027-05-08/
LOCATION:The Orchard Community Church\, 1 NORTH ST\,\, GORHAM\, ME\, 04038
END:VEVENT
BEGIN:VEVENT
DTSTART;TZID=America/New_York:20270509T053000
DTEND;TZID=America/New_York:20270509T053000
DTSTAMP:20260422T113605
CREATED:20200423T012714Z
LAST-MODIFIED:20200423T012714Z
UID:6286-1809840600-1809840600@theorchardcommunitychurch.com
SUMMARY:Sunday Worship Service
DESCRIPTION:Details
URL:https://theorchardcommunitychurch.com/event/sunday-worship-service/2027-05-09/
LOCATION:The Orchard Community Church\, 1 NORTH ST\,\, GORHAM\, ME\, 04038
CATEGORIES:Church Service
END:VEVENT
BEGIN:VEVENT
DTSTART;TZID=America/New_York:20270509T053000
DTEND;TZID=America/New_York:20270509T053000
DTSTAMP:20260422T113605
CREATED:20220228T000902Z
LAST-MODIFIED:20220228T000902Z
UID:6287-1809840600-1809840600@theorchardcommunitychurch.com
SUMMARY:Worship Service
DESCRIPTION:
URL:https://theorchardcommunitychurch.com/event/worship-service/2027-05-09/
LOCATION:The Orchard Community Church\, 1 NORTH ST\,\, GORHAM\, ME\, 04038
CATEGORIES:Church Service
END:VEVENT
BEGIN:VEVENT
DTSTART;TZID=America/New_York:20270509T053000
DTEND;TZID=America/New_York:20270509T070000
DTSTAMP:20260422T113605
CREATED:20220321T232229Z
LAST-MODIFIED:20220321T232229Z
UID:6289-1809840600-1809846000@theorchardcommunitychurch.com
SUMMARY:Worship Service
DESCRIPTION:
URL:https://theorchardcommunitychurch.com/event/worship-service-4/2027-05-09/
LOCATION:The Orchard Community Church\, 1 NORTH ST\,\, GORHAM\, ME\, 04038
CATEGORIES:Church Service
END:VEVENT
BEGIN:VEVENT
DTSTART;TZID=America/New_York:20270509T093000
DTEND;TZID=America/New_York:20270509T093000
DTSTAMP:20260422T113605
CREATED:20220228T001907Z
LAST-MODIFIED:20220228T001907Z
UID:6288-1809855000-1809855000@theorchardcommunitychurch.com
SUMMARY:Worship Service
DESCRIPTION:
URL:https://theorchardcommunitychurch.com/event/worship-service-2/2027-05-09/
LOCATION:The Orchard Community Church\, 1 NORTH ST\,\, GORHAM\, ME\, 04038
CATEGORIES:Church Service
END:VEVENT
BEGIN:VEVENT
DTSTART;TZID=America/New_York:20270512T140000
DTEND;TZID=America/New_York:20270512T153000
DTSTAMP:20260422T113605
CREATED:20200423T013106Z
LAST-MODIFIED:20200423T013106Z
UID:6290-1810130400-1810135800@theorchardcommunitychurch.com
SUMMARY:Bible Study
DESCRIPTION:If you would like to join or gor more information about our Small Group Bible Study contact us here
URL:https://theorchardcommunitychurch.com/event/bible-study/2027-05-12/
LOCATION:The Orchard Community Church\, 1 NORTH ST\,\, GORHAM\, ME\, 04038
END:VEVENT
BEGIN:VEVENT
DTSTART;TZID=America/New_York:20270515T033000
DTEND;TZID=America/New_York:20270515T050000
DTSTAMP:20260422T113605
CREATED:20200423T011934Z
LAST-MODIFIED:20200423T011934Z
UID:6291-1810351800-1810357200@theorchardcommunitychurch.com
SUMMARY:Women's Group
DESCRIPTION:Details
URL:https://theorchardcommunitychurch.com/event/womens-group/2027-05-15/
LOCATION:The Orchard Community Church\, 1 NORTH ST\,\, GORHAM\, ME\, 04038
CATEGORIES:Women's Group
END:VEVENT
BEGIN:VEVENT
DTSTART;TZID=America/New_York:20270515T033000
DTEND;TZID=America/New_York:20270515T050000
DTSTAMP:20260422T113605
CREATED:20200423T012334Z
LAST-MODIFIED:20200423T012334Z
UID:6292-1810351800-1810357200@theorchardcommunitychurch.com
SUMMARY:Men's Group
DESCRIPTION:Details
URL:https://theorchardcommunitychurch.com/event/mens-group/2027-05-15/
LOCATION:The Orchard Community Church\, 1 NORTH ST\,\, GORHAM\, ME\, 04038
END:VEVENT
BEGIN:VEVENT
DTSTART;TZID=America/New_York:20270516T053000
DTEND;TZID=America/New_York:20270516T053000
DTSTAMP:20260422T113605
CREATED:20200423T012714Z
LAST-MODIFIED:20200423T012714Z
UID:6293-1810445400-1810445400@theorchardcommunitychurch.com
SUMMARY:Sunday Worship Service
DESCRIPTION:Details
URL:https://theorchardcommunitychurch.com/event/sunday-worship-service/2027-05-16/
LOCATION:The Orchard Community Church\, 1 NORTH ST\,\, GORHAM\, ME\, 04038
CATEGORIES:Church Service
END:VEVENT
BEGIN:VEVENT
DTSTART;TZID=America/New_York:20270516T053000
DTEND;TZID=America/New_York:20270516T053000
DTSTAMP:20260422T113605
CREATED:20220228T000902Z
LAST-MODIFIED:20220228T000902Z
UID:6294-1810445400-1810445400@theorchardcommunitychurch.com
SUMMARY:Worship Service
DESCRIPTION:
URL:https://theorchardcommunitychurch.com/event/worship-service/2027-05-16/
LOCATION:The Orchard Community Church\, 1 NORTH ST\,\, GORHAM\, ME\, 04038
CATEGORIES:Church Service
END:VEVENT
BEGIN:VEVENT
DTSTART;TZID=America/New_York:20270516T053000
DTEND;TZID=America/New_York:20270516T070000
DTSTAMP:20260422T113605
CREATED:20220321T232229Z
LAST-MODIFIED:20220321T232229Z
UID:6296-1810445400-1810450800@theorchardcommunitychurch.com
SUMMARY:Worship Service
DESCRIPTION:
URL:https://theorchardcommunitychurch.com/event/worship-service-4/2027-05-16/
LOCATION:The Orchard Community Church\, 1 NORTH ST\,\, GORHAM\, ME\, 04038
CATEGORIES:Church Service
END:VEVENT
BEGIN:VEVENT
DTSTART;TZID=America/New_York:20270516T093000
DTEND;TZID=America/New_York:20270516T093000
DTSTAMP:20260422T113605
CREATED:20220228T001907Z
LAST-MODIFIED:20220228T001907Z
UID:6295-1810459800-1810459800@theorchardcommunitychurch.com
SUMMARY:Worship Service
DESCRIPTION:
URL:https://theorchardcommunitychurch.com/event/worship-service-2/2027-05-16/
LOCATION:The Orchard Community Church\, 1 NORTH ST\,\, GORHAM\, ME\, 04038
CATEGORIES:Church Service
END:VEVENT
BEGIN:VEVENT
DTSTART;TZID=America/New_York:20270519T140000
DTEND;TZID=America/New_York:20270519T153000
DTSTAMP:20260422T113605
CREATED:20200423T013106Z
LAST-MODIFIED:20200423T013106Z
UID:6297-1810735200-1810740600@theorchardcommunitychurch.com
SUMMARY:Bible Study
DESCRIPTION:If you would like to join or gor more information about our Small Group Bible Study contact us here
URL:https://theorchardcommunitychurch.com/event/bible-study/2027-05-19/
LOCATION:The Orchard Community Church\, 1 NORTH ST\,\, GORHAM\, ME\, 04038
END:VEVENT
BEGIN:VEVENT
DTSTART;TZID=America/New_York:20270522T033000
DTEND;TZID=America/New_York:20270522T050000
DTSTAMP:20260422T113605
CREATED:20200423T011934Z
LAST-MODIFIED:20200423T011934Z
UID:6298-1810956600-1810962000@theorchardcommunitychurch.com
SUMMARY:Women's Group
DESCRIPTION:Details
URL:https://theorchardcommunitychurch.com/event/womens-group/2027-05-22/
LOCATION:The Orchard Community Church\, 1 NORTH ST\,\, GORHAM\, ME\, 04038
CATEGORIES:Women's Group
END:VEVENT
BEGIN:VEVENT
DTSTART;TZID=America/New_York:20270522T033000
DTEND;TZID=America/New_York:20270522T050000
DTSTAMP:20260422T113605
CREATED:20200423T012334Z
LAST-MODIFIED:20200423T012334Z
UID:6299-1810956600-1810962000@theorchardcommunitychurch.com
SUMMARY:Men's Group
DESCRIPTION:Details
URL:https://theorchardcommunitychurch.com/event/mens-group/2027-05-22/
LOCATION:The Orchard Community Church\, 1 NORTH ST\,\, GORHAM\, ME\, 04038
END:VEVENT
BEGIN:VEVENT
DTSTART;TZID=America/New_York:20270523T053000
DTEND;TZID=America/New_York:20270523T053000
DTSTAMP:20260422T113605
CREATED:20200423T012714Z
LAST-MODIFIED:20200423T012714Z
UID:6300-1811050200-1811050200@theorchardcommunitychurch.com
SUMMARY:Sunday Worship Service
DESCRIPTION:Details
URL:https://theorchardcommunitychurch.com/event/sunday-worship-service/2027-05-23/
LOCATION:The Orchard Community Church\, 1 NORTH ST\,\, GORHAM\, ME\, 04038
CATEGORIES:Church Service
END:VEVENT
BEGIN:VEVENT
DTSTART;TZID=America/New_York:20270523T053000
DTEND;TZID=America/New_York:20270523T053000
DTSTAMP:20260422T113605
CREATED:20220228T000902Z
LAST-MODIFIED:20220228T000902Z
UID:6301-1811050200-1811050200@theorchardcommunitychurch.com
SUMMARY:Worship Service
DESCRIPTION:
URL:https://theorchardcommunitychurch.com/event/worship-service/2027-05-23/
LOCATION:The Orchard Community Church\, 1 NORTH ST\,\, GORHAM\, ME\, 04038
CATEGORIES:Church Service
END:VEVENT
BEGIN:VEVENT
DTSTART;TZID=America/New_York:20270523T053000
DTEND;TZID=America/New_York:20270523T070000
DTSTAMP:20260422T113605
CREATED:20220321T232229Z
LAST-MODIFIED:20220321T232229Z
UID:6303-1811050200-1811055600@theorchardcommunitychurch.com
SUMMARY:Worship Service
DESCRIPTION:
URL:https://theorchardcommunitychurch.com/event/worship-service-4/2027-05-23/
LOCATION:The Orchard Community Church\, 1 NORTH ST\,\, GORHAM\, ME\, 04038
CATEGORIES:Church Service
END:VEVENT
BEGIN:VEVENT
DTSTART;TZID=America/New_York:20270523T093000
DTEND;TZID=America/New_York:20270523T093000
DTSTAMP:20260422T113605
CREATED:20220228T001907Z
LAST-MODIFIED:20220228T001907Z
UID:6302-1811064600-1811064600@theorchardcommunitychurch.com
SUMMARY:Worship Service
DESCRIPTION:
URL:https://theorchardcommunitychurch.com/event/worship-service-2/2027-05-23/
LOCATION:The Orchard Community Church\, 1 NORTH ST\,\, GORHAM\, ME\, 04038
CATEGORIES:Church Service
END:VEVENT
BEGIN:VEVENT
DTSTART;TZID=America/New_York:20270526T140000
DTEND;TZID=America/New_York:20270526T153000
DTSTAMP:20260422T113605
CREATED:20200423T013106Z
LAST-MODIFIED:20200423T013106Z
UID:6304-1811340000-1811345400@theorchardcommunitychurch.com
SUMMARY:Bible Study
DESCRIPTION:If you would like to join or gor more information about our Small Group Bible Study contact us here
URL:https://theorchardcommunitychurch.com/event/bible-study/2027-05-26/
LOCATION:The Orchard Community Church\, 1 NORTH ST\,\, GORHAM\, ME\, 04038
END:VEVENT
BEGIN:VEVENT
DTSTART;TZID=America/New_York:20270529T033000
DTEND;TZID=America/New_York:20270529T050000
DTSTAMP:20260422T113605
CREATED:20200423T011934Z
LAST-MODIFIED:20200423T011934Z
UID:6305-1811561400-1811566800@theorchardcommunitychurch.com
SUMMARY:Women's Group
DESCRIPTION:Details
URL:https://theorchardcommunitychurch.com/event/womens-group/2027-05-29/
LOCATION:The Orchard Community Church\, 1 NORTH ST\,\, GORHAM\, ME\, 04038
CATEGORIES:Women's Group
END:VEVENT
BEGIN:VEVENT
DTSTART;TZID=America/New_York:20270529T033000
DTEND;TZID=America/New_York:20270529T050000
DTSTAMP:20260422T113605
CREATED:20200423T012334Z
LAST-MODIFIED:20200423T012334Z
UID:6306-1811561400-1811566800@theorchardcommunitychurch.com
SUMMARY:Men's Group
DESCRIPTION:Details
URL:https://theorchardcommunitychurch.com/event/mens-group/2027-05-29/
LOCATION:The Orchard Community Church\, 1 NORTH ST\,\, GORHAM\, ME\, 04038
END:VEVENT
BEGIN:VEVENT
DTSTART;TZID=America/New_York:20270530T053000
DTEND;TZID=America/New_York:20270530T053000
DTSTAMP:20260422T113605
CREATED:20200423T012714Z
LAST-MODIFIED:20200423T012714Z
UID:6307-1811655000-1811655000@theorchardcommunitychurch.com
SUMMARY:Sunday Worship Service
DESCRIPTION:Details
URL:https://theorchardcommunitychurch.com/event/sunday-worship-service/2027-05-30/
LOCATION:The Orchard Community Church\, 1 NORTH ST\,\, GORHAM\, ME\, 04038
CATEGORIES:Church Service
END:VEVENT
END:VCALENDAR