BEGIN:VCALENDAR
VERSION:2.0
PRODID:-//Orchard Community Church - ECPv6.9.0//NONSGML v1.0//EN
CALSCALE:GREGORIAN
METHOD:PUBLISH
X-WR-CALNAME:Orchard Community Church
X-ORIGINAL-URL:https://theorchardcommunitychurch.com
X-WR-CALDESC:Events for Orchard Community Church
REFRESH-INTERVAL;VALUE=DURATION:PT1H
X-Robots-Tag:noindex
X-PUBLISHED-TTL:PT1H
BEGIN:VTIMEZONE
TZID:America/New_York
BEGIN:DAYLIGHT
TZOFFSETFROM:-0500
TZOFFSETTO:-0400
TZNAME:EDT
DTSTART:20250309T070000
END:DAYLIGHT
BEGIN:STANDARD
TZOFFSETFROM:-0400
TZOFFSETTO:-0500
TZNAME:EST
DTSTART:20251102T060000
END:STANDARD
END:VTIMEZONE
BEGIN:VEVENT
DTSTART;TZID=America/New_York:20250323T053000
DTEND;TZID=America/New_York:20250323T053000
DTSTAMP:20260423T160334
CREATED:20200423T012714Z
LAST-MODIFIED:20200423T012714Z
UID:5356-1742707800-1742707800@theorchardcommunitychurch.com
SUMMARY:Sunday Worship Service
DESCRIPTION:Details
URL:https://theorchardcommunitychurch.com/event/sunday-worship-service/2025-03-23/
LOCATION:The Orchard Community Church\, 1 NORTH ST\,\, GORHAM\, ME\, 04038
CATEGORIES:Church Service
END:VEVENT
BEGIN:VEVENT
DTSTART;TZID=America/New_York:20250322T033000
DTEND;TZID=America/New_York:20250322T050000
DTSTAMP:20260423T160334
CREATED:20200423T012334Z
LAST-MODIFIED:20200423T012334Z
UID:5355-1742614200-1742619600@theorchardcommunitychurch.com
SUMMARY:Men's Group
DESCRIPTION:Details
URL:https://theorchardcommunitychurch.com/event/mens-group/2025-03-22/
LOCATION:The Orchard Community Church\, 1 NORTH ST\,\, GORHAM\, ME\, 04038
END:VEVENT
BEGIN:VEVENT
DTSTART;TZID=America/New_York:20250322T033000
DTEND;TZID=America/New_York:20250322T050000
DTSTAMP:20260423T160334
CREATED:20200423T011934Z
LAST-MODIFIED:20200423T011934Z
UID:5354-1742614200-1742619600@theorchardcommunitychurch.com
SUMMARY:Women's Group
DESCRIPTION:Details
URL:https://theorchardcommunitychurch.com/event/womens-group/2025-03-22/
LOCATION:The Orchard Community Church\, 1 NORTH ST\,\, GORHAM\, ME\, 04038
CATEGORIES:Women's Group
END:VEVENT
BEGIN:VEVENT
DTSTART;TZID=America/New_York:20250319T140000
DTEND;TZID=America/New_York:20250319T153000
DTSTAMP:20260423T160334
CREATED:20200423T013106Z
LAST-MODIFIED:20200423T013106Z
UID:5353-1742392800-1742398200@theorchardcommunitychurch.com
SUMMARY:Bible Study
DESCRIPTION:If you would like to join or gor more information about our Small Group Bible Study contact us here
URL:https://theorchardcommunitychurch.com/event/bible-study/2025-03-19/
LOCATION:The Orchard Community Church\, 1 NORTH ST\,\, GORHAM\, ME\, 04038
END:VEVENT
BEGIN:VEVENT
DTSTART;TZID=America/New_York:20250316T093000
DTEND;TZID=America/New_York:20250316T093000
DTSTAMP:20260423T160334
CREATED:20220228T001907Z
LAST-MODIFIED:20220228T001907Z
UID:5351-1742117400-1742117400@theorchardcommunitychurch.com
SUMMARY:Worship Service
DESCRIPTION:
URL:https://theorchardcommunitychurch.com/event/worship-service-2/2025-03-16/
LOCATION:The Orchard Community Church\, 1 NORTH ST\,\, GORHAM\, ME\, 04038
CATEGORIES:Church Service
END:VEVENT
BEGIN:VEVENT
DTSTART;TZID=America/New_York:20250316T053000
DTEND;TZID=America/New_York:20250316T070000
DTSTAMP:20260423T160334
CREATED:20220321T232229Z
LAST-MODIFIED:20220321T232229Z
UID:5352-1742103000-1742108400@theorchardcommunitychurch.com
SUMMARY:Worship Service
DESCRIPTION:
URL:https://theorchardcommunitychurch.com/event/worship-service-4/2025-03-16/
LOCATION:The Orchard Community Church\, 1 NORTH ST\,\, GORHAM\, ME\, 04038
CATEGORIES:Church Service
END:VEVENT
BEGIN:VEVENT
DTSTART;TZID=America/New_York:20250316T053000
DTEND;TZID=America/New_York:20250316T053000
DTSTAMP:20260423T160334
CREATED:20220228T000902Z
LAST-MODIFIED:20220228T000902Z
UID:5350-1742103000-1742103000@theorchardcommunitychurch.com
SUMMARY:Worship Service
DESCRIPTION:
URL:https://theorchardcommunitychurch.com/event/worship-service/2025-03-16/
LOCATION:The Orchard Community Church\, 1 NORTH ST\,\, GORHAM\, ME\, 04038
CATEGORIES:Church Service
END:VEVENT
BEGIN:VEVENT
DTSTART;TZID=America/New_York:20250316T053000
DTEND;TZID=America/New_York:20250316T053000
DTSTAMP:20260423T160334
CREATED:20200423T012714Z
LAST-MODIFIED:20200423T012714Z
UID:5349-1742103000-1742103000@theorchardcommunitychurch.com
SUMMARY:Sunday Worship Service
DESCRIPTION:Details
URL:https://theorchardcommunitychurch.com/event/sunday-worship-service/2025-03-16/
LOCATION:The Orchard Community Church\, 1 NORTH ST\,\, GORHAM\, ME\, 04038
CATEGORIES:Church Service
END:VEVENT
BEGIN:VEVENT
DTSTART;TZID=America/New_York:20250315T033000
DTEND;TZID=America/New_York:20250315T050000
DTSTAMP:20260423T160334
CREATED:20200423T012334Z
LAST-MODIFIED:20200423T012334Z
UID:5348-1742009400-1742014800@theorchardcommunitychurch.com
SUMMARY:Men's Group
DESCRIPTION:Details
URL:https://theorchardcommunitychurch.com/event/mens-group/2025-03-15/
LOCATION:The Orchard Community Church\, 1 NORTH ST\,\, GORHAM\, ME\, 04038
END:VEVENT
BEGIN:VEVENT
DTSTART;TZID=America/New_York:20250315T033000
DTEND;TZID=America/New_York:20250315T050000
DTSTAMP:20260423T160334
CREATED:20200423T011934Z
LAST-MODIFIED:20200423T011934Z
UID:5347-1742009400-1742014800@theorchardcommunitychurch.com
SUMMARY:Women's Group
DESCRIPTION:Details
URL:https://theorchardcommunitychurch.com/event/womens-group/2025-03-15/
LOCATION:The Orchard Community Church\, 1 NORTH ST\,\, GORHAM\, ME\, 04038
CATEGORIES:Women's Group
END:VEVENT
BEGIN:VEVENT
DTSTART;TZID=America/New_York:20250312T140000
DTEND;TZID=America/New_York:20250312T153000
DTSTAMP:20260423T160334
CREATED:20200423T013106Z
LAST-MODIFIED:20200423T013106Z
UID:5346-1741788000-1741793400@theorchardcommunitychurch.com
SUMMARY:Bible Study
DESCRIPTION:If you would like to join or gor more information about our Small Group Bible Study contact us here
URL:https://theorchardcommunitychurch.com/event/bible-study/2025-03-12/
LOCATION:The Orchard Community Church\, 1 NORTH ST\,\, GORHAM\, ME\, 04038
END:VEVENT
BEGIN:VEVENT
DTSTART;TZID=America/New_York:20250309T093000
DTEND;TZID=America/New_York:20250309T093000
DTSTAMP:20260423T160334
CREATED:20220228T001907Z
LAST-MODIFIED:20220228T001907Z
UID:5344-1741512600-1741512600@theorchardcommunitychurch.com
SUMMARY:Worship Service
DESCRIPTION:
URL:https://theorchardcommunitychurch.com/event/worship-service-2/2025-03-09/
LOCATION:The Orchard Community Church\, 1 NORTH ST\,\, GORHAM\, ME\, 04038
CATEGORIES:Church Service
END:VEVENT
BEGIN:VEVENT
DTSTART;TZID=America/New_York:20250309T053000
DTEND;TZID=America/New_York:20250309T070000
DTSTAMP:20260423T160334
CREATED:20220321T232229Z
LAST-MODIFIED:20220321T232229Z
UID:5345-1741498200-1741503600@theorchardcommunitychurch.com
SUMMARY:Worship Service
DESCRIPTION:
URL:https://theorchardcommunitychurch.com/event/worship-service-4/2025-03-09/
LOCATION:The Orchard Community Church\, 1 NORTH ST\,\, GORHAM\, ME\, 04038
CATEGORIES:Church Service
END:VEVENT
BEGIN:VEVENT
DTSTART;TZID=America/New_York:20250309T053000
DTEND;TZID=America/New_York:20250309T053000
DTSTAMP:20260423T160334
CREATED:20220228T000902Z
LAST-MODIFIED:20220228T000902Z
UID:5343-1741498200-1741498200@theorchardcommunitychurch.com
SUMMARY:Worship Service
DESCRIPTION:
URL:https://theorchardcommunitychurch.com/event/worship-service/2025-03-09/
LOCATION:The Orchard Community Church\, 1 NORTH ST\,\, GORHAM\, ME\, 04038
CATEGORIES:Church Service
END:VEVENT
BEGIN:VEVENT
DTSTART;TZID=America/New_York:20250309T053000
DTEND;TZID=America/New_York:20250309T053000
DTSTAMP:20260423T160334
CREATED:20200423T012714Z
LAST-MODIFIED:20200423T012714Z
UID:5342-1741498200-1741498200@theorchardcommunitychurch.com
SUMMARY:Sunday Worship Service
DESCRIPTION:Details
URL:https://theorchardcommunitychurch.com/event/sunday-worship-service/2025-03-09/
LOCATION:The Orchard Community Church\, 1 NORTH ST\,\, GORHAM\, ME\, 04038
CATEGORIES:Church Service
END:VEVENT
BEGIN:VEVENT
DTSTART;TZID=America/New_York:20250308T023000
DTEND;TZID=America/New_York:20250308T040000
DTSTAMP:20260423T160334
CREATED:20200423T012334Z
LAST-MODIFIED:20200423T012334Z
UID:5341-1741401000-1741406400@theorchardcommunitychurch.com
SUMMARY:Men's Group
DESCRIPTION:Details
URL:https://theorchardcommunitychurch.com/event/mens-group/2025-03-08/
LOCATION:The Orchard Community Church\, 1 NORTH ST\,\, GORHAM\, ME\, 04038
END:VEVENT
BEGIN:VEVENT
DTSTART;TZID=America/New_York:20250308T023000
DTEND;TZID=America/New_York:20250308T040000
DTSTAMP:20260423T160334
CREATED:20200423T011934Z
LAST-MODIFIED:20200423T011934Z
UID:5340-1741401000-1741406400@theorchardcommunitychurch.com
SUMMARY:Women's Group
DESCRIPTION:Details
URL:https://theorchardcommunitychurch.com/event/womens-group/2025-03-08/
LOCATION:The Orchard Community Church\, 1 NORTH ST\,\, GORHAM\, ME\, 04038
CATEGORIES:Women's Group
END:VEVENT
BEGIN:VEVENT
DTSTART;TZID=America/New_York:20250305T130000
DTEND;TZID=America/New_York:20250305T143000
DTSTAMP:20260423T160334
CREATED:20200423T013106Z
LAST-MODIFIED:20200423T013106Z
UID:5339-1741179600-1741185000@theorchardcommunitychurch.com
SUMMARY:Bible Study
DESCRIPTION:If you would like to join or gor more information about our Small Group Bible Study contact us here
URL:https://theorchardcommunitychurch.com/event/bible-study/2025-03-05/
LOCATION:The Orchard Community Church\, 1 NORTH ST\,\, GORHAM\, ME\, 04038
END:VEVENT
BEGIN:VEVENT
DTSTART;TZID=America/New_York:20250302T093000
DTEND;TZID=America/New_York:20250302T093000
DTSTAMP:20260423T160334
CREATED:20220228T001907Z
LAST-MODIFIED:20220228T001907Z
UID:5337-1740907800-1740907800@theorchardcommunitychurch.com
SUMMARY:Worship Service
DESCRIPTION:
URL:https://theorchardcommunitychurch.com/event/worship-service-2/2025-03-02/
LOCATION:The Orchard Community Church\, 1 NORTH ST\,\, GORHAM\, ME\, 04038
CATEGORIES:Church Service
END:VEVENT
BEGIN:VEVENT
DTSTART;TZID=America/New_York:20250302T043000
DTEND;TZID=America/New_York:20250302T060000
DTSTAMP:20260423T160334
CREATED:20220321T232229Z
LAST-MODIFIED:20220321T232229Z
UID:5338-1740889800-1740895200@theorchardcommunitychurch.com
SUMMARY:Worship Service
DESCRIPTION:
URL:https://theorchardcommunitychurch.com/event/worship-service-4/2025-03-02/
LOCATION:The Orchard Community Church\, 1 NORTH ST\,\, GORHAM\, ME\, 04038
CATEGORIES:Church Service
END:VEVENT
BEGIN:VEVENT
DTSTART;TZID=America/New_York:20250302T043000
DTEND;TZID=America/New_York:20250302T043000
DTSTAMP:20260423T160334
CREATED:20220228T000902Z
LAST-MODIFIED:20220228T000902Z
UID:5336-1740889800-1740889800@theorchardcommunitychurch.com
SUMMARY:Worship Service
DESCRIPTION:
URL:https://theorchardcommunitychurch.com/event/worship-service/2025-03-02/
LOCATION:The Orchard Community Church\, 1 NORTH ST\,\, GORHAM\, ME\, 04038
CATEGORIES:Church Service
END:VEVENT
BEGIN:VEVENT
DTSTART;TZID=America/New_York:20250302T043000
DTEND;TZID=America/New_York:20250302T043000
DTSTAMP:20260423T160334
CREATED:20200423T012714Z
LAST-MODIFIED:20200423T012714Z
UID:5335-1740889800-1740889800@theorchardcommunitychurch.com
SUMMARY:Sunday Worship Service
DESCRIPTION:Details
URL:https://theorchardcommunitychurch.com/event/sunday-worship-service/2025-03-02/
LOCATION:The Orchard Community Church\, 1 NORTH ST\,\, GORHAM\, ME\, 04038
CATEGORIES:Church Service
END:VEVENT
BEGIN:VEVENT
DTSTART;TZID=America/New_York:20250301T023000
DTEND;TZID=America/New_York:20250301T040000
DTSTAMP:20260423T160334
CREATED:20200423T012334Z
LAST-MODIFIED:20200423T012334Z
UID:5334-1740796200-1740801600@theorchardcommunitychurch.com
SUMMARY:Men's Group
DESCRIPTION:Details
URL:https://theorchardcommunitychurch.com/event/mens-group/2025-03-01/
LOCATION:The Orchard Community Church\, 1 NORTH ST\,\, GORHAM\, ME\, 04038
END:VEVENT
BEGIN:VEVENT
DTSTART;TZID=America/New_York:20250301T023000
DTEND;TZID=America/New_York:20250301T040000
DTSTAMP:20260423T160334
CREATED:20200423T011934Z
LAST-MODIFIED:20200423T011934Z
UID:5333-1740796200-1740801600@theorchardcommunitychurch.com
SUMMARY:Women's Group
DESCRIPTION:Details
URL:https://theorchardcommunitychurch.com/event/womens-group/2025-03-01/
LOCATION:The Orchard Community Church\, 1 NORTH ST\,\, GORHAM\, ME\, 04038
CATEGORIES:Women's Group
END:VEVENT
BEGIN:VEVENT
DTSTART;TZID=America/New_York:20250226T130000
DTEND;TZID=America/New_York:20250226T143000
DTSTAMP:20260423T160334
CREATED:20200423T013106Z
LAST-MODIFIED:20200423T013106Z
UID:5332-1740574800-1740580200@theorchardcommunitychurch.com
SUMMARY:Bible Study
DESCRIPTION:If you would like to join or gor more information about our Small Group Bible Study contact us here
URL:https://theorchardcommunitychurch.com/event/bible-study/2025-02-26/
LOCATION:The Orchard Community Church\, 1 NORTH ST\,\, GORHAM\, ME\, 04038
END:VEVENT
BEGIN:VEVENT
DTSTART;TZID=America/New_York:20250223T093000
DTEND;TZID=America/New_York:20250223T093000
DTSTAMP:20260423T160334
CREATED:20220228T001907Z
LAST-MODIFIED:20220228T001907Z
UID:5330-1740303000-1740303000@theorchardcommunitychurch.com
SUMMARY:Worship Service
DESCRIPTION:
URL:https://theorchardcommunitychurch.com/event/worship-service-2/2025-02-23/
LOCATION:The Orchard Community Church\, 1 NORTH ST\,\, GORHAM\, ME\, 04038
CATEGORIES:Church Service
END:VEVENT
BEGIN:VEVENT
DTSTART;TZID=America/New_York:20250223T043000
DTEND;TZID=America/New_York:20250223T060000
DTSTAMP:20260423T160334
CREATED:20220321T232229Z
LAST-MODIFIED:20220321T232229Z
UID:5331-1740285000-1740290400@theorchardcommunitychurch.com
SUMMARY:Worship Service
DESCRIPTION:
URL:https://theorchardcommunitychurch.com/event/worship-service-4/2025-02-23/
LOCATION:The Orchard Community Church\, 1 NORTH ST\,\, GORHAM\, ME\, 04038
CATEGORIES:Church Service
END:VEVENT
BEGIN:VEVENT
DTSTART;TZID=America/New_York:20250223T043000
DTEND;TZID=America/New_York:20250223T043000
DTSTAMP:20260423T160334
CREATED:20220228T000902Z
LAST-MODIFIED:20220228T000902Z
UID:5329-1740285000-1740285000@theorchardcommunitychurch.com
SUMMARY:Worship Service
DESCRIPTION:
URL:https://theorchardcommunitychurch.com/event/worship-service/2025-02-23/
LOCATION:The Orchard Community Church\, 1 NORTH ST\,\, GORHAM\, ME\, 04038
CATEGORIES:Church Service
END:VEVENT
BEGIN:VEVENT
DTSTART;TZID=America/New_York:20250223T043000
DTEND;TZID=America/New_York:20250223T043000
DTSTAMP:20260423T160334
CREATED:20200423T012714Z
LAST-MODIFIED:20200423T012714Z
UID:5328-1740285000-1740285000@theorchardcommunitychurch.com
SUMMARY:Sunday Worship Service
DESCRIPTION:Details
URL:https://theorchardcommunitychurch.com/event/sunday-worship-service/2025-02-23/
LOCATION:The Orchard Community Church\, 1 NORTH ST\,\, GORHAM\, ME\, 04038
CATEGORIES:Church Service
END:VEVENT
BEGIN:VEVENT
DTSTART;TZID=America/New_York:20250222T023000
DTEND;TZID=America/New_York:20250222T040000
DTSTAMP:20260423T160334
CREATED:20200423T012334Z
LAST-MODIFIED:20200423T012334Z
UID:5327-1740191400-1740196800@theorchardcommunitychurch.com
SUMMARY:Men's Group
DESCRIPTION:Details
URL:https://theorchardcommunitychurch.com/event/mens-group/2025-02-22/
LOCATION:The Orchard Community Church\, 1 NORTH ST\,\, GORHAM\, ME\, 04038
END:VEVENT
END:VCALENDAR