BEGIN:VCALENDAR
VERSION:2.0
PRODID:-//Orchard Community Church - ECPv6.9.0//NONSGML v1.0//EN
CALSCALE:GREGORIAN
METHOD:PUBLISH
X-ORIGINAL-URL:https://theorchardcommunitychurch.com
X-WR-CALDESC:Events for Orchard Community Church
REFRESH-INTERVAL;VALUE=DURATION:PT1H
X-Robots-Tag:noindex
X-PUBLISHED-TTL:PT1H
BEGIN:VTIMEZONE
TZID:America/New_York
BEGIN:DAYLIGHT
TZOFFSETFROM:-0500
TZOFFSETTO:-0400
TZNAME:EDT
DTSTART:20270314T070000
END:DAYLIGHT
BEGIN:STANDARD
TZOFFSETFROM:-0400
TZOFFSETTO:-0500
TZNAME:EST
DTSTART:20271107T060000
END:STANDARD
END:VTIMEZONE
BEGIN:VEVENT
DTSTART;TZID=America/New_York:20270606T053000
DTEND;TZID=America/New_York:20270606T053000
DTSTAMP:20260422T165519
CREATED:20220228T000902Z
LAST-MODIFIED:20220228T000902Z
UID:6315-1812259800-1812259800@theorchardcommunitychurch.com
SUMMARY:Worship Service
DESCRIPTION:
URL:https://theorchardcommunitychurch.com/event/worship-service/2027-06-06/
LOCATION:The Orchard Community Church\, 1 NORTH ST\,\, GORHAM\, ME\, 04038
CATEGORIES:Church Service
END:VEVENT
BEGIN:VEVENT
DTSTART;TZID=America/New_York:20270606T053000
DTEND;TZID=America/New_York:20270606T070000
DTSTAMP:20260422T165519
CREATED:20220321T232229Z
LAST-MODIFIED:20220321T232229Z
UID:6317-1812259800-1812265200@theorchardcommunitychurch.com
SUMMARY:Worship Service
DESCRIPTION:
URL:https://theorchardcommunitychurch.com/event/worship-service-4/2027-06-06/
LOCATION:The Orchard Community Church\, 1 NORTH ST\,\, GORHAM\, ME\, 04038
CATEGORIES:Church Service
END:VEVENT
BEGIN:VEVENT
DTSTART;TZID=America/New_York:20270606T093000
DTEND;TZID=America/New_York:20270606T093000
DTSTAMP:20260422T165519
CREATED:20220228T001907Z
LAST-MODIFIED:20220228T001907Z
UID:6316-1812274200-1812274200@theorchardcommunitychurch.com
SUMMARY:Worship Service
DESCRIPTION:
URL:https://theorchardcommunitychurch.com/event/worship-service-2/2027-06-06/
LOCATION:The Orchard Community Church\, 1 NORTH ST\,\, GORHAM\, ME\, 04038
CATEGORIES:Church Service
END:VEVENT
BEGIN:VEVENT
DTSTART;TZID=America/New_York:20270609T140000
DTEND;TZID=America/New_York:20270609T153000
DTSTAMP:20260422T165519
CREATED:20200423T013106Z
LAST-MODIFIED:20200423T013106Z
UID:6318-1812549600-1812555000@theorchardcommunitychurch.com
SUMMARY:Bible Study
DESCRIPTION:If you would like to join or gor more information about our Small Group Bible Study contact us here
URL:https://theorchardcommunitychurch.com/event/bible-study/2027-06-09/
LOCATION:The Orchard Community Church\, 1 NORTH ST\,\, GORHAM\, ME\, 04038
END:VEVENT
BEGIN:VEVENT
DTSTART;TZID=America/New_York:20270612T033000
DTEND;TZID=America/New_York:20270612T050000
DTSTAMP:20260422T165519
CREATED:20200423T011934Z
LAST-MODIFIED:20200423T011934Z
UID:6319-1812771000-1812776400@theorchardcommunitychurch.com
SUMMARY:Women's Group
DESCRIPTION:Details
URL:https://theorchardcommunitychurch.com/event/womens-group/2027-06-12/
LOCATION:The Orchard Community Church\, 1 NORTH ST\,\, GORHAM\, ME\, 04038
CATEGORIES:Women's Group
END:VEVENT
BEGIN:VEVENT
DTSTART;TZID=America/New_York:20270612T033000
DTEND;TZID=America/New_York:20270612T050000
DTSTAMP:20260422T165519
CREATED:20200423T012334Z
LAST-MODIFIED:20200423T012334Z
UID:6320-1812771000-1812776400@theorchardcommunitychurch.com
SUMMARY:Men's Group
DESCRIPTION:Details
URL:https://theorchardcommunitychurch.com/event/mens-group/2027-06-12/
LOCATION:The Orchard Community Church\, 1 NORTH ST\,\, GORHAM\, ME\, 04038
END:VEVENT
BEGIN:VEVENT
DTSTART;TZID=America/New_York:20270613T053000
DTEND;TZID=America/New_York:20270613T053000
DTSTAMP:20260422T165519
CREATED:20200423T012714Z
LAST-MODIFIED:20200423T012714Z
UID:6321-1812864600-1812864600@theorchardcommunitychurch.com
SUMMARY:Sunday Worship Service
DESCRIPTION:Details
URL:https://theorchardcommunitychurch.com/event/sunday-worship-service/2027-06-13/
LOCATION:The Orchard Community Church\, 1 NORTH ST\,\, GORHAM\, ME\, 04038
CATEGORIES:Church Service
END:VEVENT
BEGIN:VEVENT
DTSTART;TZID=America/New_York:20270613T053000
DTEND;TZID=America/New_York:20270613T053000
DTSTAMP:20260422T165519
CREATED:20220228T000902Z
LAST-MODIFIED:20220228T000902Z
UID:6322-1812864600-1812864600@theorchardcommunitychurch.com
SUMMARY:Worship Service
DESCRIPTION:
URL:https://theorchardcommunitychurch.com/event/worship-service/2027-06-13/
LOCATION:The Orchard Community Church\, 1 NORTH ST\,\, GORHAM\, ME\, 04038
CATEGORIES:Church Service
END:VEVENT
BEGIN:VEVENT
DTSTART;TZID=America/New_York:20270613T053000
DTEND;TZID=America/New_York:20270613T070000
DTSTAMP:20260422T165519
CREATED:20220321T232229Z
LAST-MODIFIED:20220321T232229Z
UID:6324-1812864600-1812870000@theorchardcommunitychurch.com
SUMMARY:Worship Service
DESCRIPTION:
URL:https://theorchardcommunitychurch.com/event/worship-service-4/2027-06-13/
LOCATION:The Orchard Community Church\, 1 NORTH ST\,\, GORHAM\, ME\, 04038
CATEGORIES:Church Service
END:VEVENT
BEGIN:VEVENT
DTSTART;TZID=America/New_York:20270613T093000
DTEND;TZID=America/New_York:20270613T093000
DTSTAMP:20260422T165519
CREATED:20220228T001907Z
LAST-MODIFIED:20220228T001907Z
UID:6323-1812879000-1812879000@theorchardcommunitychurch.com
SUMMARY:Worship Service
DESCRIPTION:
URL:https://theorchardcommunitychurch.com/event/worship-service-2/2027-06-13/
LOCATION:The Orchard Community Church\, 1 NORTH ST\,\, GORHAM\, ME\, 04038
CATEGORIES:Church Service
END:VEVENT
BEGIN:VEVENT
DTSTART;TZID=America/New_York:20270616T140000
DTEND;TZID=America/New_York:20270616T153000
DTSTAMP:20260422T165519
CREATED:20200423T013106Z
LAST-MODIFIED:20200423T013106Z
UID:6325-1813154400-1813159800@theorchardcommunitychurch.com
SUMMARY:Bible Study
DESCRIPTION:If you would like to join or gor more information about our Small Group Bible Study contact us here
URL:https://theorchardcommunitychurch.com/event/bible-study/2027-06-16/
LOCATION:The Orchard Community Church\, 1 NORTH ST\,\, GORHAM\, ME\, 04038
END:VEVENT
BEGIN:VEVENT
DTSTART;TZID=America/New_York:20270619T033000
DTEND;TZID=America/New_York:20270619T050000
DTSTAMP:20260422T165519
CREATED:20200423T011934Z
LAST-MODIFIED:20200423T011934Z
UID:6326-1813375800-1813381200@theorchardcommunitychurch.com
SUMMARY:Women's Group
DESCRIPTION:Details
URL:https://theorchardcommunitychurch.com/event/womens-group/2027-06-19/
LOCATION:The Orchard Community Church\, 1 NORTH ST\,\, GORHAM\, ME\, 04038
CATEGORIES:Women's Group
END:VEVENT
BEGIN:VEVENT
DTSTART;TZID=America/New_York:20270619T033000
DTEND;TZID=America/New_York:20270619T050000
DTSTAMP:20260422T165519
CREATED:20200423T012334Z
LAST-MODIFIED:20200423T012334Z
UID:6327-1813375800-1813381200@theorchardcommunitychurch.com
SUMMARY:Men's Group
DESCRIPTION:Details
URL:https://theorchardcommunitychurch.com/event/mens-group/2027-06-19/
LOCATION:The Orchard Community Church\, 1 NORTH ST\,\, GORHAM\, ME\, 04038
END:VEVENT
BEGIN:VEVENT
DTSTART;TZID=America/New_York:20270620T053000
DTEND;TZID=America/New_York:20270620T053000
DTSTAMP:20260422T165519
CREATED:20200423T012714Z
LAST-MODIFIED:20200423T012714Z
UID:6328-1813469400-1813469400@theorchardcommunitychurch.com
SUMMARY:Sunday Worship Service
DESCRIPTION:Details
URL:https://theorchardcommunitychurch.com/event/sunday-worship-service/2027-06-20/
LOCATION:The Orchard Community Church\, 1 NORTH ST\,\, GORHAM\, ME\, 04038
CATEGORIES:Church Service
END:VEVENT
BEGIN:VEVENT
DTSTART;TZID=America/New_York:20270620T053000
DTEND;TZID=America/New_York:20270620T053000
DTSTAMP:20260422T165519
CREATED:20220228T000902Z
LAST-MODIFIED:20220228T000902Z
UID:6329-1813469400-1813469400@theorchardcommunitychurch.com
SUMMARY:Worship Service
DESCRIPTION:
URL:https://theorchardcommunitychurch.com/event/worship-service/2027-06-20/
LOCATION:The Orchard Community Church\, 1 NORTH ST\,\, GORHAM\, ME\, 04038
CATEGORIES:Church Service
END:VEVENT
BEGIN:VEVENT
DTSTART;TZID=America/New_York:20270620T053000
DTEND;TZID=America/New_York:20270620T070000
DTSTAMP:20260422T165519
CREATED:20220321T232229Z
LAST-MODIFIED:20220321T232229Z
UID:6331-1813469400-1813474800@theorchardcommunitychurch.com
SUMMARY:Worship Service
DESCRIPTION:
URL:https://theorchardcommunitychurch.com/event/worship-service-4/2027-06-20/
LOCATION:The Orchard Community Church\, 1 NORTH ST\,\, GORHAM\, ME\, 04038
CATEGORIES:Church Service
END:VEVENT
BEGIN:VEVENT
DTSTART;TZID=America/New_York:20270620T093000
DTEND;TZID=America/New_York:20270620T093000
DTSTAMP:20260422T165519
CREATED:20220228T001907Z
LAST-MODIFIED:20220228T001907Z
UID:6330-1813483800-1813483800@theorchardcommunitychurch.com
SUMMARY:Worship Service
DESCRIPTION:
URL:https://theorchardcommunitychurch.com/event/worship-service-2/2027-06-20/
LOCATION:The Orchard Community Church\, 1 NORTH ST\,\, GORHAM\, ME\, 04038
CATEGORIES:Church Service
END:VEVENT
BEGIN:VEVENT
DTSTART;TZID=America/New_York:20270623T140000
DTEND;TZID=America/New_York:20270623T153000
DTSTAMP:20260422T165519
CREATED:20200423T013106Z
LAST-MODIFIED:20200423T013106Z
UID:6332-1813759200-1813764600@theorchardcommunitychurch.com
SUMMARY:Bible Study
DESCRIPTION:If you would like to join or gor more information about our Small Group Bible Study contact us here
URL:https://theorchardcommunitychurch.com/event/bible-study/2027-06-23/
LOCATION:The Orchard Community Church\, 1 NORTH ST\,\, GORHAM\, ME\, 04038
END:VEVENT
BEGIN:VEVENT
DTSTART;TZID=America/New_York:20270626T033000
DTEND;TZID=America/New_York:20270626T050000
DTSTAMP:20260422T165519
CREATED:20200423T011934Z
LAST-MODIFIED:20200423T011934Z
UID:6333-1813980600-1813986000@theorchardcommunitychurch.com
SUMMARY:Women's Group
DESCRIPTION:Details
URL:https://theorchardcommunitychurch.com/event/womens-group/2027-06-26/
LOCATION:The Orchard Community Church\, 1 NORTH ST\,\, GORHAM\, ME\, 04038
CATEGORIES:Women's Group
END:VEVENT
BEGIN:VEVENT
DTSTART;TZID=America/New_York:20270626T033000
DTEND;TZID=America/New_York:20270626T050000
DTSTAMP:20260422T165519
CREATED:20200423T012334Z
LAST-MODIFIED:20200423T012334Z
UID:6334-1813980600-1813986000@theorchardcommunitychurch.com
SUMMARY:Men's Group
DESCRIPTION:Details
URL:https://theorchardcommunitychurch.com/event/mens-group/2027-06-26/
LOCATION:The Orchard Community Church\, 1 NORTH ST\,\, GORHAM\, ME\, 04038
END:VEVENT
BEGIN:VEVENT
DTSTART;TZID=America/New_York:20270627T053000
DTEND;TZID=America/New_York:20270627T053000
DTSTAMP:20260422T165519
CREATED:20200423T012714Z
LAST-MODIFIED:20200423T012714Z
UID:6335-1814074200-1814074200@theorchardcommunitychurch.com
SUMMARY:Sunday Worship Service
DESCRIPTION:Details
URL:https://theorchardcommunitychurch.com/event/sunday-worship-service/2027-06-27/
LOCATION:The Orchard Community Church\, 1 NORTH ST\,\, GORHAM\, ME\, 04038
CATEGORIES:Church Service
END:VEVENT
BEGIN:VEVENT
DTSTART;TZID=America/New_York:20270627T053000
DTEND;TZID=America/New_York:20270627T053000
DTSTAMP:20260422T165519
CREATED:20220228T000902Z
LAST-MODIFIED:20220228T000902Z
UID:6336-1814074200-1814074200@theorchardcommunitychurch.com
SUMMARY:Worship Service
DESCRIPTION:
URL:https://theorchardcommunitychurch.com/event/worship-service/2027-06-27/
LOCATION:The Orchard Community Church\, 1 NORTH ST\,\, GORHAM\, ME\, 04038
CATEGORIES:Church Service
END:VEVENT
BEGIN:VEVENT
DTSTART;TZID=America/New_York:20270627T053000
DTEND;TZID=America/New_York:20270627T070000
DTSTAMP:20260422T165519
CREATED:20220321T232229Z
LAST-MODIFIED:20220321T232229Z
UID:6338-1814074200-1814079600@theorchardcommunitychurch.com
SUMMARY:Worship Service
DESCRIPTION:
URL:https://theorchardcommunitychurch.com/event/worship-service-4/2027-06-27/
LOCATION:The Orchard Community Church\, 1 NORTH ST\,\, GORHAM\, ME\, 04038
CATEGORIES:Church Service
END:VEVENT
BEGIN:VEVENT
DTSTART;TZID=America/New_York:20270627T093000
DTEND;TZID=America/New_York:20270627T093000
DTSTAMP:20260422T165519
CREATED:20220228T001907Z
LAST-MODIFIED:20220228T001907Z
UID:6337-1814088600-1814088600@theorchardcommunitychurch.com
SUMMARY:Worship Service
DESCRIPTION:
URL:https://theorchardcommunitychurch.com/event/worship-service-2/2027-06-27/
LOCATION:The Orchard Community Church\, 1 NORTH ST\,\, GORHAM\, ME\, 04038
CATEGORIES:Church Service
END:VEVENT
BEGIN:VEVENT
DTSTART;TZID=America/New_York:20270630T140000
DTEND;TZID=America/New_York:20270630T153000
DTSTAMP:20260422T165519
CREATED:20200423T013106Z
LAST-MODIFIED:20200423T013106Z
UID:6339-1814364000-1814369400@theorchardcommunitychurch.com
SUMMARY:Bible Study
DESCRIPTION:If you would like to join or gor more information about our Small Group Bible Study contact us here
URL:https://theorchardcommunitychurch.com/event/bible-study/2027-06-30/
LOCATION:The Orchard Community Church\, 1 NORTH ST\,\, GORHAM\, ME\, 04038
END:VEVENT
BEGIN:VEVENT
DTSTART;TZID=America/New_York:20270703T033000
DTEND;TZID=America/New_York:20270703T050000
DTSTAMP:20260422T165519
CREATED:20200423T011934Z
LAST-MODIFIED:20200423T011934Z
UID:6342-1814585400-1814590800@theorchardcommunitychurch.com
SUMMARY:Women's Group
DESCRIPTION:Details
URL:https://theorchardcommunitychurch.com/event/womens-group/2027-07-03/
LOCATION:The Orchard Community Church\, 1 NORTH ST\,\, GORHAM\, ME\, 04038
CATEGORIES:Women's Group
END:VEVENT
BEGIN:VEVENT
DTSTART;TZID=America/New_York:20270703T033000
DTEND;TZID=America/New_York:20270703T050000
DTSTAMP:20260422T165519
CREATED:20200423T012334Z
LAST-MODIFIED:20200423T012334Z
UID:6343-1814585400-1814590800@theorchardcommunitychurch.com
SUMMARY:Men's Group
DESCRIPTION:Details
URL:https://theorchardcommunitychurch.com/event/mens-group/2027-07-03/
LOCATION:The Orchard Community Church\, 1 NORTH ST\,\, GORHAM\, ME\, 04038
END:VEVENT
BEGIN:VEVENT
DTSTART;TZID=America/New_York:20270704T053000
DTEND;TZID=America/New_York:20270704T053000
DTSTAMP:20260422T165519
CREATED:20200423T012714Z
LAST-MODIFIED:20200423T012714Z
UID:6344-1814679000-1814679000@theorchardcommunitychurch.com
SUMMARY:Sunday Worship Service
DESCRIPTION:Details
URL:https://theorchardcommunitychurch.com/event/sunday-worship-service/2027-07-04/
LOCATION:The Orchard Community Church\, 1 NORTH ST\,\, GORHAM\, ME\, 04038
CATEGORIES:Church Service
END:VEVENT
BEGIN:VEVENT
DTSTART;TZID=America/New_York:20270704T053000
DTEND;TZID=America/New_York:20270704T053000
DTSTAMP:20260422T165519
CREATED:20220228T000902Z
LAST-MODIFIED:20220228T000902Z
UID:6345-1814679000-1814679000@theorchardcommunitychurch.com
SUMMARY:Worship Service
DESCRIPTION:
URL:https://theorchardcommunitychurch.com/event/worship-service/2027-07-04/
LOCATION:The Orchard Community Church\, 1 NORTH ST\,\, GORHAM\, ME\, 04038
CATEGORIES:Church Service
END:VEVENT
BEGIN:VEVENT
DTSTART;TZID=America/New_York:20270704T053000
DTEND;TZID=America/New_York:20270704T070000
DTSTAMP:20260422T165519
CREATED:20220321T232229Z
LAST-MODIFIED:20220321T232229Z
UID:6347-1814679000-1814684400@theorchardcommunitychurch.com
SUMMARY:Worship Service
DESCRIPTION:
URL:https://theorchardcommunitychurch.com/event/worship-service-4/2027-07-04/
LOCATION:The Orchard Community Church\, 1 NORTH ST\,\, GORHAM\, ME\, 04038
CATEGORIES:Church Service
END:VEVENT
END:VCALENDAR