BEGIN:VCALENDAR
VERSION:2.0
PRODID:-//Orchard Community Church - ECPv6.9.0//NONSGML v1.0//EN
CALSCALE:GREGORIAN
METHOD:PUBLISH
X-WR-CALNAME:Orchard Community Church
X-ORIGINAL-URL:https://theorchardcommunitychurch.com
X-WR-CALDESC:Events for Orchard Community Church
REFRESH-INTERVAL;VALUE=DURATION:PT1H
X-Robots-Tag:noindex
X-PUBLISHED-TTL:PT1H
BEGIN:VTIMEZONE
TZID:America/New_York
BEGIN:DAYLIGHT
TZOFFSETFROM:-0500
TZOFFSETTO:-0400
TZNAME:EDT
DTSTART:20250309T070000
END:DAYLIGHT
BEGIN:STANDARD
TZOFFSETFROM:-0400
TZOFFSETTO:-0500
TZNAME:EST
DTSTART:20251102T060000
END:STANDARD
END:VTIMEZONE
BEGIN:VEVENT
DTSTART;TZID=America/New_York:20250226T130000
DTEND;TZID=America/New_York:20250226T143000
DTSTAMP:20260423T194228
CREATED:20200423T013106Z
LAST-MODIFIED:20200423T013106Z
UID:5332-1740574800-1740580200@theorchardcommunitychurch.com
SUMMARY:Bible Study
DESCRIPTION:If you would like to join or gor more information about our Small Group Bible Study contact us here
URL:https://theorchardcommunitychurch.com/event/bible-study/2025-02-26/
LOCATION:The Orchard Community Church\, 1 NORTH ST\,\, GORHAM\, ME\, 04038
END:VEVENT
BEGIN:VEVENT
DTSTART;TZID=America/New_York:20250223T093000
DTEND;TZID=America/New_York:20250223T093000
DTSTAMP:20260423T194228
CREATED:20220228T001907Z
LAST-MODIFIED:20220228T001907Z
UID:5330-1740303000-1740303000@theorchardcommunitychurch.com
SUMMARY:Worship Service
DESCRIPTION:
URL:https://theorchardcommunitychurch.com/event/worship-service-2/2025-02-23/
LOCATION:The Orchard Community Church\, 1 NORTH ST\,\, GORHAM\, ME\, 04038
CATEGORIES:Church Service
END:VEVENT
BEGIN:VEVENT
DTSTART;TZID=America/New_York:20250223T043000
DTEND;TZID=America/New_York:20250223T060000
DTSTAMP:20260423T194228
CREATED:20220321T232229Z
LAST-MODIFIED:20220321T232229Z
UID:5331-1740285000-1740290400@theorchardcommunitychurch.com
SUMMARY:Worship Service
DESCRIPTION:
URL:https://theorchardcommunitychurch.com/event/worship-service-4/2025-02-23/
LOCATION:The Orchard Community Church\, 1 NORTH ST\,\, GORHAM\, ME\, 04038
CATEGORIES:Church Service
END:VEVENT
BEGIN:VEVENT
DTSTART;TZID=America/New_York:20250223T043000
DTEND;TZID=America/New_York:20250223T043000
DTSTAMP:20260423T194228
CREATED:20220228T000902Z
LAST-MODIFIED:20220228T000902Z
UID:5329-1740285000-1740285000@theorchardcommunitychurch.com
SUMMARY:Worship Service
DESCRIPTION:
URL:https://theorchardcommunitychurch.com/event/worship-service/2025-02-23/
LOCATION:The Orchard Community Church\, 1 NORTH ST\,\, GORHAM\, ME\, 04038
CATEGORIES:Church Service
END:VEVENT
BEGIN:VEVENT
DTSTART;TZID=America/New_York:20250223T043000
DTEND;TZID=America/New_York:20250223T043000
DTSTAMP:20260423T194228
CREATED:20200423T012714Z
LAST-MODIFIED:20200423T012714Z
UID:5328-1740285000-1740285000@theorchardcommunitychurch.com
SUMMARY:Sunday Worship Service
DESCRIPTION:Details
URL:https://theorchardcommunitychurch.com/event/sunday-worship-service/2025-02-23/
LOCATION:The Orchard Community Church\, 1 NORTH ST\,\, GORHAM\, ME\, 04038
CATEGORIES:Church Service
END:VEVENT
BEGIN:VEVENT
DTSTART;TZID=America/New_York:20250222T023000
DTEND;TZID=America/New_York:20250222T040000
DTSTAMP:20260423T194228
CREATED:20200423T012334Z
LAST-MODIFIED:20200423T012334Z
UID:5327-1740191400-1740196800@theorchardcommunitychurch.com
SUMMARY:Men's Group
DESCRIPTION:Details
URL:https://theorchardcommunitychurch.com/event/mens-group/2025-02-22/
LOCATION:The Orchard Community Church\, 1 NORTH ST\,\, GORHAM\, ME\, 04038
END:VEVENT
BEGIN:VEVENT
DTSTART;TZID=America/New_York:20250222T023000
DTEND;TZID=America/New_York:20250222T040000
DTSTAMP:20260423T194228
CREATED:20200423T011934Z
LAST-MODIFIED:20200423T011934Z
UID:5326-1740191400-1740196800@theorchardcommunitychurch.com
SUMMARY:Women's Group
DESCRIPTION:Details
URL:https://theorchardcommunitychurch.com/event/womens-group/2025-02-22/
LOCATION:The Orchard Community Church\, 1 NORTH ST\,\, GORHAM\, ME\, 04038
CATEGORIES:Women's Group
END:VEVENT
BEGIN:VEVENT
DTSTART;TZID=America/New_York:20250219T130000
DTEND;TZID=America/New_York:20250219T143000
DTSTAMP:20260423T194228
CREATED:20200423T013106Z
LAST-MODIFIED:20200423T013106Z
UID:5325-1739970000-1739975400@theorchardcommunitychurch.com
SUMMARY:Bible Study
DESCRIPTION:If you would like to join or gor more information about our Small Group Bible Study contact us here
URL:https://theorchardcommunitychurch.com/event/bible-study/2025-02-19/
LOCATION:The Orchard Community Church\, 1 NORTH ST\,\, GORHAM\, ME\, 04038
END:VEVENT
BEGIN:VEVENT
DTSTART;TZID=America/New_York:20250216T093000
DTEND;TZID=America/New_York:20250216T093000
DTSTAMP:20260423T194228
CREATED:20220228T001907Z
LAST-MODIFIED:20220228T001907Z
UID:5323-1739698200-1739698200@theorchardcommunitychurch.com
SUMMARY:Worship Service
DESCRIPTION:
URL:https://theorchardcommunitychurch.com/event/worship-service-2/2025-02-16/
LOCATION:The Orchard Community Church\, 1 NORTH ST\,\, GORHAM\, ME\, 04038
CATEGORIES:Church Service
END:VEVENT
BEGIN:VEVENT
DTSTART;TZID=America/New_York:20250216T043000
DTEND;TZID=America/New_York:20250216T060000
DTSTAMP:20260423T194228
CREATED:20220321T232229Z
LAST-MODIFIED:20220321T232229Z
UID:5324-1739680200-1739685600@theorchardcommunitychurch.com
SUMMARY:Worship Service
DESCRIPTION:
URL:https://theorchardcommunitychurch.com/event/worship-service-4/2025-02-16/
LOCATION:The Orchard Community Church\, 1 NORTH ST\,\, GORHAM\, ME\, 04038
CATEGORIES:Church Service
END:VEVENT
BEGIN:VEVENT
DTSTART;TZID=America/New_York:20250216T043000
DTEND;TZID=America/New_York:20250216T043000
DTSTAMP:20260423T194228
CREATED:20220228T000902Z
LAST-MODIFIED:20220228T000902Z
UID:5322-1739680200-1739680200@theorchardcommunitychurch.com
SUMMARY:Worship Service
DESCRIPTION:
URL:https://theorchardcommunitychurch.com/event/worship-service/2025-02-16/
LOCATION:The Orchard Community Church\, 1 NORTH ST\,\, GORHAM\, ME\, 04038
CATEGORIES:Church Service
END:VEVENT
BEGIN:VEVENT
DTSTART;TZID=America/New_York:20250216T043000
DTEND;TZID=America/New_York:20250216T043000
DTSTAMP:20260423T194228
CREATED:20200423T012714Z
LAST-MODIFIED:20200423T012714Z
UID:5321-1739680200-1739680200@theorchardcommunitychurch.com
SUMMARY:Sunday Worship Service
DESCRIPTION:Details
URL:https://theorchardcommunitychurch.com/event/sunday-worship-service/2025-02-16/
LOCATION:The Orchard Community Church\, 1 NORTH ST\,\, GORHAM\, ME\, 04038
CATEGORIES:Church Service
END:VEVENT
BEGIN:VEVENT
DTSTART;TZID=America/New_York:20250215T023000
DTEND;TZID=America/New_York:20250215T040000
DTSTAMP:20260423T194228
CREATED:20200423T012334Z
LAST-MODIFIED:20200423T012334Z
UID:5320-1739586600-1739592000@theorchardcommunitychurch.com
SUMMARY:Men's Group
DESCRIPTION:Details
URL:https://theorchardcommunitychurch.com/event/mens-group/2025-02-15/
LOCATION:The Orchard Community Church\, 1 NORTH ST\,\, GORHAM\, ME\, 04038
END:VEVENT
BEGIN:VEVENT
DTSTART;TZID=America/New_York:20250215T023000
DTEND;TZID=America/New_York:20250215T040000
DTSTAMP:20260423T194228
CREATED:20200423T011934Z
LAST-MODIFIED:20200423T011934Z
UID:5319-1739586600-1739592000@theorchardcommunitychurch.com
SUMMARY:Women's Group
DESCRIPTION:Details
URL:https://theorchardcommunitychurch.com/event/womens-group/2025-02-15/
LOCATION:The Orchard Community Church\, 1 NORTH ST\,\, GORHAM\, ME\, 04038
CATEGORIES:Women's Group
END:VEVENT
BEGIN:VEVENT
DTSTART;TZID=America/New_York:20250212T130000
DTEND;TZID=America/New_York:20250212T143000
DTSTAMP:20260423T194228
CREATED:20200423T013106Z
LAST-MODIFIED:20200423T013106Z
UID:5318-1739365200-1739370600@theorchardcommunitychurch.com
SUMMARY:Bible Study
DESCRIPTION:If you would like to join or gor more information about our Small Group Bible Study contact us here
URL:https://theorchardcommunitychurch.com/event/bible-study/2025-02-12/
LOCATION:The Orchard Community Church\, 1 NORTH ST\,\, GORHAM\, ME\, 04038
END:VEVENT
BEGIN:VEVENT
DTSTART;TZID=America/New_York:20250209T093000
DTEND;TZID=America/New_York:20250209T093000
DTSTAMP:20260423T194228
CREATED:20220228T001907Z
LAST-MODIFIED:20220228T001907Z
UID:5316-1739093400-1739093400@theorchardcommunitychurch.com
SUMMARY:Worship Service
DESCRIPTION:
URL:https://theorchardcommunitychurch.com/event/worship-service-2/2025-02-09/
LOCATION:The Orchard Community Church\, 1 NORTH ST\,\, GORHAM\, ME\, 04038
CATEGORIES:Church Service
END:VEVENT
BEGIN:VEVENT
DTSTART;TZID=America/New_York:20250209T043000
DTEND;TZID=America/New_York:20250209T060000
DTSTAMP:20260423T194228
CREATED:20220321T232229Z
LAST-MODIFIED:20220321T232229Z
UID:5317-1739075400-1739080800@theorchardcommunitychurch.com
SUMMARY:Worship Service
DESCRIPTION:
URL:https://theorchardcommunitychurch.com/event/worship-service-4/2025-02-09/
LOCATION:The Orchard Community Church\, 1 NORTH ST\,\, GORHAM\, ME\, 04038
CATEGORIES:Church Service
END:VEVENT
BEGIN:VEVENT
DTSTART;TZID=America/New_York:20250209T043000
DTEND;TZID=America/New_York:20250209T043000
DTSTAMP:20260423T194228
CREATED:20220228T000902Z
LAST-MODIFIED:20220228T000902Z
UID:5315-1739075400-1739075400@theorchardcommunitychurch.com
SUMMARY:Worship Service
DESCRIPTION:
URL:https://theorchardcommunitychurch.com/event/worship-service/2025-02-09/
LOCATION:The Orchard Community Church\, 1 NORTH ST\,\, GORHAM\, ME\, 04038
CATEGORIES:Church Service
END:VEVENT
BEGIN:VEVENT
DTSTART;TZID=America/New_York:20250209T043000
DTEND;TZID=America/New_York:20250209T043000
DTSTAMP:20260423T194228
CREATED:20200423T012714Z
LAST-MODIFIED:20200423T012714Z
UID:5314-1739075400-1739075400@theorchardcommunitychurch.com
SUMMARY:Sunday Worship Service
DESCRIPTION:Details
URL:https://theorchardcommunitychurch.com/event/sunday-worship-service/2025-02-09/
LOCATION:The Orchard Community Church\, 1 NORTH ST\,\, GORHAM\, ME\, 04038
CATEGORIES:Church Service
END:VEVENT
BEGIN:VEVENT
DTSTART;TZID=America/New_York:20250208T023000
DTEND;TZID=America/New_York:20250208T040000
DTSTAMP:20260423T194228
CREATED:20200423T012334Z
LAST-MODIFIED:20200423T012334Z
UID:5313-1738981800-1738987200@theorchardcommunitychurch.com
SUMMARY:Men's Group
DESCRIPTION:Details
URL:https://theorchardcommunitychurch.com/event/mens-group/2025-02-08/
LOCATION:The Orchard Community Church\, 1 NORTH ST\,\, GORHAM\, ME\, 04038
END:VEVENT
BEGIN:VEVENT
DTSTART;TZID=America/New_York:20250208T023000
DTEND;TZID=America/New_York:20250208T040000
DTSTAMP:20260423T194228
CREATED:20200423T011934Z
LAST-MODIFIED:20200423T011934Z
UID:5312-1738981800-1738987200@theorchardcommunitychurch.com
SUMMARY:Women's Group
DESCRIPTION:Details
URL:https://theorchardcommunitychurch.com/event/womens-group/2025-02-08/
LOCATION:The Orchard Community Church\, 1 NORTH ST\,\, GORHAM\, ME\, 04038
CATEGORIES:Women's Group
END:VEVENT
BEGIN:VEVENT
DTSTART;TZID=America/New_York:20250205T130000
DTEND;TZID=America/New_York:20250205T143000
DTSTAMP:20260423T194228
CREATED:20200423T013106Z
LAST-MODIFIED:20200423T013106Z
UID:5311-1738760400-1738765800@theorchardcommunitychurch.com
SUMMARY:Bible Study
DESCRIPTION:If you would like to join or gor more information about our Small Group Bible Study contact us here
URL:https://theorchardcommunitychurch.com/event/bible-study/2025-02-05/
LOCATION:The Orchard Community Church\, 1 NORTH ST\,\, GORHAM\, ME\, 04038
END:VEVENT
BEGIN:VEVENT
DTSTART;TZID=America/New_York:20250202T093000
DTEND;TZID=America/New_York:20250202T093000
DTSTAMP:20260423T194228
CREATED:20220228T001907Z
LAST-MODIFIED:20220228T001907Z
UID:5309-1738488600-1738488600@theorchardcommunitychurch.com
SUMMARY:Worship Service
DESCRIPTION:
URL:https://theorchardcommunitychurch.com/event/worship-service-2/2025-02-02/
LOCATION:The Orchard Community Church\, 1 NORTH ST\,\, GORHAM\, ME\, 04038
CATEGORIES:Church Service
END:VEVENT
BEGIN:VEVENT
DTSTART;TZID=America/New_York:20250202T043000
DTEND;TZID=America/New_York:20250202T060000
DTSTAMP:20260423T194228
CREATED:20220321T232229Z
LAST-MODIFIED:20220321T232229Z
UID:5310-1738470600-1738476000@theorchardcommunitychurch.com
SUMMARY:Worship Service
DESCRIPTION:
URL:https://theorchardcommunitychurch.com/event/worship-service-4/2025-02-02/
LOCATION:The Orchard Community Church\, 1 NORTH ST\,\, GORHAM\, ME\, 04038
CATEGORIES:Church Service
END:VEVENT
BEGIN:VEVENT
DTSTART;TZID=America/New_York:20250202T043000
DTEND;TZID=America/New_York:20250202T043000
DTSTAMP:20260423T194228
CREATED:20220228T000902Z
LAST-MODIFIED:20220228T000902Z
UID:5308-1738470600-1738470600@theorchardcommunitychurch.com
SUMMARY:Worship Service
DESCRIPTION:
URL:https://theorchardcommunitychurch.com/event/worship-service/2025-02-02/
LOCATION:The Orchard Community Church\, 1 NORTH ST\,\, GORHAM\, ME\, 04038
CATEGORIES:Church Service
END:VEVENT
BEGIN:VEVENT
DTSTART;TZID=America/New_York:20250202T043000
DTEND;TZID=America/New_York:20250202T043000
DTSTAMP:20260423T194228
CREATED:20200423T012714Z
LAST-MODIFIED:20200423T012714Z
UID:5307-1738470600-1738470600@theorchardcommunitychurch.com
SUMMARY:Sunday Worship Service
DESCRIPTION:Details
URL:https://theorchardcommunitychurch.com/event/sunday-worship-service/2025-02-02/
LOCATION:The Orchard Community Church\, 1 NORTH ST\,\, GORHAM\, ME\, 04038
CATEGORIES:Church Service
END:VEVENT
BEGIN:VEVENT
DTSTART;TZID=America/New_York:20250201T023000
DTEND;TZID=America/New_York:20250201T040000
DTSTAMP:20260423T194228
CREATED:20200423T012334Z
LAST-MODIFIED:20200423T012334Z
UID:5306-1738377000-1738382400@theorchardcommunitychurch.com
SUMMARY:Men's Group
DESCRIPTION:Details
URL:https://theorchardcommunitychurch.com/event/mens-group/2025-02-01/
LOCATION:The Orchard Community Church\, 1 NORTH ST\,\, GORHAM\, ME\, 04038
END:VEVENT
BEGIN:VEVENT
DTSTART;TZID=America/New_York:20250201T023000
DTEND;TZID=America/New_York:20250201T040000
DTSTAMP:20260423T194228
CREATED:20200423T011934Z
LAST-MODIFIED:20200423T011934Z
UID:5305-1738377000-1738382400@theorchardcommunitychurch.com
SUMMARY:Women's Group
DESCRIPTION:Details
URL:https://theorchardcommunitychurch.com/event/womens-group/2025-02-01/
LOCATION:The Orchard Community Church\, 1 NORTH ST\,\, GORHAM\, ME\, 04038
CATEGORIES:Women's Group
END:VEVENT
BEGIN:VEVENT
DTSTART;TZID=America/New_York:20250129T130000
DTEND;TZID=America/New_York:20250129T143000
DTSTAMP:20260423T194228
CREATED:20200423T013106Z
LAST-MODIFIED:20200423T013106Z
UID:5304-1738155600-1738161000@theorchardcommunitychurch.com
SUMMARY:Bible Study
DESCRIPTION:If you would like to join or gor more information about our Small Group Bible Study contact us here
URL:https://theorchardcommunitychurch.com/event/bible-study/2025-01-29/
LOCATION:The Orchard Community Church\, 1 NORTH ST\,\, GORHAM\, ME\, 04038
END:VEVENT
BEGIN:VEVENT
DTSTART;TZID=America/New_York:20250126T093000
DTEND;TZID=America/New_York:20250126T093000
DTSTAMP:20260423T194228
CREATED:20220228T001907Z
LAST-MODIFIED:20220228T001907Z
UID:5302-1737883800-1737883800@theorchardcommunitychurch.com
SUMMARY:Worship Service
DESCRIPTION:
URL:https://theorchardcommunitychurch.com/event/worship-service-2/2025-01-26/
LOCATION:The Orchard Community Church\, 1 NORTH ST\,\, GORHAM\, ME\, 04038
CATEGORIES:Church Service
END:VEVENT
END:VCALENDAR