BEGIN:VCALENDAR
VERSION:2.0
PRODID:-//Orchard Community Church - ECPv6.9.0//NONSGML v1.0//EN
CALSCALE:GREGORIAN
METHOD:PUBLISH
X-WR-CALNAME:Orchard Community Church
X-ORIGINAL-URL:https://theorchardcommunitychurch.com
X-WR-CALDESC:Events for Orchard Community Church
REFRESH-INTERVAL;VALUE=DURATION:PT1H
X-Robots-Tag:noindex
X-PUBLISHED-TTL:PT1H
BEGIN:VTIMEZONE
TZID:America/New_York
BEGIN:DAYLIGHT
TZOFFSETFROM:-0500
TZOFFSETTO:-0400
TZNAME:EDT
DTSTART:20270314T070000
END:DAYLIGHT
BEGIN:STANDARD
TZOFFSETFROM:-0400
TZOFFSETTO:-0500
TZNAME:EST
DTSTART:20271107T060000
END:STANDARD
END:VTIMEZONE
BEGIN:VEVENT
DTSTART;TZID=America/New_York:20270725T053000
DTEND;TZID=America/New_York:20270725T053000
DTSTAMP:20260422T233021
CREATED:20200423T012714Z
LAST-MODIFIED:20200423T012714Z
UID:6365-1816493400-1816493400@theorchardcommunitychurch.com
SUMMARY:Sunday Worship Service
DESCRIPTION:Details
URL:https://theorchardcommunitychurch.com/event/sunday-worship-service/2027-07-25/
LOCATION:The Orchard Community Church\, 1 NORTH ST\,\, GORHAM\, ME\, 04038
CATEGORIES:Church Service
END:VEVENT
BEGIN:VEVENT
DTSTART;TZID=America/New_York:20270725T053000
DTEND;TZID=America/New_York:20270725T053000
DTSTAMP:20260422T233021
CREATED:20220228T000902Z
LAST-MODIFIED:20220228T000902Z
UID:6366-1816493400-1816493400@theorchardcommunitychurch.com
SUMMARY:Worship Service
DESCRIPTION:
URL:https://theorchardcommunitychurch.com/event/worship-service/2027-07-25/
LOCATION:The Orchard Community Church\, 1 NORTH ST\,\, GORHAM\, ME\, 04038
CATEGORIES:Church Service
END:VEVENT
BEGIN:VEVENT
DTSTART;TZID=America/New_York:20270725T053000
DTEND;TZID=America/New_York:20270725T070000
DTSTAMP:20260422T233021
CREATED:20220321T232229Z
LAST-MODIFIED:20220321T232229Z
UID:6368-1816493400-1816498800@theorchardcommunitychurch.com
SUMMARY:Worship Service
DESCRIPTION:
URL:https://theorchardcommunitychurch.com/event/worship-service-4/2027-07-25/
LOCATION:The Orchard Community Church\, 1 NORTH ST\,\, GORHAM\, ME\, 04038
CATEGORIES:Church Service
END:VEVENT
BEGIN:VEVENT
DTSTART;TZID=America/New_York:20270725T093000
DTEND;TZID=America/New_York:20270725T093000
DTSTAMP:20260422T233021
CREATED:20220228T001907Z
LAST-MODIFIED:20220228T001907Z
UID:6367-1816507800-1816507800@theorchardcommunitychurch.com
SUMMARY:Worship Service
DESCRIPTION:
URL:https://theorchardcommunitychurch.com/event/worship-service-2/2027-07-25/
LOCATION:The Orchard Community Church\, 1 NORTH ST\,\, GORHAM\, ME\, 04038
CATEGORIES:Church Service
END:VEVENT
BEGIN:VEVENT
DTSTART;TZID=America/New_York:20270728T140000
DTEND;TZID=America/New_York:20270728T153000
DTSTAMP:20260422T233021
CREATED:20200423T013106Z
LAST-MODIFIED:20200423T013106Z
UID:6369-1816783200-1816788600@theorchardcommunitychurch.com
SUMMARY:Bible Study
DESCRIPTION:If you would like to join or gor more information about our Small Group Bible Study contact us here
URL:https://theorchardcommunitychurch.com/event/bible-study/2027-07-28/
LOCATION:The Orchard Community Church\, 1 NORTH ST\,\, GORHAM\, ME\, 04038
END:VEVENT
BEGIN:VEVENT
DTSTART;TZID=America/New_York:20270731T033000
DTEND;TZID=America/New_York:20270731T050000
DTSTAMP:20260422T233021
CREATED:20200423T011934Z
LAST-MODIFIED:20200423T011934Z
UID:6370-1817004600-1817010000@theorchardcommunitychurch.com
SUMMARY:Women's Group
DESCRIPTION:Details
URL:https://theorchardcommunitychurch.com/event/womens-group/2027-07-31/
LOCATION:The Orchard Community Church\, 1 NORTH ST\,\, GORHAM\, ME\, 04038
CATEGORIES:Women's Group
END:VEVENT
BEGIN:VEVENT
DTSTART;TZID=America/New_York:20270731T033000
DTEND;TZID=America/New_York:20270731T050000
DTSTAMP:20260422T233021
CREATED:20200423T012334Z
LAST-MODIFIED:20200423T012334Z
UID:6371-1817004600-1817010000@theorchardcommunitychurch.com
SUMMARY:Men's Group
DESCRIPTION:Details
URL:https://theorchardcommunitychurch.com/event/mens-group/2027-07-31/
LOCATION:The Orchard Community Church\, 1 NORTH ST\,\, GORHAM\, ME\, 04038
END:VEVENT
BEGIN:VEVENT
DTSTART;TZID=America/New_York:20270801T053000
DTEND;TZID=America/New_York:20270801T053000
DTSTAMP:20260422T233021
CREATED:20200423T012714Z
LAST-MODIFIED:20200423T012714Z
UID:6372-1817098200-1817098200@theorchardcommunitychurch.com
SUMMARY:Sunday Worship Service
DESCRIPTION:Details
URL:https://theorchardcommunitychurch.com/event/sunday-worship-service/2027-08-01/
LOCATION:The Orchard Community Church\, 1 NORTH ST\,\, GORHAM\, ME\, 04038
CATEGORIES:Church Service
END:VEVENT
BEGIN:VEVENT
DTSTART;TZID=America/New_York:20270801T053000
DTEND;TZID=America/New_York:20270801T053000
DTSTAMP:20260422T233021
CREATED:20220228T000902Z
LAST-MODIFIED:20220228T000902Z
UID:6373-1817098200-1817098200@theorchardcommunitychurch.com
SUMMARY:Worship Service
DESCRIPTION:
URL:https://theorchardcommunitychurch.com/event/worship-service/2027-08-01/
LOCATION:The Orchard Community Church\, 1 NORTH ST\,\, GORHAM\, ME\, 04038
CATEGORIES:Church Service
END:VEVENT
BEGIN:VEVENT
DTSTART;TZID=America/New_York:20270801T053000
DTEND;TZID=America/New_York:20270801T070000
DTSTAMP:20260422T233021
CREATED:20220321T232229Z
LAST-MODIFIED:20220321T232229Z
UID:6375-1817098200-1817103600@theorchardcommunitychurch.com
SUMMARY:Worship Service
DESCRIPTION:
URL:https://theorchardcommunitychurch.com/event/worship-service-4/2027-08-01/
LOCATION:The Orchard Community Church\, 1 NORTH ST\,\, GORHAM\, ME\, 04038
CATEGORIES:Church Service
END:VEVENT
BEGIN:VEVENT
DTSTART;TZID=America/New_York:20270801T093000
DTEND;TZID=America/New_York:20270801T093000
DTSTAMP:20260422T233021
CREATED:20220228T001907Z
LAST-MODIFIED:20220228T001907Z
UID:6374-1817112600-1817112600@theorchardcommunitychurch.com
SUMMARY:Worship Service
DESCRIPTION:
URL:https://theorchardcommunitychurch.com/event/worship-service-2/2027-08-01/
LOCATION:The Orchard Community Church\, 1 NORTH ST\,\, GORHAM\, ME\, 04038
CATEGORIES:Church Service
END:VEVENT
BEGIN:VEVENT
DTSTART;TZID=America/New_York:20270804T140000
DTEND;TZID=America/New_York:20270804T153000
DTSTAMP:20260422T233021
CREATED:20200423T013106Z
LAST-MODIFIED:20200423T013106Z
UID:6376-1817388000-1817393400@theorchardcommunitychurch.com
SUMMARY:Bible Study
DESCRIPTION:If you would like to join or gor more information about our Small Group Bible Study contact us here
URL:https://theorchardcommunitychurch.com/event/bible-study/2027-08-04/
LOCATION:The Orchard Community Church\, 1 NORTH ST\,\, GORHAM\, ME\, 04038
END:VEVENT
BEGIN:VEVENT
DTSTART;TZID=America/New_York:20270807T033000
DTEND;TZID=America/New_York:20270807T050000
DTSTAMP:20260422T233021
CREATED:20200423T011934Z
LAST-MODIFIED:20200423T011934Z
UID:6377-1817609400-1817614800@theorchardcommunitychurch.com
SUMMARY:Women's Group
DESCRIPTION:Details
URL:https://theorchardcommunitychurch.com/event/womens-group/2027-08-07/
LOCATION:The Orchard Community Church\, 1 NORTH ST\,\, GORHAM\, ME\, 04038
CATEGORIES:Women's Group
END:VEVENT
BEGIN:VEVENT
DTSTART;TZID=America/New_York:20270807T033000
DTEND;TZID=America/New_York:20270807T050000
DTSTAMP:20260422T233021
CREATED:20200423T012334Z
LAST-MODIFIED:20200423T012334Z
UID:6378-1817609400-1817614800@theorchardcommunitychurch.com
SUMMARY:Men's Group
DESCRIPTION:Details
URL:https://theorchardcommunitychurch.com/event/mens-group/2027-08-07/
LOCATION:The Orchard Community Church\, 1 NORTH ST\,\, GORHAM\, ME\, 04038
END:VEVENT
BEGIN:VEVENT
DTSTART;TZID=America/New_York:20270808T053000
DTEND;TZID=America/New_York:20270808T053000
DTSTAMP:20260422T233021
CREATED:20200423T012714Z
LAST-MODIFIED:20200423T012714Z
UID:6379-1817703000-1817703000@theorchardcommunitychurch.com
SUMMARY:Sunday Worship Service
DESCRIPTION:Details
URL:https://theorchardcommunitychurch.com/event/sunday-worship-service/2027-08-08/
LOCATION:The Orchard Community Church\, 1 NORTH ST\,\, GORHAM\, ME\, 04038
CATEGORIES:Church Service
END:VEVENT
BEGIN:VEVENT
DTSTART;TZID=America/New_York:20270808T053000
DTEND;TZID=America/New_York:20270808T053000
DTSTAMP:20260422T233021
CREATED:20220228T000902Z
LAST-MODIFIED:20220228T000902Z
UID:6380-1817703000-1817703000@theorchardcommunitychurch.com
SUMMARY:Worship Service
DESCRIPTION:
URL:https://theorchardcommunitychurch.com/event/worship-service/2027-08-08/
LOCATION:The Orchard Community Church\, 1 NORTH ST\,\, GORHAM\, ME\, 04038
CATEGORIES:Church Service
END:VEVENT
BEGIN:VEVENT
DTSTART;TZID=America/New_York:20270808T053000
DTEND;TZID=America/New_York:20270808T070000
DTSTAMP:20260422T233021
CREATED:20220321T232229Z
LAST-MODIFIED:20220321T232229Z
UID:6382-1817703000-1817708400@theorchardcommunitychurch.com
SUMMARY:Worship Service
DESCRIPTION:
URL:https://theorchardcommunitychurch.com/event/worship-service-4/2027-08-08/
LOCATION:The Orchard Community Church\, 1 NORTH ST\,\, GORHAM\, ME\, 04038
CATEGORIES:Church Service
END:VEVENT
BEGIN:VEVENT
DTSTART;TZID=America/New_York:20270808T093000
DTEND;TZID=America/New_York:20270808T093000
DTSTAMP:20260422T233021
CREATED:20220228T001907Z
LAST-MODIFIED:20220228T001907Z
UID:6381-1817717400-1817717400@theorchardcommunitychurch.com
SUMMARY:Worship Service
DESCRIPTION:
URL:https://theorchardcommunitychurch.com/event/worship-service-2/2027-08-08/
LOCATION:The Orchard Community Church\, 1 NORTH ST\,\, GORHAM\, ME\, 04038
CATEGORIES:Church Service
END:VEVENT
BEGIN:VEVENT
DTSTART;TZID=America/New_York:20270811T140000
DTEND;TZID=America/New_York:20270811T153000
DTSTAMP:20260422T233021
CREATED:20200423T013106Z
LAST-MODIFIED:20200423T013106Z
UID:6383-1817992800-1817998200@theorchardcommunitychurch.com
SUMMARY:Bible Study
DESCRIPTION:If you would like to join or gor more information about our Small Group Bible Study contact us here
URL:https://theorchardcommunitychurch.com/event/bible-study/2027-08-11/
LOCATION:The Orchard Community Church\, 1 NORTH ST\,\, GORHAM\, ME\, 04038
END:VEVENT
BEGIN:VEVENT
DTSTART;TZID=America/New_York:20270814T033000
DTEND;TZID=America/New_York:20270814T050000
DTSTAMP:20260422T233021
CREATED:20200423T011934Z
LAST-MODIFIED:20200423T011934Z
UID:6384-1818214200-1818219600@theorchardcommunitychurch.com
SUMMARY:Women's Group
DESCRIPTION:Details
URL:https://theorchardcommunitychurch.com/event/womens-group/2027-08-14/
LOCATION:The Orchard Community Church\, 1 NORTH ST\,\, GORHAM\, ME\, 04038
CATEGORIES:Women's Group
END:VEVENT
BEGIN:VEVENT
DTSTART;TZID=America/New_York:20270814T033000
DTEND;TZID=America/New_York:20270814T050000
DTSTAMP:20260422T233021
CREATED:20200423T012334Z
LAST-MODIFIED:20200423T012334Z
UID:6385-1818214200-1818219600@theorchardcommunitychurch.com
SUMMARY:Men's Group
DESCRIPTION:Details
URL:https://theorchardcommunitychurch.com/event/mens-group/2027-08-14/
LOCATION:The Orchard Community Church\, 1 NORTH ST\,\, GORHAM\, ME\, 04038
END:VEVENT
BEGIN:VEVENT
DTSTART;TZID=America/New_York:20270815T053000
DTEND;TZID=America/New_York:20270815T053000
DTSTAMP:20260422T233021
CREATED:20200423T012714Z
LAST-MODIFIED:20200423T012714Z
UID:6386-1818307800-1818307800@theorchardcommunitychurch.com
SUMMARY:Sunday Worship Service
DESCRIPTION:Details
URL:https://theorchardcommunitychurch.com/event/sunday-worship-service/2027-08-15/
LOCATION:The Orchard Community Church\, 1 NORTH ST\,\, GORHAM\, ME\, 04038
CATEGORIES:Church Service
END:VEVENT
BEGIN:VEVENT
DTSTART;TZID=America/New_York:20270815T053000
DTEND;TZID=America/New_York:20270815T053000
DTSTAMP:20260422T233021
CREATED:20220228T000902Z
LAST-MODIFIED:20220228T000902Z
UID:6387-1818307800-1818307800@theorchardcommunitychurch.com
SUMMARY:Worship Service
DESCRIPTION:
URL:https://theorchardcommunitychurch.com/event/worship-service/2027-08-15/
LOCATION:The Orchard Community Church\, 1 NORTH ST\,\, GORHAM\, ME\, 04038
CATEGORIES:Church Service
END:VEVENT
BEGIN:VEVENT
DTSTART;TZID=America/New_York:20270815T053000
DTEND;TZID=America/New_York:20270815T070000
DTSTAMP:20260422T233021
CREATED:20220321T232229Z
LAST-MODIFIED:20220321T232229Z
UID:6389-1818307800-1818313200@theorchardcommunitychurch.com
SUMMARY:Worship Service
DESCRIPTION:
URL:https://theorchardcommunitychurch.com/event/worship-service-4/2027-08-15/
LOCATION:The Orchard Community Church\, 1 NORTH ST\,\, GORHAM\, ME\, 04038
CATEGORIES:Church Service
END:VEVENT
BEGIN:VEVENT
DTSTART;TZID=America/New_York:20270815T093000
DTEND;TZID=America/New_York:20270815T093000
DTSTAMP:20260422T233021
CREATED:20220228T001907Z
LAST-MODIFIED:20220228T001907Z
UID:6388-1818322200-1818322200@theorchardcommunitychurch.com
SUMMARY:Worship Service
DESCRIPTION:
URL:https://theorchardcommunitychurch.com/event/worship-service-2/2027-08-15/
LOCATION:The Orchard Community Church\, 1 NORTH ST\,\, GORHAM\, ME\, 04038
CATEGORIES:Church Service
END:VEVENT
BEGIN:VEVENT
DTSTART;TZID=America/New_York:20270818T140000
DTEND;TZID=America/New_York:20270818T153000
DTSTAMP:20260422T233021
CREATED:20200423T013106Z
LAST-MODIFIED:20200423T013106Z
UID:6390-1818597600-1818603000@theorchardcommunitychurch.com
SUMMARY:Bible Study
DESCRIPTION:If you would like to join or gor more information about our Small Group Bible Study contact us here
URL:https://theorchardcommunitychurch.com/event/bible-study/2027-08-18/
LOCATION:The Orchard Community Church\, 1 NORTH ST\,\, GORHAM\, ME\, 04038
END:VEVENT
BEGIN:VEVENT
DTSTART;TZID=America/New_York:20270821T033000
DTEND;TZID=America/New_York:20270821T050000
DTSTAMP:20260422T233021
CREATED:20200423T011934Z
LAST-MODIFIED:20200423T011934Z
UID:6391-1818819000-1818824400@theorchardcommunitychurch.com
SUMMARY:Women's Group
DESCRIPTION:Details
URL:https://theorchardcommunitychurch.com/event/womens-group/2027-08-21/
LOCATION:The Orchard Community Church\, 1 NORTH ST\,\, GORHAM\, ME\, 04038
CATEGORIES:Women's Group
END:VEVENT
BEGIN:VEVENT
DTSTART;TZID=America/New_York:20270821T033000
DTEND;TZID=America/New_York:20270821T050000
DTSTAMP:20260422T233021
CREATED:20200423T012334Z
LAST-MODIFIED:20200423T012334Z
UID:6392-1818819000-1818824400@theorchardcommunitychurch.com
SUMMARY:Men's Group
DESCRIPTION:Details
URL:https://theorchardcommunitychurch.com/event/mens-group/2027-08-21/
LOCATION:The Orchard Community Church\, 1 NORTH ST\,\, GORHAM\, ME\, 04038
END:VEVENT
BEGIN:VEVENT
DTSTART;TZID=America/New_York:20270822T053000
DTEND;TZID=America/New_York:20270822T053000
DTSTAMP:20260422T233022
CREATED:20200423T012714Z
LAST-MODIFIED:20200423T012714Z
UID:6393-1818912600-1818912600@theorchardcommunitychurch.com
SUMMARY:Sunday Worship Service
DESCRIPTION:Details
URL:https://theorchardcommunitychurch.com/event/sunday-worship-service/2027-08-22/
LOCATION:The Orchard Community Church\, 1 NORTH ST\,\, GORHAM\, ME\, 04038
CATEGORIES:Church Service
END:VEVENT
BEGIN:VEVENT
DTSTART;TZID=America/New_York:20270822T053000
DTEND;TZID=America/New_York:20270822T053000
DTSTAMP:20260422T233022
CREATED:20220228T000902Z
LAST-MODIFIED:20220228T000902Z
UID:6394-1818912600-1818912600@theorchardcommunitychurch.com
SUMMARY:Worship Service
DESCRIPTION:
URL:https://theorchardcommunitychurch.com/event/worship-service/2027-08-22/
LOCATION:The Orchard Community Church\, 1 NORTH ST\,\, GORHAM\, ME\, 04038
CATEGORIES:Church Service
END:VEVENT
END:VCALENDAR