BEGIN:VCALENDAR
VERSION:2.0
PRODID:-//Orchard Community Church - ECPv6.9.0//NONSGML v1.0//EN
CALSCALE:GREGORIAN
METHOD:PUBLISH
X-ORIGINAL-URL:https://theorchardcommunitychurch.com
X-WR-CALDESC:Events for Orchard Community Church
REFRESH-INTERVAL;VALUE=DURATION:PT1H
X-Robots-Tag:noindex
X-PUBLISHED-TTL:PT1H
BEGIN:VTIMEZONE
TZID:America/New_York
BEGIN:DAYLIGHT
TZOFFSETFROM:-0500
TZOFFSETTO:-0400
TZNAME:EDT
DTSTART:20240310T070000
END:DAYLIGHT
BEGIN:STANDARD
TZOFFSETFROM:-0400
TZOFFSETTO:-0500
TZNAME:EST
DTSTART:20241103T060000
END:STANDARD
BEGIN:DAYLIGHT
TZOFFSETFROM:-0500
TZOFFSETTO:-0400
TZNAME:EDT
DTSTART:20250309T070000
END:DAYLIGHT
BEGIN:STANDARD
TZOFFSETFROM:-0400
TZOFFSETTO:-0500
TZNAME:EST
DTSTART:20251102T060000
END:STANDARD
END:VTIMEZONE
BEGIN:VEVENT
DTSTART;TZID=America/New_York:20250111T023000
DTEND;TZID=America/New_York:20250111T040000
DTSTAMP:20260424T022515
CREATED:20200423T011934Z
LAST-MODIFIED:20200423T011934Z
UID:5284-1736562600-1736568000@theorchardcommunitychurch.com
SUMMARY:Women's Group
DESCRIPTION:Details
URL:https://theorchardcommunitychurch.com/event/womens-group/2025-01-11/
LOCATION:The Orchard Community Church\, 1 NORTH ST\,\, GORHAM\, ME\, 04038
CATEGORIES:Women's Group
END:VEVENT
BEGIN:VEVENT
DTSTART;TZID=America/New_York:20250108T183000
DTEND;TZID=America/New_York:20250108T200000
DTSTAMP:20260424T022515
CREATED:20250108T175354Z
LAST-MODIFIED:20250108T175354Z
UID:6154-1736361000-1736366400@theorchardcommunitychurch.com
SUMMARY:Mixed Group Bible Study
DESCRIPTION:
URL:https://theorchardcommunitychurch.com/event/mixed-group-bible-study-2/
LOCATION:The Orchard Community Church\, 1 NORTH ST\,\, GORHAM\, ME\, 04038
END:VEVENT
BEGIN:VEVENT
DTSTART;TZID=America/New_York:20250108T130000
DTEND;TZID=America/New_York:20250108T143000
DTSTAMP:20260424T022515
CREATED:20200423T013106Z
LAST-MODIFIED:20200423T013106Z
UID:5283-1736341200-1736346600@theorchardcommunitychurch.com
SUMMARY:Bible Study
DESCRIPTION:If you would like to join or gor more information about our Small Group Bible Study contact us here
URL:https://theorchardcommunitychurch.com/event/bible-study/2025-01-08/
LOCATION:The Orchard Community Church\, 1 NORTH ST\,\, GORHAM\, ME\, 04038
END:VEVENT
BEGIN:VEVENT
DTSTART;TZID=America/New_York:20250105T093000
DTEND;TZID=America/New_York:20250105T093000
DTSTAMP:20260424T022515
CREATED:20220228T001907Z
LAST-MODIFIED:20220228T001907Z
UID:5277-1736069400-1736069400@theorchardcommunitychurch.com
SUMMARY:Worship Service
DESCRIPTION:
URL:https://theorchardcommunitychurch.com/event/worship-service-2/2025-01-05/
LOCATION:The Orchard Community Church\, 1 NORTH ST\,\, GORHAM\, ME\, 04038
CATEGORIES:Church Service
END:VEVENT
BEGIN:VEVENT
DTSTART;TZID=America/New_York:20250105T043000
DTEND;TZID=America/New_York:20250105T060000
DTSTAMP:20260424T022515
CREATED:20220321T232229Z
LAST-MODIFIED:20220321T232229Z
UID:5278-1736051400-1736056800@theorchardcommunitychurch.com
SUMMARY:Worship Service
DESCRIPTION:
URL:https://theorchardcommunitychurch.com/event/worship-service-4/2025-01-05/
LOCATION:The Orchard Community Church\, 1 NORTH ST\,\, GORHAM\, ME\, 04038
CATEGORIES:Church Service
END:VEVENT
BEGIN:VEVENT
DTSTART;TZID=America/New_York:20250105T043000
DTEND;TZID=America/New_York:20250105T043000
DTSTAMP:20260424T022515
CREATED:20220228T000902Z
LAST-MODIFIED:20220228T000902Z
UID:5276-1736051400-1736051400@theorchardcommunitychurch.com
SUMMARY:Worship Service
DESCRIPTION:
URL:https://theorchardcommunitychurch.com/event/worship-service/2025-01-05/
LOCATION:The Orchard Community Church\, 1 NORTH ST\,\, GORHAM\, ME\, 04038
CATEGORIES:Church Service
END:VEVENT
BEGIN:VEVENT
DTSTART;TZID=America/New_York:20250105T043000
DTEND;TZID=America/New_York:20250105T043000
DTSTAMP:20260424T022515
CREATED:20200423T012714Z
LAST-MODIFIED:20200423T012714Z
UID:5275-1736051400-1736051400@theorchardcommunitychurch.com
SUMMARY:Sunday Worship Service
DESCRIPTION:Details
URL:https://theorchardcommunitychurch.com/event/sunday-worship-service/2025-01-05/
LOCATION:The Orchard Community Church\, 1 NORTH ST\,\, GORHAM\, ME\, 04038
CATEGORIES:Church Service
END:VEVENT
BEGIN:VEVENT
DTSTART;TZID=America/New_York:20250104T023000
DTEND;TZID=America/New_York:20250104T040000
DTSTAMP:20260424T022515
CREATED:20200423T012334Z
LAST-MODIFIED:20200423T012334Z
UID:5274-1735957800-1735963200@theorchardcommunitychurch.com
SUMMARY:Men's Group
DESCRIPTION:Details
URL:https://theorchardcommunitychurch.com/event/mens-group/2025-01-04/
LOCATION:The Orchard Community Church\, 1 NORTH ST\,\, GORHAM\, ME\, 04038
END:VEVENT
BEGIN:VEVENT
DTSTART;TZID=America/New_York:20250104T023000
DTEND;TZID=America/New_York:20250104T040000
DTSTAMP:20260424T022515
CREATED:20200423T011934Z
LAST-MODIFIED:20200423T011934Z
UID:5273-1735957800-1735963200@theorchardcommunitychurch.com
SUMMARY:Women's Group
DESCRIPTION:Details
URL:https://theorchardcommunitychurch.com/event/womens-group/2025-01-04/
LOCATION:The Orchard Community Church\, 1 NORTH ST\,\, GORHAM\, ME\, 04038
CATEGORIES:Women's Group
END:VEVENT
BEGIN:VEVENT
DTSTART;TZID=America/New_York:20250101T130000
DTEND;TZID=America/New_York:20250101T143000
DTSTAMP:20260424T022515
CREATED:20200423T013106Z
LAST-MODIFIED:20200423T013106Z
UID:5272-1735736400-1735741800@theorchardcommunitychurch.com
SUMMARY:Bible Study
DESCRIPTION:If you would like to join or gor more information about our Small Group Bible Study contact us here
URL:https://theorchardcommunitychurch.com/event/bible-study/2025-01-01/
LOCATION:The Orchard Community Church\, 1 NORTH ST\,\, GORHAM\, ME\, 04038
END:VEVENT
BEGIN:VEVENT
DTSTART;TZID=America/New_York:20241229T093000
DTEND;TZID=America/New_York:20241229T093000
DTSTAMP:20260424T022515
CREATED:20220228T001907Z
LAST-MODIFIED:20220228T001907Z
UID:5256-1735464600-1735464600@theorchardcommunitychurch.com
SUMMARY:Worship Service
DESCRIPTION:
URL:https://theorchardcommunitychurch.com/event/worship-service-2/2024-12-29/
LOCATION:The Orchard Community Church\, 1 NORTH ST\,\, GORHAM\, ME\, 04038
CATEGORIES:Church Service
END:VEVENT
BEGIN:VEVENT
DTSTART;TZID=America/New_York:20241229T043000
DTEND;TZID=America/New_York:20241229T060000
DTSTAMP:20260424T022515
CREATED:20220321T232229Z
LAST-MODIFIED:20220321T232229Z
UID:5257-1735446600-1735452000@theorchardcommunitychurch.com
SUMMARY:Worship Service
DESCRIPTION:
URL:https://theorchardcommunitychurch.com/event/worship-service-4/2024-12-29/
LOCATION:The Orchard Community Church\, 1 NORTH ST\,\, GORHAM\, ME\, 04038
CATEGORIES:Church Service
END:VEVENT
BEGIN:VEVENT
DTSTART;TZID=America/New_York:20241229T043000
DTEND;TZID=America/New_York:20241229T043000
DTSTAMP:20260424T022515
CREATED:20220228T000902Z
LAST-MODIFIED:20220228T000902Z
UID:5255-1735446600-1735446600@theorchardcommunitychurch.com
SUMMARY:Worship Service
DESCRIPTION:
URL:https://theorchardcommunitychurch.com/event/worship-service/2024-12-29/
LOCATION:The Orchard Community Church\, 1 NORTH ST\,\, GORHAM\, ME\, 04038
CATEGORIES:Church Service
END:VEVENT
BEGIN:VEVENT
DTSTART;TZID=America/New_York:20241229T043000
DTEND;TZID=America/New_York:20241229T043000
DTSTAMP:20260424T022515
CREATED:20200423T012714Z
LAST-MODIFIED:20200423T012714Z
UID:5254-1735446600-1735446600@theorchardcommunitychurch.com
SUMMARY:Sunday Worship Service
DESCRIPTION:Details
URL:https://theorchardcommunitychurch.com/event/sunday-worship-service/2024-12-29/
LOCATION:The Orchard Community Church\, 1 NORTH ST\,\, GORHAM\, ME\, 04038
CATEGORIES:Church Service
END:VEVENT
BEGIN:VEVENT
DTSTART;TZID=America/New_York:20241228T023000
DTEND;TZID=America/New_York:20241228T040000
DTSTAMP:20260424T022515
CREATED:20200423T012334Z
LAST-MODIFIED:20200423T012334Z
UID:5253-1735353000-1735358400@theorchardcommunitychurch.com
SUMMARY:Men's Group
DESCRIPTION:Details
URL:https://theorchardcommunitychurch.com/event/mens-group/2024-12-28/
LOCATION:The Orchard Community Church\, 1 NORTH ST\,\, GORHAM\, ME\, 04038
END:VEVENT
BEGIN:VEVENT
DTSTART;TZID=America/New_York:20241228T023000
DTEND;TZID=America/New_York:20241228T040000
DTSTAMP:20260424T022515
CREATED:20200423T011934Z
LAST-MODIFIED:20200423T011934Z
UID:5252-1735353000-1735358400@theorchardcommunitychurch.com
SUMMARY:Women's Group
DESCRIPTION:Details
URL:https://theorchardcommunitychurch.com/event/womens-group/2024-12-28/
LOCATION:The Orchard Community Church\, 1 NORTH ST\,\, GORHAM\, ME\, 04038
CATEGORIES:Women's Group
END:VEVENT
BEGIN:VEVENT
DTSTART;TZID=America/New_York:20241225T130000
DTEND;TZID=America/New_York:20241225T143000
DTSTAMP:20260424T022515
CREATED:20200423T013106Z
LAST-MODIFIED:20200423T013106Z
UID:5251-1735131600-1735137000@theorchardcommunitychurch.com
SUMMARY:Bible Study
DESCRIPTION:If you would like to join or gor more information about our Small Group Bible Study contact us here
URL:https://theorchardcommunitychurch.com/event/bible-study/2024-12-25/
LOCATION:The Orchard Community Church\, 1 NORTH ST\,\, GORHAM\, ME\, 04038
END:VEVENT
BEGIN:VEVENT
DTSTART;TZID=America/New_York:20241222T093000
DTEND;TZID=America/New_York:20241222T093000
DTSTAMP:20260424T022515
CREATED:20220228T001907Z
LAST-MODIFIED:20220228T001907Z
UID:5249-1734859800-1734859800@theorchardcommunitychurch.com
SUMMARY:Worship Service
DESCRIPTION:
URL:https://theorchardcommunitychurch.com/event/worship-service-2/2024-12-22/
LOCATION:The Orchard Community Church\, 1 NORTH ST\,\, GORHAM\, ME\, 04038
CATEGORIES:Church Service
END:VEVENT
BEGIN:VEVENT
DTSTART;TZID=America/New_York:20241222T043000
DTEND;TZID=America/New_York:20241222T060000
DTSTAMP:20260424T022515
CREATED:20220321T232229Z
LAST-MODIFIED:20220321T232229Z
UID:5250-1734841800-1734847200@theorchardcommunitychurch.com
SUMMARY:Worship Service
DESCRIPTION:
URL:https://theorchardcommunitychurch.com/event/worship-service-4/2024-12-22/
LOCATION:The Orchard Community Church\, 1 NORTH ST\,\, GORHAM\, ME\, 04038
CATEGORIES:Church Service
END:VEVENT
BEGIN:VEVENT
DTSTART;TZID=America/New_York:20241222T043000
DTEND;TZID=America/New_York:20241222T043000
DTSTAMP:20260424T022515
CREATED:20220228T000902Z
LAST-MODIFIED:20220228T000902Z
UID:5248-1734841800-1734841800@theorchardcommunitychurch.com
SUMMARY:Worship Service
DESCRIPTION:
URL:https://theorchardcommunitychurch.com/event/worship-service/2024-12-22/
LOCATION:The Orchard Community Church\, 1 NORTH ST\,\, GORHAM\, ME\, 04038
CATEGORIES:Church Service
END:VEVENT
BEGIN:VEVENT
DTSTART;TZID=America/New_York:20241222T043000
DTEND;TZID=America/New_York:20241222T043000
DTSTAMP:20260424T022515
CREATED:20200423T012714Z
LAST-MODIFIED:20200423T012714Z
UID:5247-1734841800-1734841800@theorchardcommunitychurch.com
SUMMARY:Sunday Worship Service
DESCRIPTION:Details
URL:https://theorchardcommunitychurch.com/event/sunday-worship-service/2024-12-22/
LOCATION:The Orchard Community Church\, 1 NORTH ST\,\, GORHAM\, ME\, 04038
CATEGORIES:Church Service
END:VEVENT
BEGIN:VEVENT
DTSTART;TZID=America/New_York:20241221T023000
DTEND;TZID=America/New_York:20241221T040000
DTSTAMP:20260424T022515
CREATED:20200423T012334Z
LAST-MODIFIED:20200423T012334Z
UID:5246-1734748200-1734753600@theorchardcommunitychurch.com
SUMMARY:Men's Group
DESCRIPTION:Details
URL:https://theorchardcommunitychurch.com/event/mens-group/2024-12-21/
LOCATION:The Orchard Community Church\, 1 NORTH ST\,\, GORHAM\, ME\, 04038
END:VEVENT
BEGIN:VEVENT
DTSTART;TZID=America/New_York:20241221T023000
DTEND;TZID=America/New_York:20241221T040000
DTSTAMP:20260424T022515
CREATED:20200423T011934Z
LAST-MODIFIED:20200423T011934Z
UID:5245-1734748200-1734753600@theorchardcommunitychurch.com
SUMMARY:Women's Group
DESCRIPTION:Details
URL:https://theorchardcommunitychurch.com/event/womens-group/2024-12-21/
LOCATION:The Orchard Community Church\, 1 NORTH ST\,\, GORHAM\, ME\, 04038
CATEGORIES:Women's Group
END:VEVENT
BEGIN:VEVENT
DTSTART;TZID=America/New_York:20241218T130000
DTEND;TZID=America/New_York:20241218T143000
DTSTAMP:20260424T022515
CREATED:20200423T013106Z
LAST-MODIFIED:20200423T013106Z
UID:5244-1734526800-1734532200@theorchardcommunitychurch.com
SUMMARY:Bible Study
DESCRIPTION:If you would like to join or gor more information about our Small Group Bible Study contact us here
URL:https://theorchardcommunitychurch.com/event/bible-study/2024-12-18/
LOCATION:The Orchard Community Church\, 1 NORTH ST\,\, GORHAM\, ME\, 04038
END:VEVENT
BEGIN:VEVENT
DTSTART;TZID=America/New_York:20241215T093000
DTEND;TZID=America/New_York:20241215T093000
DTSTAMP:20260424T022515
CREATED:20220228T001907Z
LAST-MODIFIED:20220228T001907Z
UID:5229-1734255000-1734255000@theorchardcommunitychurch.com
SUMMARY:Worship Service
DESCRIPTION:
URL:https://theorchardcommunitychurch.com/event/worship-service-2/2024-12-15/
LOCATION:The Orchard Community Church\, 1 NORTH ST\,\, GORHAM\, ME\, 04038
CATEGORIES:Church Service
END:VEVENT
BEGIN:VEVENT
DTSTART;TZID=America/New_York:20241215T043000
DTEND;TZID=America/New_York:20241215T060000
DTSTAMP:20260424T022515
CREATED:20220321T232229Z
LAST-MODIFIED:20220321T232229Z
UID:5230-1734237000-1734242400@theorchardcommunitychurch.com
SUMMARY:Worship Service
DESCRIPTION:
URL:https://theorchardcommunitychurch.com/event/worship-service-4/2024-12-15/
LOCATION:The Orchard Community Church\, 1 NORTH ST\,\, GORHAM\, ME\, 04038
CATEGORIES:Church Service
END:VEVENT
BEGIN:VEVENT
DTSTART;TZID=America/New_York:20241215T043000
DTEND;TZID=America/New_York:20241215T043000
DTSTAMP:20260424T022515
CREATED:20220228T000902Z
LAST-MODIFIED:20220228T000902Z
UID:5228-1734237000-1734237000@theorchardcommunitychurch.com
SUMMARY:Worship Service
DESCRIPTION:
URL:https://theorchardcommunitychurch.com/event/worship-service/2024-12-15/
LOCATION:The Orchard Community Church\, 1 NORTH ST\,\, GORHAM\, ME\, 04038
CATEGORIES:Church Service
END:VEVENT
BEGIN:VEVENT
DTSTART;TZID=America/New_York:20241215T043000
DTEND;TZID=America/New_York:20241215T043000
DTSTAMP:20260424T022515
CREATED:20200423T012714Z
LAST-MODIFIED:20200423T012714Z
UID:5227-1734237000-1734237000@theorchardcommunitychurch.com
SUMMARY:Sunday Worship Service
DESCRIPTION:Details
URL:https://theorchardcommunitychurch.com/event/sunday-worship-service/2024-12-15/
LOCATION:The Orchard Community Church\, 1 NORTH ST\,\, GORHAM\, ME\, 04038
CATEGORIES:Church Service
END:VEVENT
BEGIN:VEVENT
DTSTART;TZID=America/New_York:20241214T023000
DTEND;TZID=America/New_York:20241214T040000
DTSTAMP:20260424T022515
CREATED:20200423T012334Z
LAST-MODIFIED:20200423T012334Z
UID:5226-1734143400-1734148800@theorchardcommunitychurch.com
SUMMARY:Men's Group
DESCRIPTION:Details
URL:https://theorchardcommunitychurch.com/event/mens-group/2024-12-14/
LOCATION:The Orchard Community Church\, 1 NORTH ST\,\, GORHAM\, ME\, 04038
END:VEVENT
BEGIN:VEVENT
DTSTART;TZID=America/New_York:20241214T023000
DTEND;TZID=America/New_York:20241214T040000
DTSTAMP:20260424T022515
CREATED:20200423T011934Z
LAST-MODIFIED:20200423T011934Z
UID:5225-1734143400-1734148800@theorchardcommunitychurch.com
SUMMARY:Women's Group
DESCRIPTION:Details
URL:https://theorchardcommunitychurch.com/event/womens-group/2024-12-14/
LOCATION:The Orchard Community Church\, 1 NORTH ST\,\, GORHAM\, ME\, 04038
CATEGORIES:Women's Group
END:VEVENT
END:VCALENDAR