BEGIN:VCALENDAR
VERSION:2.0
PRODID:-//Orchard Community Church - ECPv6.9.0//NONSGML v1.0//EN
CALSCALE:GREGORIAN
METHOD:PUBLISH
X-ORIGINAL-URL:https://theorchardcommunitychurch.com
X-WR-CALDESC:Events for Orchard Community Church
REFRESH-INTERVAL;VALUE=DURATION:PT1H
X-Robots-Tag:noindex
X-PUBLISHED-TTL:PT1H
BEGIN:VTIMEZONE
TZID:America/New_York
BEGIN:DAYLIGHT
TZOFFSETFROM:-0500
TZOFFSETTO:-0400
TZNAME:EDT
DTSTART:20270314T070000
END:DAYLIGHT
BEGIN:STANDARD
TZOFFSETFROM:-0400
TZOFFSETTO:-0500
TZNAME:EST
DTSTART:20271107T060000
END:STANDARD
END:VTIMEZONE
BEGIN:VEVENT
DTSTART;TZID=America/New_York:20270829T053000
DTEND;TZID=America/New_York:20270829T053000
DTSTAMP:20260423T040227
CREATED:20220228T000902Z
LAST-MODIFIED:20220228T000902Z
UID:6401-1819517400-1819517400@theorchardcommunitychurch.com
SUMMARY:Worship Service
DESCRIPTION:
URL:https://theorchardcommunitychurch.com/event/worship-service/2027-08-29/
LOCATION:The Orchard Community Church\, 1 NORTH ST\,\, GORHAM\, ME\, 04038
CATEGORIES:Church Service
END:VEVENT
BEGIN:VEVENT
DTSTART;TZID=America/New_York:20270829T053000
DTEND;TZID=America/New_York:20270829T070000
DTSTAMP:20260423T040227
CREATED:20220321T232229Z
LAST-MODIFIED:20220321T232229Z
UID:6403-1819517400-1819522800@theorchardcommunitychurch.com
SUMMARY:Worship Service
DESCRIPTION:
URL:https://theorchardcommunitychurch.com/event/worship-service-4/2027-08-29/
LOCATION:The Orchard Community Church\, 1 NORTH ST\,\, GORHAM\, ME\, 04038
CATEGORIES:Church Service
END:VEVENT
BEGIN:VEVENT
DTSTART;TZID=America/New_York:20270829T093000
DTEND;TZID=America/New_York:20270829T093000
DTSTAMP:20260423T040227
CREATED:20220228T001907Z
LAST-MODIFIED:20220228T001907Z
UID:6402-1819531800-1819531800@theorchardcommunitychurch.com
SUMMARY:Worship Service
DESCRIPTION:
URL:https://theorchardcommunitychurch.com/event/worship-service-2/2027-08-29/
LOCATION:The Orchard Community Church\, 1 NORTH ST\,\, GORHAM\, ME\, 04038
CATEGORIES:Church Service
END:VEVENT
BEGIN:VEVENT
DTSTART;TZID=America/New_York:20270901T140000
DTEND;TZID=America/New_York:20270901T153000
DTSTAMP:20260423T040227
CREATED:20200423T013106Z
LAST-MODIFIED:20200423T013106Z
UID:6404-1819807200-1819812600@theorchardcommunitychurch.com
SUMMARY:Bible Study
DESCRIPTION:If you would like to join or gor more information about our Small Group Bible Study contact us here
URL:https://theorchardcommunitychurch.com/event/bible-study/2027-09-01/
LOCATION:The Orchard Community Church\, 1 NORTH ST\,\, GORHAM\, ME\, 04038
END:VEVENT
BEGIN:VEVENT
DTSTART;TZID=America/New_York:20270904T033000
DTEND;TZID=America/New_York:20270904T050000
DTSTAMP:20260423T040227
CREATED:20200423T011934Z
LAST-MODIFIED:20200423T011934Z
UID:6405-1820028600-1820034000@theorchardcommunitychurch.com
SUMMARY:Women's Group
DESCRIPTION:Details
URL:https://theorchardcommunitychurch.com/event/womens-group/2027-09-04/
LOCATION:The Orchard Community Church\, 1 NORTH ST\,\, GORHAM\, ME\, 04038
CATEGORIES:Women's Group
END:VEVENT
BEGIN:VEVENT
DTSTART;TZID=America/New_York:20270904T033000
DTEND;TZID=America/New_York:20270904T050000
DTSTAMP:20260423T040227
CREATED:20200423T012334Z
LAST-MODIFIED:20200423T012334Z
UID:6406-1820028600-1820034000@theorchardcommunitychurch.com
SUMMARY:Men's Group
DESCRIPTION:Details
URL:https://theorchardcommunitychurch.com/event/mens-group/2027-09-04/
LOCATION:The Orchard Community Church\, 1 NORTH ST\,\, GORHAM\, ME\, 04038
END:VEVENT
BEGIN:VEVENT
DTSTART;TZID=America/New_York:20270905T053000
DTEND;TZID=America/New_York:20270905T053000
DTSTAMP:20260423T040227
CREATED:20200423T012714Z
LAST-MODIFIED:20200423T012714Z
UID:6407-1820122200-1820122200@theorchardcommunitychurch.com
SUMMARY:Sunday Worship Service
DESCRIPTION:Details
URL:https://theorchardcommunitychurch.com/event/sunday-worship-service/2027-09-05/
LOCATION:The Orchard Community Church\, 1 NORTH ST\,\, GORHAM\, ME\, 04038
CATEGORIES:Church Service
END:VEVENT
BEGIN:VEVENT
DTSTART;TZID=America/New_York:20270905T053000
DTEND;TZID=America/New_York:20270905T053000
DTSTAMP:20260423T040227
CREATED:20220228T000902Z
LAST-MODIFIED:20220228T000902Z
UID:6408-1820122200-1820122200@theorchardcommunitychurch.com
SUMMARY:Worship Service
DESCRIPTION:
URL:https://theorchardcommunitychurch.com/event/worship-service/2027-09-05/
LOCATION:The Orchard Community Church\, 1 NORTH ST\,\, GORHAM\, ME\, 04038
CATEGORIES:Church Service
END:VEVENT
BEGIN:VEVENT
DTSTART;TZID=America/New_York:20270905T053000
DTEND;TZID=America/New_York:20270905T070000
DTSTAMP:20260423T040227
CREATED:20220321T232229Z
LAST-MODIFIED:20220321T232229Z
UID:6410-1820122200-1820127600@theorchardcommunitychurch.com
SUMMARY:Worship Service
DESCRIPTION:
URL:https://theorchardcommunitychurch.com/event/worship-service-4/2027-09-05/
LOCATION:The Orchard Community Church\, 1 NORTH ST\,\, GORHAM\, ME\, 04038
CATEGORIES:Church Service
END:VEVENT
BEGIN:VEVENT
DTSTART;TZID=America/New_York:20270905T093000
DTEND;TZID=America/New_York:20270905T093000
DTSTAMP:20260423T040227
CREATED:20220228T001907Z
LAST-MODIFIED:20220228T001907Z
UID:6409-1820136600-1820136600@theorchardcommunitychurch.com
SUMMARY:Worship Service
DESCRIPTION:
URL:https://theorchardcommunitychurch.com/event/worship-service-2/2027-09-05/
LOCATION:The Orchard Community Church\, 1 NORTH ST\,\, GORHAM\, ME\, 04038
CATEGORIES:Church Service
END:VEVENT
BEGIN:VEVENT
DTSTART;TZID=America/New_York:20270908T140000
DTEND;TZID=America/New_York:20270908T153000
DTSTAMP:20260423T040227
CREATED:20200423T013106Z
LAST-MODIFIED:20200423T013106Z
UID:6411-1820412000-1820417400@theorchardcommunitychurch.com
SUMMARY:Bible Study
DESCRIPTION:If you would like to join or gor more information about our Small Group Bible Study contact us here
URL:https://theorchardcommunitychurch.com/event/bible-study/2027-09-08/
LOCATION:The Orchard Community Church\, 1 NORTH ST\,\, GORHAM\, ME\, 04038
END:VEVENT
BEGIN:VEVENT
DTSTART;TZID=America/New_York:20270911T033000
DTEND;TZID=America/New_York:20270911T050000
DTSTAMP:20260423T040227
CREATED:20200423T011934Z
LAST-MODIFIED:20200423T011934Z
UID:6412-1820633400-1820638800@theorchardcommunitychurch.com
SUMMARY:Women's Group
DESCRIPTION:Details
URL:https://theorchardcommunitychurch.com/event/womens-group/2027-09-11/
LOCATION:The Orchard Community Church\, 1 NORTH ST\,\, GORHAM\, ME\, 04038
CATEGORIES:Women's Group
END:VEVENT
BEGIN:VEVENT
DTSTART;TZID=America/New_York:20270911T033000
DTEND;TZID=America/New_York:20270911T050000
DTSTAMP:20260423T040227
CREATED:20200423T012334Z
LAST-MODIFIED:20200423T012334Z
UID:6413-1820633400-1820638800@theorchardcommunitychurch.com
SUMMARY:Men's Group
DESCRIPTION:Details
URL:https://theorchardcommunitychurch.com/event/mens-group/2027-09-11/
LOCATION:The Orchard Community Church\, 1 NORTH ST\,\, GORHAM\, ME\, 04038
END:VEVENT
BEGIN:VEVENT
DTSTART;TZID=America/New_York:20270912T053000
DTEND;TZID=America/New_York:20270912T053000
DTSTAMP:20260423T040227
CREATED:20200423T012714Z
LAST-MODIFIED:20200423T012714Z
UID:6414-1820727000-1820727000@theorchardcommunitychurch.com
SUMMARY:Sunday Worship Service
DESCRIPTION:Details
URL:https://theorchardcommunitychurch.com/event/sunday-worship-service/2027-09-12/
LOCATION:The Orchard Community Church\, 1 NORTH ST\,\, GORHAM\, ME\, 04038
CATEGORIES:Church Service
END:VEVENT
BEGIN:VEVENT
DTSTART;TZID=America/New_York:20270912T053000
DTEND;TZID=America/New_York:20270912T053000
DTSTAMP:20260423T040227
CREATED:20220228T000902Z
LAST-MODIFIED:20220228T000902Z
UID:6415-1820727000-1820727000@theorchardcommunitychurch.com
SUMMARY:Worship Service
DESCRIPTION:
URL:https://theorchardcommunitychurch.com/event/worship-service/2027-09-12/
LOCATION:The Orchard Community Church\, 1 NORTH ST\,\, GORHAM\, ME\, 04038
CATEGORIES:Church Service
END:VEVENT
BEGIN:VEVENT
DTSTART;TZID=America/New_York:20270912T053000
DTEND;TZID=America/New_York:20270912T070000
DTSTAMP:20260423T040227
CREATED:20220321T232229Z
LAST-MODIFIED:20220321T232229Z
UID:6417-1820727000-1820732400@theorchardcommunitychurch.com
SUMMARY:Worship Service
DESCRIPTION:
URL:https://theorchardcommunitychurch.com/event/worship-service-4/2027-09-12/
LOCATION:The Orchard Community Church\, 1 NORTH ST\,\, GORHAM\, ME\, 04038
CATEGORIES:Church Service
END:VEVENT
BEGIN:VEVENT
DTSTART;TZID=America/New_York:20270912T093000
DTEND;TZID=America/New_York:20270912T093000
DTSTAMP:20260423T040227
CREATED:20220228T001907Z
LAST-MODIFIED:20220228T001907Z
UID:6416-1820741400-1820741400@theorchardcommunitychurch.com
SUMMARY:Worship Service
DESCRIPTION:
URL:https://theorchardcommunitychurch.com/event/worship-service-2/2027-09-12/
LOCATION:The Orchard Community Church\, 1 NORTH ST\,\, GORHAM\, ME\, 04038
CATEGORIES:Church Service
END:VEVENT
BEGIN:VEVENT
DTSTART;TZID=America/New_York:20270915T140000
DTEND;TZID=America/New_York:20270915T153000
DTSTAMP:20260423T040227
CREATED:20200423T013106Z
LAST-MODIFIED:20200423T013106Z
UID:6418-1821016800-1821022200@theorchardcommunitychurch.com
SUMMARY:Bible Study
DESCRIPTION:If you would like to join or gor more information about our Small Group Bible Study contact us here
URL:https://theorchardcommunitychurch.com/event/bible-study/2027-09-15/
LOCATION:The Orchard Community Church\, 1 NORTH ST\,\, GORHAM\, ME\, 04038
END:VEVENT
BEGIN:VEVENT
DTSTART;TZID=America/New_York:20270918T033000
DTEND;TZID=America/New_York:20270918T050000
DTSTAMP:20260423T040227
CREATED:20200423T011934Z
LAST-MODIFIED:20200423T011934Z
UID:6419-1821238200-1821243600@theorchardcommunitychurch.com
SUMMARY:Women's Group
DESCRIPTION:Details
URL:https://theorchardcommunitychurch.com/event/womens-group/2027-09-18/
LOCATION:The Orchard Community Church\, 1 NORTH ST\,\, GORHAM\, ME\, 04038
CATEGORIES:Women's Group
END:VEVENT
BEGIN:VEVENT
DTSTART;TZID=America/New_York:20270918T033000
DTEND;TZID=America/New_York:20270918T050000
DTSTAMP:20260423T040227
CREATED:20200423T012334Z
LAST-MODIFIED:20200423T012334Z
UID:6420-1821238200-1821243600@theorchardcommunitychurch.com
SUMMARY:Men's Group
DESCRIPTION:Details
URL:https://theorchardcommunitychurch.com/event/mens-group/2027-09-18/
LOCATION:The Orchard Community Church\, 1 NORTH ST\,\, GORHAM\, ME\, 04038
END:VEVENT
BEGIN:VEVENT
DTSTART;TZID=America/New_York:20270919T053000
DTEND;TZID=America/New_York:20270919T053000
DTSTAMP:20260423T040227
CREATED:20200423T012714Z
LAST-MODIFIED:20200423T012714Z
UID:6421-1821331800-1821331800@theorchardcommunitychurch.com
SUMMARY:Sunday Worship Service
DESCRIPTION:Details
URL:https://theorchardcommunitychurch.com/event/sunday-worship-service/2027-09-19/
LOCATION:The Orchard Community Church\, 1 NORTH ST\,\, GORHAM\, ME\, 04038
CATEGORIES:Church Service
END:VEVENT
BEGIN:VEVENT
DTSTART;TZID=America/New_York:20270919T053000
DTEND;TZID=America/New_York:20270919T053000
DTSTAMP:20260423T040227
CREATED:20220228T000902Z
LAST-MODIFIED:20220228T000902Z
UID:6422-1821331800-1821331800@theorchardcommunitychurch.com
SUMMARY:Worship Service
DESCRIPTION:
URL:https://theorchardcommunitychurch.com/event/worship-service/2027-09-19/
LOCATION:The Orchard Community Church\, 1 NORTH ST\,\, GORHAM\, ME\, 04038
CATEGORIES:Church Service
END:VEVENT
BEGIN:VEVENT
DTSTART;TZID=America/New_York:20270919T053000
DTEND;TZID=America/New_York:20270919T070000
DTSTAMP:20260423T040227
CREATED:20220321T232229Z
LAST-MODIFIED:20220321T232229Z
UID:6424-1821331800-1821337200@theorchardcommunitychurch.com
SUMMARY:Worship Service
DESCRIPTION:
URL:https://theorchardcommunitychurch.com/event/worship-service-4/2027-09-19/
LOCATION:The Orchard Community Church\, 1 NORTH ST\,\, GORHAM\, ME\, 04038
CATEGORIES:Church Service
END:VEVENT
BEGIN:VEVENT
DTSTART;TZID=America/New_York:20270919T093000
DTEND;TZID=America/New_York:20270919T093000
DTSTAMP:20260423T040227
CREATED:20220228T001907Z
LAST-MODIFIED:20220228T001907Z
UID:6423-1821346200-1821346200@theorchardcommunitychurch.com
SUMMARY:Worship Service
DESCRIPTION:
URL:https://theorchardcommunitychurch.com/event/worship-service-2/2027-09-19/
LOCATION:The Orchard Community Church\, 1 NORTH ST\,\, GORHAM\, ME\, 04038
CATEGORIES:Church Service
END:VEVENT
BEGIN:VEVENT
DTSTART;TZID=America/New_York:20270922T140000
DTEND;TZID=America/New_York:20270922T153000
DTSTAMP:20260423T040227
CREATED:20200423T013106Z
LAST-MODIFIED:20200423T013106Z
UID:6425-1821621600-1821627000@theorchardcommunitychurch.com
SUMMARY:Bible Study
DESCRIPTION:If you would like to join or gor more information about our Small Group Bible Study contact us here
URL:https://theorchardcommunitychurch.com/event/bible-study/2027-09-22/
LOCATION:The Orchard Community Church\, 1 NORTH ST\,\, GORHAM\, ME\, 04038
END:VEVENT
BEGIN:VEVENT
DTSTART;TZID=America/New_York:20270925T033000
DTEND;TZID=America/New_York:20270925T050000
DTSTAMP:20260423T040227
CREATED:20200423T011934Z
LAST-MODIFIED:20200423T011934Z
UID:6426-1821843000-1821848400@theorchardcommunitychurch.com
SUMMARY:Women's Group
DESCRIPTION:Details
URL:https://theorchardcommunitychurch.com/event/womens-group/2027-09-25/
LOCATION:The Orchard Community Church\, 1 NORTH ST\,\, GORHAM\, ME\, 04038
CATEGORIES:Women's Group
END:VEVENT
BEGIN:VEVENT
DTSTART;TZID=America/New_York:20270925T033000
DTEND;TZID=America/New_York:20270925T050000
DTSTAMP:20260423T040227
CREATED:20200423T012334Z
LAST-MODIFIED:20200423T012334Z
UID:6427-1821843000-1821848400@theorchardcommunitychurch.com
SUMMARY:Men's Group
DESCRIPTION:Details
URL:https://theorchardcommunitychurch.com/event/mens-group/2027-09-25/
LOCATION:The Orchard Community Church\, 1 NORTH ST\,\, GORHAM\, ME\, 04038
END:VEVENT
BEGIN:VEVENT
DTSTART;TZID=America/New_York:20270926T053000
DTEND;TZID=America/New_York:20270926T053000
DTSTAMP:20260423T040227
CREATED:20200423T012714Z
LAST-MODIFIED:20200423T012714Z
UID:6428-1821936600-1821936600@theorchardcommunitychurch.com
SUMMARY:Sunday Worship Service
DESCRIPTION:Details
URL:https://theorchardcommunitychurch.com/event/sunday-worship-service/2027-09-26/
LOCATION:The Orchard Community Church\, 1 NORTH ST\,\, GORHAM\, ME\, 04038
CATEGORIES:Church Service
END:VEVENT
BEGIN:VEVENT
DTSTART;TZID=America/New_York:20270926T053000
DTEND;TZID=America/New_York:20270926T053000
DTSTAMP:20260423T040227
CREATED:20220228T000902Z
LAST-MODIFIED:20220228T000902Z
UID:6429-1821936600-1821936600@theorchardcommunitychurch.com
SUMMARY:Worship Service
DESCRIPTION:
URL:https://theorchardcommunitychurch.com/event/worship-service/2027-09-26/
LOCATION:The Orchard Community Church\, 1 NORTH ST\,\, GORHAM\, ME\, 04038
CATEGORIES:Church Service
END:VEVENT
BEGIN:VEVENT
DTSTART;TZID=America/New_York:20270926T053000
DTEND;TZID=America/New_York:20270926T070000
DTSTAMP:20260423T040227
CREATED:20220321T232229Z
LAST-MODIFIED:20220321T232229Z
UID:6431-1821936600-1821942000@theorchardcommunitychurch.com
SUMMARY:Worship Service
DESCRIPTION:
URL:https://theorchardcommunitychurch.com/event/worship-service-4/2027-09-26/
LOCATION:The Orchard Community Church\, 1 NORTH ST\,\, GORHAM\, ME\, 04038
CATEGORIES:Church Service
END:VEVENT
END:VCALENDAR