BEGIN:VCALENDAR
VERSION:2.0
PRODID:-//Orchard Community Church - ECPv6.9.0//NONSGML v1.0//EN
CALSCALE:GREGORIAN
METHOD:PUBLISH
X-ORIGINAL-URL:https://theorchardcommunitychurch.com
X-WR-CALDESC:Events for Orchard Community Church
REFRESH-INTERVAL;VALUE=DURATION:PT1H
X-Robots-Tag:noindex
X-PUBLISHED-TTL:PT1H
BEGIN:VTIMEZONE
TZID:America/New_York
BEGIN:DAYLIGHT
TZOFFSETFROM:-0500
TZOFFSETTO:-0400
TZNAME:EDT
DTSTART:20240310T070000
END:DAYLIGHT
BEGIN:STANDARD
TZOFFSETFROM:-0400
TZOFFSETTO:-0500
TZNAME:EST
DTSTART:20241103T060000
END:STANDARD
END:VTIMEZONE
BEGIN:VEVENT
DTSTART;TZID=America/New_York:20241207T023000
DTEND;TZID=America/New_York:20241207T040000
DTSTAMP:20260424T072055
CREATED:20200423T011934Z
LAST-MODIFIED:20200423T011934Z
UID:5218-1733538600-1733544000@theorchardcommunitychurch.com
SUMMARY:Women's Group
DESCRIPTION:Details
URL:https://theorchardcommunitychurch.com/event/womens-group/2024-12-07/
LOCATION:The Orchard Community Church\, 1 NORTH ST\,\, GORHAM\, ME\, 04038
CATEGORIES:Women's Group
END:VEVENT
BEGIN:VEVENT
DTSTART;TZID=America/New_York:20241204T130000
DTEND;TZID=America/New_York:20241204T143000
DTSTAMP:20260424T072055
CREATED:20200423T013106Z
LAST-MODIFIED:20200423T013106Z
UID:5217-1733317200-1733322600@theorchardcommunitychurch.com
SUMMARY:Bible Study
DESCRIPTION:If you would like to join or gor more information about our Small Group Bible Study contact us here
URL:https://theorchardcommunitychurch.com/event/bible-study/2024-12-04/
LOCATION:The Orchard Community Church\, 1 NORTH ST\,\, GORHAM\, ME\, 04038
END:VEVENT
BEGIN:VEVENT
DTSTART;TZID=America/New_York:20241201T093000
DTEND;TZID=America/New_York:20241201T093000
DTSTAMP:20260424T072055
CREATED:20220228T001907Z
LAST-MODIFIED:20220228T001907Z
UID:5215-1733045400-1733045400@theorchardcommunitychurch.com
SUMMARY:Worship Service
DESCRIPTION:
URL:https://theorchardcommunitychurch.com/event/worship-service-2/2024-12-01/
LOCATION:The Orchard Community Church\, 1 NORTH ST\,\, GORHAM\, ME\, 04038
CATEGORIES:Church Service
END:VEVENT
BEGIN:VEVENT
DTSTART;TZID=America/New_York:20241201T043000
DTEND;TZID=America/New_York:20241201T060000
DTSTAMP:20260424T072055
CREATED:20220321T232229Z
LAST-MODIFIED:20220321T232229Z
UID:5216-1733027400-1733032800@theorchardcommunitychurch.com
SUMMARY:Worship Service
DESCRIPTION:
URL:https://theorchardcommunitychurch.com/event/worship-service-4/2024-12-01/
LOCATION:The Orchard Community Church\, 1 NORTH ST\,\, GORHAM\, ME\, 04038
CATEGORIES:Church Service
END:VEVENT
BEGIN:VEVENT
DTSTART;TZID=America/New_York:20241201T043000
DTEND;TZID=America/New_York:20241201T043000
DTSTAMP:20260424T072055
CREATED:20220228T000902Z
LAST-MODIFIED:20220228T000902Z
UID:5214-1733027400-1733027400@theorchardcommunitychurch.com
SUMMARY:Worship Service
DESCRIPTION:
URL:https://theorchardcommunitychurch.com/event/worship-service/2024-12-01/
LOCATION:The Orchard Community Church\, 1 NORTH ST\,\, GORHAM\, ME\, 04038
CATEGORIES:Church Service
END:VEVENT
BEGIN:VEVENT
DTSTART;TZID=America/New_York:20241201T043000
DTEND;TZID=America/New_York:20241201T043000
DTSTAMP:20260424T072055
CREATED:20200423T012714Z
LAST-MODIFIED:20200423T012714Z
UID:5213-1733027400-1733027400@theorchardcommunitychurch.com
SUMMARY:Sunday Worship Service
DESCRIPTION:Details
URL:https://theorchardcommunitychurch.com/event/sunday-worship-service/2024-12-01/
LOCATION:The Orchard Community Church\, 1 NORTH ST\,\, GORHAM\, ME\, 04038
CATEGORIES:Church Service
END:VEVENT
BEGIN:VEVENT
DTSTART;TZID=America/New_York:20241130T023000
DTEND;TZID=America/New_York:20241130T040000
DTSTAMP:20260424T072055
CREATED:20200423T012334Z
LAST-MODIFIED:20200423T012334Z
UID:5212-1732933800-1732939200@theorchardcommunitychurch.com
SUMMARY:Men's Group
DESCRIPTION:Details
URL:https://theorchardcommunitychurch.com/event/mens-group/2024-11-30/
LOCATION:The Orchard Community Church\, 1 NORTH ST\,\, GORHAM\, ME\, 04038
END:VEVENT
BEGIN:VEVENT
DTSTART;TZID=America/New_York:20241130T023000
DTEND;TZID=America/New_York:20241130T040000
DTSTAMP:20260424T072055
CREATED:20200423T011934Z
LAST-MODIFIED:20200423T011934Z
UID:5211-1732933800-1732939200@theorchardcommunitychurch.com
SUMMARY:Women's Group
DESCRIPTION:Details
URL:https://theorchardcommunitychurch.com/event/womens-group/2024-11-30/
LOCATION:The Orchard Community Church\, 1 NORTH ST\,\, GORHAM\, ME\, 04038
CATEGORIES:Women's Group
END:VEVENT
BEGIN:VEVENT
DTSTART;TZID=America/New_York:20241127T130000
DTEND;TZID=America/New_York:20241127T143000
DTSTAMP:20260424T072055
CREATED:20200423T013106Z
LAST-MODIFIED:20200423T013106Z
UID:5210-1732712400-1732717800@theorchardcommunitychurch.com
SUMMARY:Bible Study
DESCRIPTION:If you would like to join or gor more information about our Small Group Bible Study contact us here
URL:https://theorchardcommunitychurch.com/event/bible-study/2024-11-27/
LOCATION:The Orchard Community Church\, 1 NORTH ST\,\, GORHAM\, ME\, 04038
END:VEVENT
BEGIN:VEVENT
DTSTART;TZID=America/New_York:20241124T093000
DTEND;TZID=America/New_York:20241124T093000
DTSTAMP:20260424T072055
CREATED:20220228T001907Z
LAST-MODIFIED:20220228T001907Z
UID:5153-1732440600-1732440600@theorchardcommunitychurch.com
SUMMARY:Worship Service
DESCRIPTION:
URL:https://theorchardcommunitychurch.com/event/worship-service-2/2024-11-24/
LOCATION:The Orchard Community Church\, 1 NORTH ST\,\, GORHAM\, ME\, 04038
CATEGORIES:Church Service
END:VEVENT
BEGIN:VEVENT
DTSTART;TZID=America/New_York:20241124T043000
DTEND;TZID=America/New_York:20241124T060000
DTSTAMP:20260424T072055
CREATED:20220321T232229Z
LAST-MODIFIED:20220321T232229Z
UID:5154-1732422600-1732428000@theorchardcommunitychurch.com
SUMMARY:Worship Service
DESCRIPTION:
URL:https://theorchardcommunitychurch.com/event/worship-service-4/2024-11-24/
LOCATION:The Orchard Community Church\, 1 NORTH ST\,\, GORHAM\, ME\, 04038
CATEGORIES:Church Service
END:VEVENT
BEGIN:VEVENT
DTSTART;TZID=America/New_York:20241124T043000
DTEND;TZID=America/New_York:20241124T043000
DTSTAMP:20260424T072055
CREATED:20220228T000902Z
LAST-MODIFIED:20220228T000902Z
UID:5152-1732422600-1732422600@theorchardcommunitychurch.com
SUMMARY:Worship Service
DESCRIPTION:
URL:https://theorchardcommunitychurch.com/event/worship-service/2024-11-24/
LOCATION:The Orchard Community Church\, 1 NORTH ST\,\, GORHAM\, ME\, 04038
CATEGORIES:Church Service
END:VEVENT
BEGIN:VEVENT
DTSTART;TZID=America/New_York:20241124T043000
DTEND;TZID=America/New_York:20241124T043000
DTSTAMP:20260424T072055
CREATED:20200423T012714Z
LAST-MODIFIED:20200423T012714Z
UID:5151-1732422600-1732422600@theorchardcommunitychurch.com
SUMMARY:Sunday Worship Service
DESCRIPTION:Details
URL:https://theorchardcommunitychurch.com/event/sunday-worship-service/2024-11-24/
LOCATION:The Orchard Community Church\, 1 NORTH ST\,\, GORHAM\, ME\, 04038
CATEGORIES:Church Service
END:VEVENT
BEGIN:VEVENT
DTSTART;TZID=America/New_York:20241123T023000
DTEND;TZID=America/New_York:20241123T040000
DTSTAMP:20260424T072055
CREATED:20200423T012334Z
LAST-MODIFIED:20200423T012334Z
UID:5150-1732329000-1732334400@theorchardcommunitychurch.com
SUMMARY:Men's Group
DESCRIPTION:Details
URL:https://theorchardcommunitychurch.com/event/mens-group/2024-11-23/
LOCATION:The Orchard Community Church\, 1 NORTH ST\,\, GORHAM\, ME\, 04038
END:VEVENT
BEGIN:VEVENT
DTSTART;TZID=America/New_York:20241123T023000
DTEND;TZID=America/New_York:20241123T040000
DTSTAMP:20260424T072055
CREATED:20200423T011934Z
LAST-MODIFIED:20200423T011934Z
UID:5149-1732329000-1732334400@theorchardcommunitychurch.com
SUMMARY:Women's Group
DESCRIPTION:Details
URL:https://theorchardcommunitychurch.com/event/womens-group/2024-11-23/
LOCATION:The Orchard Community Church\, 1 NORTH ST\,\, GORHAM\, ME\, 04038
CATEGORIES:Women's Group
END:VEVENT
BEGIN:VEVENT
DTSTART;TZID=America/New_York:20241120T130000
DTEND;TZID=America/New_York:20241120T143000
DTSTAMP:20260424T072055
CREATED:20200423T013106Z
LAST-MODIFIED:20200423T013106Z
UID:5148-1732107600-1732113000@theorchardcommunitychurch.com
SUMMARY:Bible Study
DESCRIPTION:If you would like to join or gor more information about our Small Group Bible Study contact us here
URL:https://theorchardcommunitychurch.com/event/bible-study/2024-11-20/
LOCATION:The Orchard Community Church\, 1 NORTH ST\,\, GORHAM\, ME\, 04038
END:VEVENT
BEGIN:VEVENT
DTSTART;TZID=America/New_York:20241117T093000
DTEND;TZID=America/New_York:20241117T093000
DTSTAMP:20260424T072055
CREATED:20220228T001907Z
LAST-MODIFIED:20220228T001907Z
UID:5146-1731835800-1731835800@theorchardcommunitychurch.com
SUMMARY:Worship Service
DESCRIPTION:
URL:https://theorchardcommunitychurch.com/event/worship-service-2/2024-11-17/
LOCATION:The Orchard Community Church\, 1 NORTH ST\,\, GORHAM\, ME\, 04038
CATEGORIES:Church Service
END:VEVENT
BEGIN:VEVENT
DTSTART;TZID=America/New_York:20241117T043000
DTEND;TZID=America/New_York:20241117T060000
DTSTAMP:20260424T072055
CREATED:20220321T232229Z
LAST-MODIFIED:20220321T232229Z
UID:5147-1731817800-1731823200@theorchardcommunitychurch.com
SUMMARY:Worship Service
DESCRIPTION:
URL:https://theorchardcommunitychurch.com/event/worship-service-4/2024-11-17/
LOCATION:The Orchard Community Church\, 1 NORTH ST\,\, GORHAM\, ME\, 04038
CATEGORIES:Church Service
END:VEVENT
BEGIN:VEVENT
DTSTART;TZID=America/New_York:20241117T043000
DTEND;TZID=America/New_York:20241117T043000
DTSTAMP:20260424T072055
CREATED:20220228T000902Z
LAST-MODIFIED:20220228T000902Z
UID:5145-1731817800-1731817800@theorchardcommunitychurch.com
SUMMARY:Worship Service
DESCRIPTION:
URL:https://theorchardcommunitychurch.com/event/worship-service/2024-11-17/
LOCATION:The Orchard Community Church\, 1 NORTH ST\,\, GORHAM\, ME\, 04038
CATEGORIES:Church Service
END:VEVENT
BEGIN:VEVENT
DTSTART;TZID=America/New_York:20241117T043000
DTEND;TZID=America/New_York:20241117T043000
DTSTAMP:20260424T072055
CREATED:20200423T012714Z
LAST-MODIFIED:20200423T012714Z
UID:5144-1731817800-1731817800@theorchardcommunitychurch.com
SUMMARY:Sunday Worship Service
DESCRIPTION:Details
URL:https://theorchardcommunitychurch.com/event/sunday-worship-service/2024-11-17/
LOCATION:The Orchard Community Church\, 1 NORTH ST\,\, GORHAM\, ME\, 04038
CATEGORIES:Church Service
END:VEVENT
BEGIN:VEVENT
DTSTART;TZID=America/New_York:20241116T023000
DTEND;TZID=America/New_York:20241116T040000
DTSTAMP:20260424T072055
CREATED:20200423T012334Z
LAST-MODIFIED:20200423T012334Z
UID:5143-1731724200-1731729600@theorchardcommunitychurch.com
SUMMARY:Men's Group
DESCRIPTION:Details
URL:https://theorchardcommunitychurch.com/event/mens-group/2024-11-16/
LOCATION:The Orchard Community Church\, 1 NORTH ST\,\, GORHAM\, ME\, 04038
END:VEVENT
BEGIN:VEVENT
DTSTART;TZID=America/New_York:20241116T023000
DTEND;TZID=America/New_York:20241116T040000
DTSTAMP:20260424T072055
CREATED:20200423T011934Z
LAST-MODIFIED:20200423T011934Z
UID:5142-1731724200-1731729600@theorchardcommunitychurch.com
SUMMARY:Women's Group
DESCRIPTION:Details
URL:https://theorchardcommunitychurch.com/event/womens-group/2024-11-16/
LOCATION:The Orchard Community Church\, 1 NORTH ST\,\, GORHAM\, ME\, 04038
CATEGORIES:Women's Group
END:VEVENT
BEGIN:VEVENT
DTSTART;TZID=America/New_York:20241113T130000
DTEND;TZID=America/New_York:20241113T143000
DTSTAMP:20260424T072055
CREATED:20200423T013106Z
LAST-MODIFIED:20200423T013106Z
UID:5141-1731502800-1731508200@theorchardcommunitychurch.com
SUMMARY:Bible Study
DESCRIPTION:If you would like to join or gor more information about our Small Group Bible Study contact us here
URL:https://theorchardcommunitychurch.com/event/bible-study/2024-11-13/
LOCATION:The Orchard Community Church\, 1 NORTH ST\,\, GORHAM\, ME\, 04038
END:VEVENT
BEGIN:VEVENT
DTSTART;TZID=America/New_York:20241110T093000
DTEND;TZID=America/New_York:20241110T093000
DTSTAMP:20260424T072055
CREATED:20220228T001907Z
LAST-MODIFIED:20220228T001907Z
UID:5139-1731231000-1731231000@theorchardcommunitychurch.com
SUMMARY:Worship Service
DESCRIPTION:
URL:https://theorchardcommunitychurch.com/event/worship-service-2/2024-11-10/
LOCATION:The Orchard Community Church\, 1 NORTH ST\,\, GORHAM\, ME\, 04038
CATEGORIES:Church Service
END:VEVENT
BEGIN:VEVENT
DTSTART;TZID=America/New_York:20241110T043000
DTEND;TZID=America/New_York:20241110T060000
DTSTAMP:20260424T072055
CREATED:20220321T232229Z
LAST-MODIFIED:20220321T232229Z
UID:5140-1731213000-1731218400@theorchardcommunitychurch.com
SUMMARY:Worship Service
DESCRIPTION:
URL:https://theorchardcommunitychurch.com/event/worship-service-4/2024-11-10/
LOCATION:The Orchard Community Church\, 1 NORTH ST\,\, GORHAM\, ME\, 04038
CATEGORIES:Church Service
END:VEVENT
BEGIN:VEVENT
DTSTART;TZID=America/New_York:20241110T043000
DTEND;TZID=America/New_York:20241110T043000
DTSTAMP:20260424T072055
CREATED:20220228T000902Z
LAST-MODIFIED:20220228T000902Z
UID:5138-1731213000-1731213000@theorchardcommunitychurch.com
SUMMARY:Worship Service
DESCRIPTION:
URL:https://theorchardcommunitychurch.com/event/worship-service/2024-11-10/
LOCATION:The Orchard Community Church\, 1 NORTH ST\,\, GORHAM\, ME\, 04038
CATEGORIES:Church Service
END:VEVENT
BEGIN:VEVENT
DTSTART;TZID=America/New_York:20241110T043000
DTEND;TZID=America/New_York:20241110T043000
DTSTAMP:20260424T072055
CREATED:20200423T012714Z
LAST-MODIFIED:20200423T012714Z
UID:5137-1731213000-1731213000@theorchardcommunitychurch.com
SUMMARY:Sunday Worship Service
DESCRIPTION:Details
URL:https://theorchardcommunitychurch.com/event/sunday-worship-service/2024-11-10/
LOCATION:The Orchard Community Church\, 1 NORTH ST\,\, GORHAM\, ME\, 04038
CATEGORIES:Church Service
END:VEVENT
BEGIN:VEVENT
DTSTART;TZID=America/New_York:20241109T023000
DTEND;TZID=America/New_York:20241109T040000
DTSTAMP:20260424T072055
CREATED:20200423T012334Z
LAST-MODIFIED:20200423T012334Z
UID:5136-1731119400-1731124800@theorchardcommunitychurch.com
SUMMARY:Men's Group
DESCRIPTION:Details
URL:https://theorchardcommunitychurch.com/event/mens-group/2024-11-09/
LOCATION:The Orchard Community Church\, 1 NORTH ST\,\, GORHAM\, ME\, 04038
END:VEVENT
BEGIN:VEVENT
DTSTART;TZID=America/New_York:20241109T023000
DTEND;TZID=America/New_York:20241109T040000
DTSTAMP:20260424T072055
CREATED:20200423T011934Z
LAST-MODIFIED:20200423T011934Z
UID:5135-1731119400-1731124800@theorchardcommunitychurch.com
SUMMARY:Women's Group
DESCRIPTION:Details
URL:https://theorchardcommunitychurch.com/event/womens-group/2024-11-09/
LOCATION:The Orchard Community Church\, 1 NORTH ST\,\, GORHAM\, ME\, 04038
CATEGORIES:Women's Group
END:VEVENT
BEGIN:VEVENT
DTSTART;TZID=America/New_York:20241106T130000
DTEND;TZID=America/New_York:20241106T143000
DTSTAMP:20260424T072055
CREATED:20200423T013106Z
LAST-MODIFIED:20200423T013106Z
UID:5134-1730898000-1730903400@theorchardcommunitychurch.com
SUMMARY:Bible Study
DESCRIPTION:If you would like to join or gor more information about our Small Group Bible Study contact us here
URL:https://theorchardcommunitychurch.com/event/bible-study/2024-11-06/
LOCATION:The Orchard Community Church\, 1 NORTH ST\,\, GORHAM\, ME\, 04038
END:VEVENT
END:VCALENDAR