BEGIN:VCALENDAR
VERSION:2.0
PRODID:-//Orchard Community Church - ECPv6.9.0//NONSGML v1.0//EN
CALSCALE:GREGORIAN
METHOD:PUBLISH
X-WR-CALNAME:Orchard Community Church
X-ORIGINAL-URL:https://theorchardcommunitychurch.com
X-WR-CALDESC:Events for Orchard Community Church
REFRESH-INTERVAL;VALUE=DURATION:PT1H
X-Robots-Tag:noindex
X-PUBLISHED-TTL:PT1H
BEGIN:VTIMEZONE
TZID:America/New_York
BEGIN:DAYLIGHT
TZOFFSETFROM:-0500
TZOFFSETTO:-0400
TZNAME:EDT
DTSTART:20240310T070000
END:DAYLIGHT
BEGIN:STANDARD
TZOFFSETFROM:-0400
TZOFFSETTO:-0500
TZNAME:EST
DTSTART:20241103T060000
END:STANDARD
END:VTIMEZONE
BEGIN:VEVENT
DTSTART;TZID=America/New_York:20241030T140000
DTEND;TZID=America/New_York:20241030T153000
DTSTAMP:20260424T120241
CREATED:20200423T013106Z
LAST-MODIFIED:20200423T013106Z
UID:5127-1730296800-1730302200@theorchardcommunitychurch.com
SUMMARY:Bible Study
DESCRIPTION:If you would like to join or gor more information about our Small Group Bible Study contact us here
URL:https://theorchardcommunitychurch.com/event/bible-study/2024-10-30/
LOCATION:The Orchard Community Church\, 1 NORTH ST\,\, GORHAM\, ME\, 04038
END:VEVENT
BEGIN:VEVENT
DTSTART;TZID=America/New_York:20241027T093000
DTEND;TZID=America/New_York:20241027T093000
DTSTAMP:20260424T120241
CREATED:20220228T001907Z
LAST-MODIFIED:20220228T001907Z
UID:5125-1730021400-1730021400@theorchardcommunitychurch.com
SUMMARY:Worship Service
DESCRIPTION:
URL:https://theorchardcommunitychurch.com/event/worship-service-2/2024-10-27/
LOCATION:The Orchard Community Church\, 1 NORTH ST\,\, GORHAM\, ME\, 04038
CATEGORIES:Church Service
END:VEVENT
BEGIN:VEVENT
DTSTART;TZID=America/New_York:20241027T053000
DTEND;TZID=America/New_York:20241027T070000
DTSTAMP:20260424T120241
CREATED:20220321T232229Z
LAST-MODIFIED:20220321T232229Z
UID:5126-1730007000-1730012400@theorchardcommunitychurch.com
SUMMARY:Worship Service
DESCRIPTION:
URL:https://theorchardcommunitychurch.com/event/worship-service-4/2024-10-27/
LOCATION:The Orchard Community Church\, 1 NORTH ST\,\, GORHAM\, ME\, 04038
CATEGORIES:Church Service
END:VEVENT
BEGIN:VEVENT
DTSTART;TZID=America/New_York:20241027T053000
DTEND;TZID=America/New_York:20241027T053000
DTSTAMP:20260424T120241
CREATED:20220228T000902Z
LAST-MODIFIED:20220228T000902Z
UID:5124-1730007000-1730007000@theorchardcommunitychurch.com
SUMMARY:Worship Service
DESCRIPTION:
URL:https://theorchardcommunitychurch.com/event/worship-service/2024-10-27/
LOCATION:The Orchard Community Church\, 1 NORTH ST\,\, GORHAM\, ME\, 04038
CATEGORIES:Church Service
END:VEVENT
BEGIN:VEVENT
DTSTART;TZID=America/New_York:20241027T053000
DTEND;TZID=America/New_York:20241027T053000
DTSTAMP:20260424T120241
CREATED:20200423T012714Z
LAST-MODIFIED:20200423T012714Z
UID:5123-1730007000-1730007000@theorchardcommunitychurch.com
SUMMARY:Sunday Worship Service
DESCRIPTION:Details
URL:https://theorchardcommunitychurch.com/event/sunday-worship-service/2024-10-27/
LOCATION:The Orchard Community Church\, 1 NORTH ST\,\, GORHAM\, ME\, 04038
CATEGORIES:Church Service
END:VEVENT
BEGIN:VEVENT
DTSTART;TZID=America/New_York:20241026T033000
DTEND;TZID=America/New_York:20241026T050000
DTSTAMP:20260424T120241
CREATED:20200423T012334Z
LAST-MODIFIED:20200423T012334Z
UID:5122-1729913400-1729918800@theorchardcommunitychurch.com
SUMMARY:Men's Group
DESCRIPTION:Details
URL:https://theorchardcommunitychurch.com/event/mens-group/2024-10-26/
LOCATION:The Orchard Community Church\, 1 NORTH ST\,\, GORHAM\, ME\, 04038
END:VEVENT
BEGIN:VEVENT
DTSTART;TZID=America/New_York:20241026T033000
DTEND;TZID=America/New_York:20241026T050000
DTSTAMP:20260424T120241
CREATED:20200423T011934Z
LAST-MODIFIED:20200423T011934Z
UID:5121-1729913400-1729918800@theorchardcommunitychurch.com
SUMMARY:Women's Group
DESCRIPTION:Details
URL:https://theorchardcommunitychurch.com/event/womens-group/2024-10-26/
LOCATION:The Orchard Community Church\, 1 NORTH ST\,\, GORHAM\, ME\, 04038
CATEGORIES:Women's Group
END:VEVENT
BEGIN:VEVENT
DTSTART;TZID=America/New_York:20241023T140000
DTEND;TZID=America/New_York:20241023T153000
DTSTAMP:20260424T120241
CREATED:20200423T013106Z
LAST-MODIFIED:20200423T013106Z
UID:5118-1729692000-1729697400@theorchardcommunitychurch.com
SUMMARY:Bible Study
DESCRIPTION:If you would like to join or gor more information about our Small Group Bible Study contact us here
URL:https://theorchardcommunitychurch.com/event/bible-study/2024-10-23/
LOCATION:The Orchard Community Church\, 1 NORTH ST\,\, GORHAM\, ME\, 04038
END:VEVENT
BEGIN:VEVENT
DTSTART;TZID=America/New_York:20241020T093000
DTEND;TZID=America/New_York:20241020T093000
DTSTAMP:20260424T120241
CREATED:20220228T001907Z
LAST-MODIFIED:20220228T001907Z
UID:5116-1729416600-1729416600@theorchardcommunitychurch.com
SUMMARY:Worship Service
DESCRIPTION:
URL:https://theorchardcommunitychurch.com/event/worship-service-2/2024-10-20/
LOCATION:The Orchard Community Church\, 1 NORTH ST\,\, GORHAM\, ME\, 04038
CATEGORIES:Church Service
END:VEVENT
BEGIN:VEVENT
DTSTART;TZID=America/New_York:20241020T053000
DTEND;TZID=America/New_York:20241020T070000
DTSTAMP:20260424T120241
CREATED:20220321T232229Z
LAST-MODIFIED:20220321T232229Z
UID:5117-1729402200-1729407600@theorchardcommunitychurch.com
SUMMARY:Worship Service
DESCRIPTION:
URL:https://theorchardcommunitychurch.com/event/worship-service-4/2024-10-20/
LOCATION:The Orchard Community Church\, 1 NORTH ST\,\, GORHAM\, ME\, 04038
CATEGORIES:Church Service
END:VEVENT
BEGIN:VEVENT
DTSTART;TZID=America/New_York:20241020T053000
DTEND;TZID=America/New_York:20241020T053000
DTSTAMP:20260424T120241
CREATED:20220228T000902Z
LAST-MODIFIED:20220228T000902Z
UID:5115-1729402200-1729402200@theorchardcommunitychurch.com
SUMMARY:Worship Service
DESCRIPTION:
URL:https://theorchardcommunitychurch.com/event/worship-service/2024-10-20/
LOCATION:The Orchard Community Church\, 1 NORTH ST\,\, GORHAM\, ME\, 04038
CATEGORIES:Church Service
END:VEVENT
BEGIN:VEVENT
DTSTART;TZID=America/New_York:20241020T053000
DTEND;TZID=America/New_York:20241020T053000
DTSTAMP:20260424T120241
CREATED:20200423T012714Z
LAST-MODIFIED:20200423T012714Z
UID:5114-1729402200-1729402200@theorchardcommunitychurch.com
SUMMARY:Sunday Worship Service
DESCRIPTION:Details
URL:https://theorchardcommunitychurch.com/event/sunday-worship-service/2024-10-20/
LOCATION:The Orchard Community Church\, 1 NORTH ST\,\, GORHAM\, ME\, 04038
CATEGORIES:Church Service
END:VEVENT
BEGIN:VEVENT
DTSTART;TZID=America/New_York:20241019T033000
DTEND;TZID=America/New_York:20241019T050000
DTSTAMP:20260424T120241
CREATED:20200423T012334Z
LAST-MODIFIED:20200423T012334Z
UID:5113-1729308600-1729314000@theorchardcommunitychurch.com
SUMMARY:Men's Group
DESCRIPTION:Details
URL:https://theorchardcommunitychurch.com/event/mens-group/2024-10-19/
LOCATION:The Orchard Community Church\, 1 NORTH ST\,\, GORHAM\, ME\, 04038
END:VEVENT
BEGIN:VEVENT
DTSTART;TZID=America/New_York:20241019T033000
DTEND;TZID=America/New_York:20241019T050000
DTSTAMP:20260424T120241
CREATED:20200423T011934Z
LAST-MODIFIED:20200423T011934Z
UID:5112-1729308600-1729314000@theorchardcommunitychurch.com
SUMMARY:Women's Group
DESCRIPTION:Details
URL:https://theorchardcommunitychurch.com/event/womens-group/2024-10-19/
LOCATION:The Orchard Community Church\, 1 NORTH ST\,\, GORHAM\, ME\, 04038
CATEGORIES:Women's Group
END:VEVENT
BEGIN:VEVENT
DTSTART;TZID=America/New_York:20241016T140000
DTEND;TZID=America/New_York:20241016T153000
DTSTAMP:20260424T120241
CREATED:20200423T013106Z
LAST-MODIFIED:20200423T013106Z
UID:5111-1729087200-1729092600@theorchardcommunitychurch.com
SUMMARY:Bible Study
DESCRIPTION:If you would like to join or gor more information about our Small Group Bible Study contact us here
URL:https://theorchardcommunitychurch.com/event/bible-study/2024-10-16/
LOCATION:The Orchard Community Church\, 1 NORTH ST\,\, GORHAM\, ME\, 04038
END:VEVENT
BEGIN:VEVENT
DTSTART;TZID=America/New_York:20241013T093000
DTEND;TZID=America/New_York:20241013T093000
DTSTAMP:20260424T120241
CREATED:20220228T001907Z
LAST-MODIFIED:20220228T001907Z
UID:5109-1728811800-1728811800@theorchardcommunitychurch.com
SUMMARY:Worship Service
DESCRIPTION:
URL:https://theorchardcommunitychurch.com/event/worship-service-2/2024-10-13/
LOCATION:The Orchard Community Church\, 1 NORTH ST\,\, GORHAM\, ME\, 04038
CATEGORIES:Church Service
END:VEVENT
BEGIN:VEVENT
DTSTART;TZID=America/New_York:20241013T053000
DTEND;TZID=America/New_York:20241013T070000
DTSTAMP:20260424T120241
CREATED:20220321T232229Z
LAST-MODIFIED:20220321T232229Z
UID:5110-1728797400-1728802800@theorchardcommunitychurch.com
SUMMARY:Worship Service
DESCRIPTION:
URL:https://theorchardcommunitychurch.com/event/worship-service-4/2024-10-13/
LOCATION:The Orchard Community Church\, 1 NORTH ST\,\, GORHAM\, ME\, 04038
CATEGORIES:Church Service
END:VEVENT
BEGIN:VEVENT
DTSTART;TZID=America/New_York:20241013T053000
DTEND;TZID=America/New_York:20241013T053000
DTSTAMP:20260424T120241
CREATED:20220228T000902Z
LAST-MODIFIED:20220228T000902Z
UID:5108-1728797400-1728797400@theorchardcommunitychurch.com
SUMMARY:Worship Service
DESCRIPTION:
URL:https://theorchardcommunitychurch.com/event/worship-service/2024-10-13/
LOCATION:The Orchard Community Church\, 1 NORTH ST\,\, GORHAM\, ME\, 04038
CATEGORIES:Church Service
END:VEVENT
BEGIN:VEVENT
DTSTART;TZID=America/New_York:20241013T053000
DTEND;TZID=America/New_York:20241013T053000
DTSTAMP:20260424T120241
CREATED:20200423T012714Z
LAST-MODIFIED:20200423T012714Z
UID:5107-1728797400-1728797400@theorchardcommunitychurch.com
SUMMARY:Sunday Worship Service
DESCRIPTION:Details
URL:https://theorchardcommunitychurch.com/event/sunday-worship-service/2024-10-13/
LOCATION:The Orchard Community Church\, 1 NORTH ST\,\, GORHAM\, ME\, 04038
CATEGORIES:Church Service
END:VEVENT
BEGIN:VEVENT
DTSTART;TZID=America/New_York:20241012T033000
DTEND;TZID=America/New_York:20241012T050000
DTSTAMP:20260424T120241
CREATED:20200423T012334Z
LAST-MODIFIED:20200423T012334Z
UID:5106-1728703800-1728709200@theorchardcommunitychurch.com
SUMMARY:Men's Group
DESCRIPTION:Details
URL:https://theorchardcommunitychurch.com/event/mens-group/2024-10-12/
LOCATION:The Orchard Community Church\, 1 NORTH ST\,\, GORHAM\, ME\, 04038
END:VEVENT
BEGIN:VEVENT
DTSTART;TZID=America/New_York:20241012T033000
DTEND;TZID=America/New_York:20241012T050000
DTSTAMP:20260424T120241
CREATED:20200423T011934Z
LAST-MODIFIED:20200423T011934Z
UID:5105-1728703800-1728709200@theorchardcommunitychurch.com
SUMMARY:Women's Group
DESCRIPTION:Details
URL:https://theorchardcommunitychurch.com/event/womens-group/2024-10-12/
LOCATION:The Orchard Community Church\, 1 NORTH ST\,\, GORHAM\, ME\, 04038
CATEGORIES:Women's Group
END:VEVENT
BEGIN:VEVENT
DTSTART;TZID=America/New_York:20241009T140000
DTEND;TZID=America/New_York:20241009T153000
DTSTAMP:20260424T120241
CREATED:20200423T013106Z
LAST-MODIFIED:20200423T013106Z
UID:5104-1728482400-1728487800@theorchardcommunitychurch.com
SUMMARY:Bible Study
DESCRIPTION:If you would like to join or gor more information about our Small Group Bible Study contact us here
URL:https://theorchardcommunitychurch.com/event/bible-study/2024-10-09/
LOCATION:The Orchard Community Church\, 1 NORTH ST\,\, GORHAM\, ME\, 04038
END:VEVENT
BEGIN:VEVENT
DTSTART;TZID=America/New_York:20241006T093000
DTEND;TZID=America/New_York:20241006T093000
DTSTAMP:20260424T120241
CREATED:20220228T001907Z
LAST-MODIFIED:20220228T001907Z
UID:5102-1728207000-1728207000@theorchardcommunitychurch.com
SUMMARY:Worship Service
DESCRIPTION:
URL:https://theorchardcommunitychurch.com/event/worship-service-2/2024-10-06/
LOCATION:The Orchard Community Church\, 1 NORTH ST\,\, GORHAM\, ME\, 04038
CATEGORIES:Church Service
END:VEVENT
BEGIN:VEVENT
DTSTART;TZID=America/New_York:20241006T053000
DTEND;TZID=America/New_York:20241006T070000
DTSTAMP:20260424T120241
CREATED:20220321T232229Z
LAST-MODIFIED:20220321T232229Z
UID:5103-1728192600-1728198000@theorchardcommunitychurch.com
SUMMARY:Worship Service
DESCRIPTION:
URL:https://theorchardcommunitychurch.com/event/worship-service-4/2024-10-06/
LOCATION:The Orchard Community Church\, 1 NORTH ST\,\, GORHAM\, ME\, 04038
CATEGORIES:Church Service
END:VEVENT
BEGIN:VEVENT
DTSTART;TZID=America/New_York:20241006T053000
DTEND;TZID=America/New_York:20241006T053000
DTSTAMP:20260424T120241
CREATED:20220228T000902Z
LAST-MODIFIED:20220228T000902Z
UID:5101-1728192600-1728192600@theorchardcommunitychurch.com
SUMMARY:Worship Service
DESCRIPTION:
URL:https://theorchardcommunitychurch.com/event/worship-service/2024-10-06/
LOCATION:The Orchard Community Church\, 1 NORTH ST\,\, GORHAM\, ME\, 04038
CATEGORIES:Church Service
END:VEVENT
BEGIN:VEVENT
DTSTART;TZID=America/New_York:20241006T053000
DTEND;TZID=America/New_York:20241006T053000
DTSTAMP:20260424T120241
CREATED:20200423T012714Z
LAST-MODIFIED:20200423T012714Z
UID:5100-1728192600-1728192600@theorchardcommunitychurch.com
SUMMARY:Sunday Worship Service
DESCRIPTION:Details
URL:https://theorchardcommunitychurch.com/event/sunday-worship-service/2024-10-06/
LOCATION:The Orchard Community Church\, 1 NORTH ST\,\, GORHAM\, ME\, 04038
CATEGORIES:Church Service
END:VEVENT
BEGIN:VEVENT
DTSTART;TZID=America/New_York:20241005T033000
DTEND;TZID=America/New_York:20241005T050000
DTSTAMP:20260424T120241
CREATED:20200423T012334Z
LAST-MODIFIED:20200423T012334Z
UID:5099-1728099000-1728104400@theorchardcommunitychurch.com
SUMMARY:Men's Group
DESCRIPTION:Details
URL:https://theorchardcommunitychurch.com/event/mens-group/2024-10-05/
LOCATION:The Orchard Community Church\, 1 NORTH ST\,\, GORHAM\, ME\, 04038
END:VEVENT
BEGIN:VEVENT
DTSTART;TZID=America/New_York:20241005T033000
DTEND;TZID=America/New_York:20241005T050000
DTSTAMP:20260424T120241
CREATED:20200423T011934Z
LAST-MODIFIED:20200423T011934Z
UID:5098-1728099000-1728104400@theorchardcommunitychurch.com
SUMMARY:Women's Group
DESCRIPTION:Details
URL:https://theorchardcommunitychurch.com/event/womens-group/2024-10-05/
LOCATION:The Orchard Community Church\, 1 NORTH ST\,\, GORHAM\, ME\, 04038
CATEGORIES:Women's Group
END:VEVENT
BEGIN:VEVENT
DTSTART;TZID=America/New_York:20241002T140000
DTEND;TZID=America/New_York:20241002T153000
DTSTAMP:20260424T120241
CREATED:20200423T013106Z
LAST-MODIFIED:20200423T013106Z
UID:5097-1727877600-1727883000@theorchardcommunitychurch.com
SUMMARY:Bible Study
DESCRIPTION:If you would like to join or gor more information about our Small Group Bible Study contact us here
URL:https://theorchardcommunitychurch.com/event/bible-study/2024-10-02/
LOCATION:The Orchard Community Church\, 1 NORTH ST\,\, GORHAM\, ME\, 04038
END:VEVENT
BEGIN:VEVENT
DTSTART;TZID=America/New_York:20240929T093000
DTEND;TZID=America/New_York:20240929T093000
DTSTAMP:20260424T120241
CREATED:20220228T001907Z
LAST-MODIFIED:20220228T001907Z
UID:5095-1727602200-1727602200@theorchardcommunitychurch.com
SUMMARY:Worship Service
DESCRIPTION:
URL:https://theorchardcommunitychurch.com/event/worship-service-2/2024-09-29/
LOCATION:The Orchard Community Church\, 1 NORTH ST\,\, GORHAM\, ME\, 04038
CATEGORIES:Church Service
END:VEVENT
END:VCALENDAR