BEGIN:VCALENDAR
VERSION:2.0
PRODID:-//Orchard Community Church - ECPv6.9.0//NONSGML v1.0//EN
CALSCALE:GREGORIAN
METHOD:PUBLISH
X-ORIGINAL-URL:https://theorchardcommunitychurch.com
X-WR-CALDESC:Events for Orchard Community Church
REFRESH-INTERVAL;VALUE=DURATION:PT1H
X-Robots-Tag:noindex
X-PUBLISHED-TTL:PT1H
BEGIN:VTIMEZONE
TZID:America/New_York
BEGIN:DAYLIGHT
TZOFFSETFROM:-0500
TZOFFSETTO:-0400
TZNAME:EDT
DTSTART:20270314T070000
END:DAYLIGHT
BEGIN:STANDARD
TZOFFSETFROM:-0400
TZOFFSETTO:-0500
TZNAME:EST
DTSTART:20271107T060000
END:STANDARD
END:VTIMEZONE
BEGIN:VEVENT
DTSTART;TZID=America/New_York:20271030T033000
DTEND;TZID=America/New_York:20271030T050000
DTSTAMP:20260423T114306
CREATED:20200423T011934Z
LAST-MODIFIED:20200423T011934Z
UID:6461-1824867000-1824872400@theorchardcommunitychurch.com
SUMMARY:Women's Group
DESCRIPTION:Details
URL:https://theorchardcommunitychurch.com/event/womens-group/2027-10-30/
LOCATION:The Orchard Community Church\, 1 NORTH ST\,\, GORHAM\, ME\, 04038
CATEGORIES:Women's Group
END:VEVENT
BEGIN:VEVENT
DTSTART;TZID=America/New_York:20271030T033000
DTEND;TZID=America/New_York:20271030T050000
DTSTAMP:20260423T114306
CREATED:20200423T012334Z
LAST-MODIFIED:20200423T012334Z
UID:6462-1824867000-1824872400@theorchardcommunitychurch.com
SUMMARY:Men's Group
DESCRIPTION:Details
URL:https://theorchardcommunitychurch.com/event/mens-group/2027-10-30/
LOCATION:The Orchard Community Church\, 1 NORTH ST\,\, GORHAM\, ME\, 04038
END:VEVENT
BEGIN:VEVENT
DTSTART;TZID=America/New_York:20271031T053000
DTEND;TZID=America/New_York:20271031T053000
DTSTAMP:20260423T114306
CREATED:20200423T012714Z
LAST-MODIFIED:20200423T012714Z
UID:6463-1824960600-1824960600@theorchardcommunitychurch.com
SUMMARY:Sunday Worship Service
DESCRIPTION:Details
URL:https://theorchardcommunitychurch.com/event/sunday-worship-service/2027-10-31/
LOCATION:The Orchard Community Church\, 1 NORTH ST\,\, GORHAM\, ME\, 04038
CATEGORIES:Church Service
END:VEVENT
BEGIN:VEVENT
DTSTART;TZID=America/New_York:20271031T053000
DTEND;TZID=America/New_York:20271031T053000
DTSTAMP:20260423T114306
CREATED:20220228T000902Z
LAST-MODIFIED:20220228T000902Z
UID:6464-1824960600-1824960600@theorchardcommunitychurch.com
SUMMARY:Worship Service
DESCRIPTION:
URL:https://theorchardcommunitychurch.com/event/worship-service/2027-10-31/
LOCATION:The Orchard Community Church\, 1 NORTH ST\,\, GORHAM\, ME\, 04038
CATEGORIES:Church Service
END:VEVENT
BEGIN:VEVENT
DTSTART;TZID=America/New_York:20271031T053000
DTEND;TZID=America/New_York:20271031T070000
DTSTAMP:20260423T114306
CREATED:20220321T232229Z
LAST-MODIFIED:20220321T232229Z
UID:6466-1824960600-1824966000@theorchardcommunitychurch.com
SUMMARY:Worship Service
DESCRIPTION:
URL:https://theorchardcommunitychurch.com/event/worship-service-4/2027-10-31/
LOCATION:The Orchard Community Church\, 1 NORTH ST\,\, GORHAM\, ME\, 04038
CATEGORIES:Church Service
END:VEVENT
BEGIN:VEVENT
DTSTART;TZID=America/New_York:20271031T093000
DTEND;TZID=America/New_York:20271031T093000
DTSTAMP:20260423T114306
CREATED:20220228T001907Z
LAST-MODIFIED:20220228T001907Z
UID:6465-1824975000-1824975000@theorchardcommunitychurch.com
SUMMARY:Worship Service
DESCRIPTION:
URL:https://theorchardcommunitychurch.com/event/worship-service-2/2027-10-31/
LOCATION:The Orchard Community Church\, 1 NORTH ST\,\, GORHAM\, ME\, 04038
CATEGORIES:Church Service
END:VEVENT
BEGIN:VEVENT
DTSTART;TZID=America/New_York:20271103T140000
DTEND;TZID=America/New_York:20271103T153000
DTSTAMP:20260423T114306
CREATED:20200423T013106Z
LAST-MODIFIED:20200423T013106Z
UID:6467-1825250400-1825255800@theorchardcommunitychurch.com
SUMMARY:Bible Study
DESCRIPTION:If you would like to join or gor more information about our Small Group Bible Study contact us here
URL:https://theorchardcommunitychurch.com/event/bible-study/2027-11-03/
LOCATION:The Orchard Community Church\, 1 NORTH ST\,\, GORHAM\, ME\, 04038
END:VEVENT
BEGIN:VEVENT
DTSTART;TZID=America/New_York:20271106T033000
DTEND;TZID=America/New_York:20271106T050000
DTSTAMP:20260423T114306
CREATED:20200423T011934Z
LAST-MODIFIED:20200423T011934Z
UID:6468-1825471800-1825477200@theorchardcommunitychurch.com
SUMMARY:Women's Group
DESCRIPTION:Details
URL:https://theorchardcommunitychurch.com/event/womens-group/2027-11-06/
LOCATION:The Orchard Community Church\, 1 NORTH ST\,\, GORHAM\, ME\, 04038
CATEGORIES:Women's Group
END:VEVENT
BEGIN:VEVENT
DTSTART;TZID=America/New_York:20271106T033000
DTEND;TZID=America/New_York:20271106T050000
DTSTAMP:20260423T114306
CREATED:20200423T012334Z
LAST-MODIFIED:20200423T012334Z
UID:6469-1825471800-1825477200@theorchardcommunitychurch.com
SUMMARY:Men's Group
DESCRIPTION:Details
URL:https://theorchardcommunitychurch.com/event/mens-group/2027-11-06/
LOCATION:The Orchard Community Church\, 1 NORTH ST\,\, GORHAM\, ME\, 04038
END:VEVENT
BEGIN:VEVENT
DTSTART;TZID=America/New_York:20271107T043000
DTEND;TZID=America/New_York:20271107T043000
DTSTAMP:20260423T114306
CREATED:20200423T012714Z
LAST-MODIFIED:20200423T012714Z
UID:6470-1825561800-1825561800@theorchardcommunitychurch.com
SUMMARY:Sunday Worship Service
DESCRIPTION:Details
URL:https://theorchardcommunitychurch.com/event/sunday-worship-service/2027-11-07/
LOCATION:The Orchard Community Church\, 1 NORTH ST\,\, GORHAM\, ME\, 04038
CATEGORIES:Church Service
END:VEVENT
BEGIN:VEVENT
DTSTART;TZID=America/New_York:20271107T043000
DTEND;TZID=America/New_York:20271107T043000
DTSTAMP:20260423T114306
CREATED:20220228T000902Z
LAST-MODIFIED:20220228T000902Z
UID:6471-1825561800-1825561800@theorchardcommunitychurch.com
SUMMARY:Worship Service
DESCRIPTION:
URL:https://theorchardcommunitychurch.com/event/worship-service/2027-11-07/
LOCATION:The Orchard Community Church\, 1 NORTH ST\,\, GORHAM\, ME\, 04038
CATEGORIES:Church Service
END:VEVENT
BEGIN:VEVENT
DTSTART;TZID=America/New_York:20271107T043000
DTEND;TZID=America/New_York:20271107T060000
DTSTAMP:20260423T114306
CREATED:20220321T232229Z
LAST-MODIFIED:20220321T232229Z
UID:6473-1825561800-1825567200@theorchardcommunitychurch.com
SUMMARY:Worship Service
DESCRIPTION:
URL:https://theorchardcommunitychurch.com/event/worship-service-4/2027-11-07/
LOCATION:The Orchard Community Church\, 1 NORTH ST\,\, GORHAM\, ME\, 04038
CATEGORIES:Church Service
END:VEVENT
BEGIN:VEVENT
DTSTART;TZID=America/New_York:20271107T093000
DTEND;TZID=America/New_York:20271107T093000
DTSTAMP:20260423T114306
CREATED:20220228T001907Z
LAST-MODIFIED:20220228T001907Z
UID:6472-1825579800-1825579800@theorchardcommunitychurch.com
SUMMARY:Worship Service
DESCRIPTION:
URL:https://theorchardcommunitychurch.com/event/worship-service-2/2027-11-07/
LOCATION:The Orchard Community Church\, 1 NORTH ST\,\, GORHAM\, ME\, 04038
CATEGORIES:Church Service
END:VEVENT
BEGIN:VEVENT
DTSTART;TZID=America/New_York:20271110T130000
DTEND;TZID=America/New_York:20271110T143000
DTSTAMP:20260423T114306
CREATED:20200423T013106Z
LAST-MODIFIED:20200423T013106Z
UID:6474-1825851600-1825857000@theorchardcommunitychurch.com
SUMMARY:Bible Study
DESCRIPTION:If you would like to join or gor more information about our Small Group Bible Study contact us here
URL:https://theorchardcommunitychurch.com/event/bible-study/2027-11-10/
LOCATION:The Orchard Community Church\, 1 NORTH ST\,\, GORHAM\, ME\, 04038
END:VEVENT
BEGIN:VEVENT
DTSTART;TZID=America/New_York:20271113T023000
DTEND;TZID=America/New_York:20271113T040000
DTSTAMP:20260423T114306
CREATED:20200423T011934Z
LAST-MODIFIED:20200423T011934Z
UID:6475-1826073000-1826078400@theorchardcommunitychurch.com
SUMMARY:Women's Group
DESCRIPTION:Details
URL:https://theorchardcommunitychurch.com/event/womens-group/2027-11-13/
LOCATION:The Orchard Community Church\, 1 NORTH ST\,\, GORHAM\, ME\, 04038
CATEGORIES:Women's Group
END:VEVENT
BEGIN:VEVENT
DTSTART;TZID=America/New_York:20271113T023000
DTEND;TZID=America/New_York:20271113T040000
DTSTAMP:20260423T114306
CREATED:20200423T012334Z
LAST-MODIFIED:20200423T012334Z
UID:6476-1826073000-1826078400@theorchardcommunitychurch.com
SUMMARY:Men's Group
DESCRIPTION:Details
URL:https://theorchardcommunitychurch.com/event/mens-group/2027-11-13/
LOCATION:The Orchard Community Church\, 1 NORTH ST\,\, GORHAM\, ME\, 04038
END:VEVENT
BEGIN:VEVENT
DTSTART;TZID=America/New_York:20271114T043000
DTEND;TZID=America/New_York:20271114T043000
DTSTAMP:20260423T114306
CREATED:20200423T012714Z
LAST-MODIFIED:20200423T012714Z
UID:6477-1826166600-1826166600@theorchardcommunitychurch.com
SUMMARY:Sunday Worship Service
DESCRIPTION:Details
URL:https://theorchardcommunitychurch.com/event/sunday-worship-service/2027-11-14/
LOCATION:The Orchard Community Church\, 1 NORTH ST\,\, GORHAM\, ME\, 04038
CATEGORIES:Church Service
END:VEVENT
BEGIN:VEVENT
DTSTART;TZID=America/New_York:20271114T043000
DTEND;TZID=America/New_York:20271114T043000
DTSTAMP:20260423T114306
CREATED:20220228T000902Z
LAST-MODIFIED:20220228T000902Z
UID:6478-1826166600-1826166600@theorchardcommunitychurch.com
SUMMARY:Worship Service
DESCRIPTION:
URL:https://theorchardcommunitychurch.com/event/worship-service/2027-11-14/
LOCATION:The Orchard Community Church\, 1 NORTH ST\,\, GORHAM\, ME\, 04038
CATEGORIES:Church Service
END:VEVENT
BEGIN:VEVENT
DTSTART;TZID=America/New_York:20271114T043000
DTEND;TZID=America/New_York:20271114T060000
DTSTAMP:20260423T114306
CREATED:20220321T232229Z
LAST-MODIFIED:20220321T232229Z
UID:6480-1826166600-1826172000@theorchardcommunitychurch.com
SUMMARY:Worship Service
DESCRIPTION:
URL:https://theorchardcommunitychurch.com/event/worship-service-4/2027-11-14/
LOCATION:The Orchard Community Church\, 1 NORTH ST\,\, GORHAM\, ME\, 04038
CATEGORIES:Church Service
END:VEVENT
BEGIN:VEVENT
DTSTART;TZID=America/New_York:20271114T093000
DTEND;TZID=America/New_York:20271114T093000
DTSTAMP:20260423T114306
CREATED:20220228T001907Z
LAST-MODIFIED:20220228T001907Z
UID:6479-1826184600-1826184600@theorchardcommunitychurch.com
SUMMARY:Worship Service
DESCRIPTION:
URL:https://theorchardcommunitychurch.com/event/worship-service-2/2027-11-14/
LOCATION:The Orchard Community Church\, 1 NORTH ST\,\, GORHAM\, ME\, 04038
CATEGORIES:Church Service
END:VEVENT
BEGIN:VEVENT
DTSTART;TZID=America/New_York:20271117T130000
DTEND;TZID=America/New_York:20271117T143000
DTSTAMP:20260423T114306
CREATED:20200423T013106Z
LAST-MODIFIED:20200423T013106Z
UID:6481-1826456400-1826461800@theorchardcommunitychurch.com
SUMMARY:Bible Study
DESCRIPTION:If you would like to join or gor more information about our Small Group Bible Study contact us here
URL:https://theorchardcommunitychurch.com/event/bible-study/2027-11-17/
LOCATION:The Orchard Community Church\, 1 NORTH ST\,\, GORHAM\, ME\, 04038
END:VEVENT
BEGIN:VEVENT
DTSTART;TZID=America/New_York:20271120T023000
DTEND;TZID=America/New_York:20271120T040000
DTSTAMP:20260423T114306
CREATED:20200423T011934Z
LAST-MODIFIED:20200423T011934Z
UID:6482-1826677800-1826683200@theorchardcommunitychurch.com
SUMMARY:Women's Group
DESCRIPTION:Details
URL:https://theorchardcommunitychurch.com/event/womens-group/2027-11-20/
LOCATION:The Orchard Community Church\, 1 NORTH ST\,\, GORHAM\, ME\, 04038
CATEGORIES:Women's Group
END:VEVENT
BEGIN:VEVENT
DTSTART;TZID=America/New_York:20271120T023000
DTEND;TZID=America/New_York:20271120T040000
DTSTAMP:20260423T114306
CREATED:20200423T012334Z
LAST-MODIFIED:20200423T012334Z
UID:6483-1826677800-1826683200@theorchardcommunitychurch.com
SUMMARY:Men's Group
DESCRIPTION:Details
URL:https://theorchardcommunitychurch.com/event/mens-group/2027-11-20/
LOCATION:The Orchard Community Church\, 1 NORTH ST\,\, GORHAM\, ME\, 04038
END:VEVENT
BEGIN:VEVENT
DTSTART;TZID=America/New_York:20271121T043000
DTEND;TZID=America/New_York:20271121T043000
DTSTAMP:20260423T114306
CREATED:20200423T012714Z
LAST-MODIFIED:20200423T012714Z
UID:6484-1826771400-1826771400@theorchardcommunitychurch.com
SUMMARY:Sunday Worship Service
DESCRIPTION:Details
URL:https://theorchardcommunitychurch.com/event/sunday-worship-service/2027-11-21/
LOCATION:The Orchard Community Church\, 1 NORTH ST\,\, GORHAM\, ME\, 04038
CATEGORIES:Church Service
END:VEVENT
BEGIN:VEVENT
DTSTART;TZID=America/New_York:20271121T043000
DTEND;TZID=America/New_York:20271121T043000
DTSTAMP:20260423T114306
CREATED:20220228T000902Z
LAST-MODIFIED:20220228T000902Z
UID:6485-1826771400-1826771400@theorchardcommunitychurch.com
SUMMARY:Worship Service
DESCRIPTION:
URL:https://theorchardcommunitychurch.com/event/worship-service/2027-11-21/
LOCATION:The Orchard Community Church\, 1 NORTH ST\,\, GORHAM\, ME\, 04038
CATEGORIES:Church Service
END:VEVENT
BEGIN:VEVENT
DTSTART;TZID=America/New_York:20271121T043000
DTEND;TZID=America/New_York:20271121T060000
DTSTAMP:20260423T114306
CREATED:20220321T232229Z
LAST-MODIFIED:20220321T232229Z
UID:6487-1826771400-1826776800@theorchardcommunitychurch.com
SUMMARY:Worship Service
DESCRIPTION:
URL:https://theorchardcommunitychurch.com/event/worship-service-4/2027-11-21/
LOCATION:The Orchard Community Church\, 1 NORTH ST\,\, GORHAM\, ME\, 04038
CATEGORIES:Church Service
END:VEVENT
BEGIN:VEVENT
DTSTART;TZID=America/New_York:20271121T093000
DTEND;TZID=America/New_York:20271121T093000
DTSTAMP:20260423T114306
CREATED:20220228T001907Z
LAST-MODIFIED:20220228T001907Z
UID:6486-1826789400-1826789400@theorchardcommunitychurch.com
SUMMARY:Worship Service
DESCRIPTION:
URL:https://theorchardcommunitychurch.com/event/worship-service-2/2027-11-21/
LOCATION:The Orchard Community Church\, 1 NORTH ST\,\, GORHAM\, ME\, 04038
CATEGORIES:Church Service
END:VEVENT
BEGIN:VEVENT
DTSTART;TZID=America/New_York:20271124T130000
DTEND;TZID=America/New_York:20271124T143000
DTSTAMP:20260423T114306
CREATED:20200423T013106Z
LAST-MODIFIED:20200423T013106Z
UID:6488-1827061200-1827066600@theorchardcommunitychurch.com
SUMMARY:Bible Study
DESCRIPTION:If you would like to join or gor more information about our Small Group Bible Study contact us here
URL:https://theorchardcommunitychurch.com/event/bible-study/2027-11-24/
LOCATION:The Orchard Community Church\, 1 NORTH ST\,\, GORHAM\, ME\, 04038
END:VEVENT
BEGIN:VEVENT
DTSTART;TZID=America/New_York:20271127T023000
DTEND;TZID=America/New_York:20271127T040000
DTSTAMP:20260423T114306
CREATED:20200423T011934Z
LAST-MODIFIED:20200423T011934Z
UID:6489-1827282600-1827288000@theorchardcommunitychurch.com
SUMMARY:Women's Group
DESCRIPTION:Details
URL:https://theorchardcommunitychurch.com/event/womens-group/2027-11-27/
LOCATION:The Orchard Community Church\, 1 NORTH ST\,\, GORHAM\, ME\, 04038
CATEGORIES:Women's Group
END:VEVENT
BEGIN:VEVENT
DTSTART;TZID=America/New_York:20271127T023000
DTEND;TZID=America/New_York:20271127T040000
DTSTAMP:20260423T114306
CREATED:20200423T012334Z
LAST-MODIFIED:20200423T012334Z
UID:6490-1827282600-1827288000@theorchardcommunitychurch.com
SUMMARY:Men's Group
DESCRIPTION:Details
URL:https://theorchardcommunitychurch.com/event/mens-group/2027-11-27/
LOCATION:The Orchard Community Church\, 1 NORTH ST\,\, GORHAM\, ME\, 04038
END:VEVENT
END:VCALENDAR