BEGIN:VCALENDAR
VERSION:2.0
PRODID:-//Orchard Community Church - ECPv6.9.0//NONSGML v1.0//EN
CALSCALE:GREGORIAN
METHOD:PUBLISH
X-ORIGINAL-URL:https://theorchardcommunitychurch.com
X-WR-CALDESC:Events for Orchard Community Church
REFRESH-INTERVAL;VALUE=DURATION:PT1H
X-Robots-Tag:noindex
X-PUBLISHED-TTL:PT1H
BEGIN:VTIMEZONE
TZID:America/New_York
BEGIN:DAYLIGHT
TZOFFSETFROM:-0500
TZOFFSETTO:-0400
TZNAME:EDT
DTSTART:20240310T070000
END:DAYLIGHT
BEGIN:STANDARD
TZOFFSETFROM:-0400
TZOFFSETTO:-0500
TZNAME:EST
DTSTART:20241103T060000
END:STANDARD
END:VTIMEZONE
BEGIN:VEVENT
DTSTART;TZID=America/New_York:20241006T053000
DTEND;TZID=America/New_York:20241006T053000
DTSTAMP:20260424T152504
CREATED:20220228T000902Z
LAST-MODIFIED:20220228T000902Z
UID:5101-1728192600-1728192600@theorchardcommunitychurch.com
SUMMARY:Worship Service
DESCRIPTION:
URL:https://theorchardcommunitychurch.com/event/worship-service/2024-10-06/
LOCATION:The Orchard Community Church\, 1 NORTH ST\,\, GORHAM\, ME\, 04038
CATEGORIES:Church Service
END:VEVENT
BEGIN:VEVENT
DTSTART;TZID=America/New_York:20241006T053000
DTEND;TZID=America/New_York:20241006T053000
DTSTAMP:20260424T152504
CREATED:20200423T012714Z
LAST-MODIFIED:20200423T012714Z
UID:5100-1728192600-1728192600@theorchardcommunitychurch.com
SUMMARY:Sunday Worship Service
DESCRIPTION:Details
URL:https://theorchardcommunitychurch.com/event/sunday-worship-service/2024-10-06/
LOCATION:The Orchard Community Church\, 1 NORTH ST\,\, GORHAM\, ME\, 04038
CATEGORIES:Church Service
END:VEVENT
BEGIN:VEVENT
DTSTART;TZID=America/New_York:20241005T033000
DTEND;TZID=America/New_York:20241005T050000
DTSTAMP:20260424T152504
CREATED:20200423T012334Z
LAST-MODIFIED:20200423T012334Z
UID:5099-1728099000-1728104400@theorchardcommunitychurch.com
SUMMARY:Men's Group
DESCRIPTION:Details
URL:https://theorchardcommunitychurch.com/event/mens-group/2024-10-05/
LOCATION:The Orchard Community Church\, 1 NORTH ST\,\, GORHAM\, ME\, 04038
END:VEVENT
BEGIN:VEVENT
DTSTART;TZID=America/New_York:20241005T033000
DTEND;TZID=America/New_York:20241005T050000
DTSTAMP:20260424T152504
CREATED:20200423T011934Z
LAST-MODIFIED:20200423T011934Z
UID:5098-1728099000-1728104400@theorchardcommunitychurch.com
SUMMARY:Women's Group
DESCRIPTION:Details
URL:https://theorchardcommunitychurch.com/event/womens-group/2024-10-05/
LOCATION:The Orchard Community Church\, 1 NORTH ST\,\, GORHAM\, ME\, 04038
CATEGORIES:Women's Group
END:VEVENT
BEGIN:VEVENT
DTSTART;TZID=America/New_York:20241002T140000
DTEND;TZID=America/New_York:20241002T153000
DTSTAMP:20260424T152504
CREATED:20200423T013106Z
LAST-MODIFIED:20200423T013106Z
UID:5097-1727877600-1727883000@theorchardcommunitychurch.com
SUMMARY:Bible Study
DESCRIPTION:If you would like to join or gor more information about our Small Group Bible Study contact us here
URL:https://theorchardcommunitychurch.com/event/bible-study/2024-10-02/
LOCATION:The Orchard Community Church\, 1 NORTH ST\,\, GORHAM\, ME\, 04038
END:VEVENT
BEGIN:VEVENT
DTSTART;TZID=America/New_York:20240929T093000
DTEND;TZID=America/New_York:20240929T093000
DTSTAMP:20260424T152504
CREATED:20220228T001907Z
LAST-MODIFIED:20220228T001907Z
UID:5095-1727602200-1727602200@theorchardcommunitychurch.com
SUMMARY:Worship Service
DESCRIPTION:
URL:https://theorchardcommunitychurch.com/event/worship-service-2/2024-09-29/
LOCATION:The Orchard Community Church\, 1 NORTH ST\,\, GORHAM\, ME\, 04038
CATEGORIES:Church Service
END:VEVENT
BEGIN:VEVENT
DTSTART;TZID=America/New_York:20240929T053000
DTEND;TZID=America/New_York:20240929T070000
DTSTAMP:20260424T152504
CREATED:20220321T232229Z
LAST-MODIFIED:20220321T232229Z
UID:5096-1727587800-1727593200@theorchardcommunitychurch.com
SUMMARY:Worship Service
DESCRIPTION:
URL:https://theorchardcommunitychurch.com/event/worship-service-4/2024-09-29/
LOCATION:The Orchard Community Church\, 1 NORTH ST\,\, GORHAM\, ME\, 04038
CATEGORIES:Church Service
END:VEVENT
BEGIN:VEVENT
DTSTART;TZID=America/New_York:20240929T053000
DTEND;TZID=America/New_York:20240929T053000
DTSTAMP:20260424T152504
CREATED:20220228T000902Z
LAST-MODIFIED:20220228T000902Z
UID:5094-1727587800-1727587800@theorchardcommunitychurch.com
SUMMARY:Worship Service
DESCRIPTION:
URL:https://theorchardcommunitychurch.com/event/worship-service/2024-09-29/
LOCATION:The Orchard Community Church\, 1 NORTH ST\,\, GORHAM\, ME\, 04038
CATEGORIES:Church Service
END:VEVENT
BEGIN:VEVENT
DTSTART;TZID=America/New_York:20240929T053000
DTEND;TZID=America/New_York:20240929T053000
DTSTAMP:20260424T152504
CREATED:20200423T012714Z
LAST-MODIFIED:20200423T012714Z
UID:5093-1727587800-1727587800@theorchardcommunitychurch.com
SUMMARY:Sunday Worship Service
DESCRIPTION:Details
URL:https://theorchardcommunitychurch.com/event/sunday-worship-service/2024-09-29/
LOCATION:The Orchard Community Church\, 1 NORTH ST\,\, GORHAM\, ME\, 04038
CATEGORIES:Church Service
END:VEVENT
BEGIN:VEVENT
DTSTART;TZID=America/New_York:20240928T033000
DTEND;TZID=America/New_York:20240928T050000
DTSTAMP:20260424T152504
CREATED:20200423T012334Z
LAST-MODIFIED:20200423T012334Z
UID:5092-1727494200-1727499600@theorchardcommunitychurch.com
SUMMARY:Men's Group
DESCRIPTION:Details
URL:https://theorchardcommunitychurch.com/event/mens-group/2024-09-28/
LOCATION:The Orchard Community Church\, 1 NORTH ST\,\, GORHAM\, ME\, 04038
END:VEVENT
BEGIN:VEVENT
DTSTART;TZID=America/New_York:20240928T033000
DTEND;TZID=America/New_York:20240928T050000
DTSTAMP:20260424T152504
CREATED:20200423T011934Z
LAST-MODIFIED:20200423T011934Z
UID:5091-1727494200-1727499600@theorchardcommunitychurch.com
SUMMARY:Women's Group
DESCRIPTION:Details
URL:https://theorchardcommunitychurch.com/event/womens-group/2024-09-28/
LOCATION:The Orchard Community Church\, 1 NORTH ST\,\, GORHAM\, ME\, 04038
CATEGORIES:Women's Group
END:VEVENT
BEGIN:VEVENT
DTSTART;TZID=America/New_York:20240925T140000
DTEND;TZID=America/New_York:20240925T153000
DTSTAMP:20260424T152504
CREATED:20200423T013106Z
LAST-MODIFIED:20200423T013106Z
UID:5090-1727272800-1727278200@theorchardcommunitychurch.com
SUMMARY:Bible Study
DESCRIPTION:If you would like to join or gor more information about our Small Group Bible Study contact us here
URL:https://theorchardcommunitychurch.com/event/bible-study/2024-09-25/
LOCATION:The Orchard Community Church\, 1 NORTH ST\,\, GORHAM\, ME\, 04038
END:VEVENT
BEGIN:VEVENT
DTSTART;TZID=America/New_York:20240922T093000
DTEND;TZID=America/New_York:20240922T093000
DTSTAMP:20260424T152504
CREATED:20220228T001907Z
LAST-MODIFIED:20220228T001907Z
UID:5088-1726997400-1726997400@theorchardcommunitychurch.com
SUMMARY:Worship Service
DESCRIPTION:
URL:https://theorchardcommunitychurch.com/event/worship-service-2/2024-09-22/
LOCATION:The Orchard Community Church\, 1 NORTH ST\,\, GORHAM\, ME\, 04038
CATEGORIES:Church Service
END:VEVENT
BEGIN:VEVENT
DTSTART;TZID=America/New_York:20240922T053000
DTEND;TZID=America/New_York:20240922T070000
DTSTAMP:20260424T152504
CREATED:20220321T232229Z
LAST-MODIFIED:20220321T232229Z
UID:5089-1726983000-1726988400@theorchardcommunitychurch.com
SUMMARY:Worship Service
DESCRIPTION:
URL:https://theorchardcommunitychurch.com/event/worship-service-4/2024-09-22/
LOCATION:The Orchard Community Church\, 1 NORTH ST\,\, GORHAM\, ME\, 04038
CATEGORIES:Church Service
END:VEVENT
BEGIN:VEVENT
DTSTART;TZID=America/New_York:20240922T053000
DTEND;TZID=America/New_York:20240922T053000
DTSTAMP:20260424T152504
CREATED:20220228T000902Z
LAST-MODIFIED:20220228T000902Z
UID:5087-1726983000-1726983000@theorchardcommunitychurch.com
SUMMARY:Worship Service
DESCRIPTION:
URL:https://theorchardcommunitychurch.com/event/worship-service/2024-09-22/
LOCATION:The Orchard Community Church\, 1 NORTH ST\,\, GORHAM\, ME\, 04038
CATEGORIES:Church Service
END:VEVENT
BEGIN:VEVENT
DTSTART;TZID=America/New_York:20240922T053000
DTEND;TZID=America/New_York:20240922T053000
DTSTAMP:20260424T152504
CREATED:20200423T012714Z
LAST-MODIFIED:20200423T012714Z
UID:5086-1726983000-1726983000@theorchardcommunitychurch.com
SUMMARY:Sunday Worship Service
DESCRIPTION:Details
URL:https://theorchardcommunitychurch.com/event/sunday-worship-service/2024-09-22/
LOCATION:The Orchard Community Church\, 1 NORTH ST\,\, GORHAM\, ME\, 04038
CATEGORIES:Church Service
END:VEVENT
BEGIN:VEVENT
DTSTART;TZID=America/New_York:20240921T033000
DTEND;TZID=America/New_York:20240921T050000
DTSTAMP:20260424T152504
CREATED:20200423T012334Z
LAST-MODIFIED:20200423T012334Z
UID:5085-1726889400-1726894800@theorchardcommunitychurch.com
SUMMARY:Men's Group
DESCRIPTION:Details
URL:https://theorchardcommunitychurch.com/event/mens-group/2024-09-21/
LOCATION:The Orchard Community Church\, 1 NORTH ST\,\, GORHAM\, ME\, 04038
END:VEVENT
BEGIN:VEVENT
DTSTART;TZID=America/New_York:20240921T033000
DTEND;TZID=America/New_York:20240921T050000
DTSTAMP:20260424T152504
CREATED:20200423T011934Z
LAST-MODIFIED:20200423T011934Z
UID:5084-1726889400-1726894800@theorchardcommunitychurch.com
SUMMARY:Women's Group
DESCRIPTION:Details
URL:https://theorchardcommunitychurch.com/event/womens-group/2024-09-21/
LOCATION:The Orchard Community Church\, 1 NORTH ST\,\, GORHAM\, ME\, 04038
CATEGORIES:Women's Group
END:VEVENT
BEGIN:VEVENT
DTSTART;TZID=America/New_York:20240918T140000
DTEND;TZID=America/New_York:20240918T153000
DTSTAMP:20260424T152504
CREATED:20200423T013106Z
LAST-MODIFIED:20200423T013106Z
UID:5083-1726668000-1726673400@theorchardcommunitychurch.com
SUMMARY:Bible Study
DESCRIPTION:If you would like to join or gor more information about our Small Group Bible Study contact us here
URL:https://theorchardcommunitychurch.com/event/bible-study/2024-09-18/
LOCATION:The Orchard Community Church\, 1 NORTH ST\,\, GORHAM\, ME\, 04038
END:VEVENT
BEGIN:VEVENT
DTSTART;TZID=America/New_York:20240915T093000
DTEND;TZID=America/New_York:20240915T093000
DTSTAMP:20260424T152504
CREATED:20220228T001907Z
LAST-MODIFIED:20220228T001907Z
UID:5081-1726392600-1726392600@theorchardcommunitychurch.com
SUMMARY:Worship Service
DESCRIPTION:
URL:https://theorchardcommunitychurch.com/event/worship-service-2/2024-09-15/
LOCATION:The Orchard Community Church\, 1 NORTH ST\,\, GORHAM\, ME\, 04038
CATEGORIES:Church Service
END:VEVENT
BEGIN:VEVENT
DTSTART;TZID=America/New_York:20240915T053000
DTEND;TZID=America/New_York:20240915T070000
DTSTAMP:20260424T152504
CREATED:20220321T232229Z
LAST-MODIFIED:20220321T232229Z
UID:5082-1726378200-1726383600@theorchardcommunitychurch.com
SUMMARY:Worship Service
DESCRIPTION:
URL:https://theorchardcommunitychurch.com/event/worship-service-4/2024-09-15/
LOCATION:The Orchard Community Church\, 1 NORTH ST\,\, GORHAM\, ME\, 04038
CATEGORIES:Church Service
END:VEVENT
BEGIN:VEVENT
DTSTART;TZID=America/New_York:20240915T053000
DTEND;TZID=America/New_York:20240915T053000
DTSTAMP:20260424T152504
CREATED:20220228T000902Z
LAST-MODIFIED:20220228T000902Z
UID:5080-1726378200-1726378200@theorchardcommunitychurch.com
SUMMARY:Worship Service
DESCRIPTION:
URL:https://theorchardcommunitychurch.com/event/worship-service/2024-09-15/
LOCATION:The Orchard Community Church\, 1 NORTH ST\,\, GORHAM\, ME\, 04038
CATEGORIES:Church Service
END:VEVENT
BEGIN:VEVENT
DTSTART;TZID=America/New_York:20240915T053000
DTEND;TZID=America/New_York:20240915T053000
DTSTAMP:20260424T152504
CREATED:20200423T012714Z
LAST-MODIFIED:20200423T012714Z
UID:5079-1726378200-1726378200@theorchardcommunitychurch.com
SUMMARY:Sunday Worship Service
DESCRIPTION:Details
URL:https://theorchardcommunitychurch.com/event/sunday-worship-service/2024-09-15/
LOCATION:The Orchard Community Church\, 1 NORTH ST\,\, GORHAM\, ME\, 04038
CATEGORIES:Church Service
END:VEVENT
BEGIN:VEVENT
DTSTART;TZID=America/New_York:20240914T033000
DTEND;TZID=America/New_York:20240914T050000
DTSTAMP:20260424T152504
CREATED:20200423T012334Z
LAST-MODIFIED:20200423T012334Z
UID:5078-1726284600-1726290000@theorchardcommunitychurch.com
SUMMARY:Men's Group
DESCRIPTION:Details
URL:https://theorchardcommunitychurch.com/event/mens-group/2024-09-14/
LOCATION:The Orchard Community Church\, 1 NORTH ST\,\, GORHAM\, ME\, 04038
END:VEVENT
BEGIN:VEVENT
DTSTART;TZID=America/New_York:20240914T033000
DTEND;TZID=America/New_York:20240914T050000
DTSTAMP:20260424T152504
CREATED:20200423T011934Z
LAST-MODIFIED:20200423T011934Z
UID:5077-1726284600-1726290000@theorchardcommunitychurch.com
SUMMARY:Women's Group
DESCRIPTION:Details
URL:https://theorchardcommunitychurch.com/event/womens-group/2024-09-14/
LOCATION:The Orchard Community Church\, 1 NORTH ST\,\, GORHAM\, ME\, 04038
CATEGORIES:Women's Group
END:VEVENT
BEGIN:VEVENT
DTSTART;TZID=America/New_York:20240911T140000
DTEND;TZID=America/New_York:20240911T153000
DTSTAMP:20260424T152504
CREATED:20200423T013106Z
LAST-MODIFIED:20200423T013106Z
UID:5076-1726063200-1726068600@theorchardcommunitychurch.com
SUMMARY:Bible Study
DESCRIPTION:If you would like to join or gor more information about our Small Group Bible Study contact us here
URL:https://theorchardcommunitychurch.com/event/bible-study/2024-09-11/
LOCATION:The Orchard Community Church\, 1 NORTH ST\,\, GORHAM\, ME\, 04038
END:VEVENT
BEGIN:VEVENT
DTSTART;TZID=America/New_York:20240908T093000
DTEND;TZID=America/New_York:20240908T093000
DTSTAMP:20260424T152504
CREATED:20220228T001907Z
LAST-MODIFIED:20220228T001907Z
UID:5074-1725787800-1725787800@theorchardcommunitychurch.com
SUMMARY:Worship Service
DESCRIPTION:
URL:https://theorchardcommunitychurch.com/event/worship-service-2/2024-09-08/
LOCATION:The Orchard Community Church\, 1 NORTH ST\,\, GORHAM\, ME\, 04038
CATEGORIES:Church Service
END:VEVENT
BEGIN:VEVENT
DTSTART;TZID=America/New_York:20240908T053000
DTEND;TZID=America/New_York:20240908T070000
DTSTAMP:20260424T152504
CREATED:20220321T232229Z
LAST-MODIFIED:20220321T232229Z
UID:5075-1725773400-1725778800@theorchardcommunitychurch.com
SUMMARY:Worship Service
DESCRIPTION:
URL:https://theorchardcommunitychurch.com/event/worship-service-4/2024-09-08/
LOCATION:The Orchard Community Church\, 1 NORTH ST\,\, GORHAM\, ME\, 04038
CATEGORIES:Church Service
END:VEVENT
BEGIN:VEVENT
DTSTART;TZID=America/New_York:20240908T053000
DTEND;TZID=America/New_York:20240908T053000
DTSTAMP:20260424T152504
CREATED:20220228T000902Z
LAST-MODIFIED:20220228T000902Z
UID:5073-1725773400-1725773400@theorchardcommunitychurch.com
SUMMARY:Worship Service
DESCRIPTION:
URL:https://theorchardcommunitychurch.com/event/worship-service/2024-09-08/
LOCATION:The Orchard Community Church\, 1 NORTH ST\,\, GORHAM\, ME\, 04038
CATEGORIES:Church Service
END:VEVENT
BEGIN:VEVENT
DTSTART;TZID=America/New_York:20240908T053000
DTEND;TZID=America/New_York:20240908T053000
DTSTAMP:20260424T152504
CREATED:20200423T012714Z
LAST-MODIFIED:20200423T012714Z
UID:5072-1725773400-1725773400@theorchardcommunitychurch.com
SUMMARY:Sunday Worship Service
DESCRIPTION:Details
URL:https://theorchardcommunitychurch.com/event/sunday-worship-service/2024-09-08/
LOCATION:The Orchard Community Church\, 1 NORTH ST\,\, GORHAM\, ME\, 04038
CATEGORIES:Church Service
END:VEVENT
END:VCALENDAR