BEGIN:VCALENDAR
VERSION:2.0
PRODID:-//Orchard Community Church - ECPv6.9.0//NONSGML v1.0//EN
CALSCALE:GREGORIAN
METHOD:PUBLISH
X-WR-CALNAME:Orchard Community Church
X-ORIGINAL-URL:https://theorchardcommunitychurch.com
X-WR-CALDESC:Events for Orchard Community Church
REFRESH-INTERVAL;VALUE=DURATION:PT1H
X-Robots-Tag:noindex
X-PUBLISHED-TTL:PT1H
BEGIN:VTIMEZONE
TZID:America/New_York
BEGIN:DAYLIGHT
TZOFFSETFROM:-0500
TZOFFSETTO:-0400
TZNAME:EDT
DTSTART:20270314T070000
END:DAYLIGHT
BEGIN:STANDARD
TZOFFSETFROM:-0400
TZOFFSETTO:-0500
TZNAME:EST
DTSTART:20271107T060000
END:STANDARD
BEGIN:DAYLIGHT
TZOFFSETFROM:-0500
TZOFFSETTO:-0400
TZNAME:EDT
DTSTART:20280312T070000
END:DAYLIGHT
BEGIN:STANDARD
TZOFFSETFROM:-0400
TZOFFSETTO:-0500
TZNAME:EST
DTSTART:20281105T060000
END:STANDARD
END:VTIMEZONE
BEGIN:VEVENT
DTSTART;TZID=America/New_York:20271204T023000
DTEND;TZID=America/New_York:20271204T040000
DTSTAMP:20260423T161750
CREATED:20200423T012334Z
LAST-MODIFIED:20200423T012334Z
UID:6497-1827887400-1827892800@theorchardcommunitychurch.com
SUMMARY:Men's Group
DESCRIPTION:Details
URL:https://theorchardcommunitychurch.com/event/mens-group/2027-12-04/
LOCATION:The Orchard Community Church\, 1 NORTH ST\,\, GORHAM\, ME\, 04038
END:VEVENT
BEGIN:VEVENT
DTSTART;TZID=America/New_York:20271205T043000
DTEND;TZID=America/New_York:20271205T043000
DTSTAMP:20260423T161750
CREATED:20200423T012714Z
LAST-MODIFIED:20200423T012714Z
UID:6498-1827981000-1827981000@theorchardcommunitychurch.com
SUMMARY:Sunday Worship Service
DESCRIPTION:Details
URL:https://theorchardcommunitychurch.com/event/sunday-worship-service/2027-12-05/
LOCATION:The Orchard Community Church\, 1 NORTH ST\,\, GORHAM\, ME\, 04038
CATEGORIES:Church Service
END:VEVENT
BEGIN:VEVENT
DTSTART;TZID=America/New_York:20271205T043000
DTEND;TZID=America/New_York:20271205T043000
DTSTAMP:20260423T161750
CREATED:20220228T000902Z
LAST-MODIFIED:20220228T000902Z
UID:6499-1827981000-1827981000@theorchardcommunitychurch.com
SUMMARY:Worship Service
DESCRIPTION:
URL:https://theorchardcommunitychurch.com/event/worship-service/2027-12-05/
LOCATION:The Orchard Community Church\, 1 NORTH ST\,\, GORHAM\, ME\, 04038
CATEGORIES:Church Service
END:VEVENT
BEGIN:VEVENT
DTSTART;TZID=America/New_York:20271205T043000
DTEND;TZID=America/New_York:20271205T060000
DTSTAMP:20260423T161750
CREATED:20220321T232229Z
LAST-MODIFIED:20220321T232229Z
UID:6501-1827981000-1827986400@theorchardcommunitychurch.com
SUMMARY:Worship Service
DESCRIPTION:
URL:https://theorchardcommunitychurch.com/event/worship-service-4/2027-12-05/
LOCATION:The Orchard Community Church\, 1 NORTH ST\,\, GORHAM\, ME\, 04038
CATEGORIES:Church Service
END:VEVENT
BEGIN:VEVENT
DTSTART;TZID=America/New_York:20271205T093000
DTEND;TZID=America/New_York:20271205T093000
DTSTAMP:20260423T161750
CREATED:20220228T001907Z
LAST-MODIFIED:20220228T001907Z
UID:6500-1827999000-1827999000@theorchardcommunitychurch.com
SUMMARY:Worship Service
DESCRIPTION:
URL:https://theorchardcommunitychurch.com/event/worship-service-2/2027-12-05/
LOCATION:The Orchard Community Church\, 1 NORTH ST\,\, GORHAM\, ME\, 04038
CATEGORIES:Church Service
END:VEVENT
BEGIN:VEVENT
DTSTART;TZID=America/New_York:20271208T130000
DTEND;TZID=America/New_York:20271208T143000
DTSTAMP:20260423T161750
CREATED:20200423T013106Z
LAST-MODIFIED:20200423T013106Z
UID:6502-1828270800-1828276200@theorchardcommunitychurch.com
SUMMARY:Bible Study
DESCRIPTION:If you would like to join or gor more information about our Small Group Bible Study contact us here
URL:https://theorchardcommunitychurch.com/event/bible-study/2027-12-08/
LOCATION:The Orchard Community Church\, 1 NORTH ST\,\, GORHAM\, ME\, 04038
END:VEVENT
BEGIN:VEVENT
DTSTART;TZID=America/New_York:20271211T023000
DTEND;TZID=America/New_York:20271211T040000
DTSTAMP:20260423T161750
CREATED:20200423T011934Z
LAST-MODIFIED:20200423T011934Z
UID:6503-1828492200-1828497600@theorchardcommunitychurch.com
SUMMARY:Women's Group
DESCRIPTION:Details
URL:https://theorchardcommunitychurch.com/event/womens-group/2027-12-11/
LOCATION:The Orchard Community Church\, 1 NORTH ST\,\, GORHAM\, ME\, 04038
CATEGORIES:Women's Group
END:VEVENT
BEGIN:VEVENT
DTSTART;TZID=America/New_York:20271211T023000
DTEND;TZID=America/New_York:20271211T040000
DTSTAMP:20260423T161750
CREATED:20200423T012334Z
LAST-MODIFIED:20200423T012334Z
UID:6504-1828492200-1828497600@theorchardcommunitychurch.com
SUMMARY:Men's Group
DESCRIPTION:Details
URL:https://theorchardcommunitychurch.com/event/mens-group/2027-12-11/
LOCATION:The Orchard Community Church\, 1 NORTH ST\,\, GORHAM\, ME\, 04038
END:VEVENT
BEGIN:VEVENT
DTSTART;TZID=America/New_York:20271212T043000
DTEND;TZID=America/New_York:20271212T043000
DTSTAMP:20260423T161750
CREATED:20200423T012714Z
LAST-MODIFIED:20200423T012714Z
UID:6505-1828585800-1828585800@theorchardcommunitychurch.com
SUMMARY:Sunday Worship Service
DESCRIPTION:Details
URL:https://theorchardcommunitychurch.com/event/sunday-worship-service/2027-12-12/
LOCATION:The Orchard Community Church\, 1 NORTH ST\,\, GORHAM\, ME\, 04038
CATEGORIES:Church Service
END:VEVENT
BEGIN:VEVENT
DTSTART;TZID=America/New_York:20271212T043000
DTEND;TZID=America/New_York:20271212T043000
DTSTAMP:20260423T161750
CREATED:20220228T000902Z
LAST-MODIFIED:20220228T000902Z
UID:6506-1828585800-1828585800@theorchardcommunitychurch.com
SUMMARY:Worship Service
DESCRIPTION:
URL:https://theorchardcommunitychurch.com/event/worship-service/2027-12-12/
LOCATION:The Orchard Community Church\, 1 NORTH ST\,\, GORHAM\, ME\, 04038
CATEGORIES:Church Service
END:VEVENT
BEGIN:VEVENT
DTSTART;TZID=America/New_York:20271212T043000
DTEND;TZID=America/New_York:20271212T060000
DTSTAMP:20260423T161750
CREATED:20220321T232229Z
LAST-MODIFIED:20220321T232229Z
UID:6508-1828585800-1828591200@theorchardcommunitychurch.com
SUMMARY:Worship Service
DESCRIPTION:
URL:https://theorchardcommunitychurch.com/event/worship-service-4/2027-12-12/
LOCATION:The Orchard Community Church\, 1 NORTH ST\,\, GORHAM\, ME\, 04038
CATEGORIES:Church Service
END:VEVENT
BEGIN:VEVENT
DTSTART;TZID=America/New_York:20271212T093000
DTEND;TZID=America/New_York:20271212T093000
DTSTAMP:20260423T161750
CREATED:20220228T001907Z
LAST-MODIFIED:20220228T001907Z
UID:6507-1828603800-1828603800@theorchardcommunitychurch.com
SUMMARY:Worship Service
DESCRIPTION:
URL:https://theorchardcommunitychurch.com/event/worship-service-2/2027-12-12/
LOCATION:The Orchard Community Church\, 1 NORTH ST\,\, GORHAM\, ME\, 04038
CATEGORIES:Church Service
END:VEVENT
BEGIN:VEVENT
DTSTART;TZID=America/New_York:20271215T130000
DTEND;TZID=America/New_York:20271215T143000
DTSTAMP:20260423T161750
CREATED:20200423T013106Z
LAST-MODIFIED:20200423T013106Z
UID:6509-1828875600-1828881000@theorchardcommunitychurch.com
SUMMARY:Bible Study
DESCRIPTION:If you would like to join or gor more information about our Small Group Bible Study contact us here
URL:https://theorchardcommunitychurch.com/event/bible-study/2027-12-15/
LOCATION:The Orchard Community Church\, 1 NORTH ST\,\, GORHAM\, ME\, 04038
END:VEVENT
BEGIN:VEVENT
DTSTART;TZID=America/New_York:20271218T023000
DTEND;TZID=America/New_York:20271218T040000
DTSTAMP:20260423T161750
CREATED:20200423T011934Z
LAST-MODIFIED:20200423T011934Z
UID:6510-1829097000-1829102400@theorchardcommunitychurch.com
SUMMARY:Women's Group
DESCRIPTION:Details
URL:https://theorchardcommunitychurch.com/event/womens-group/2027-12-18/
LOCATION:The Orchard Community Church\, 1 NORTH ST\,\, GORHAM\, ME\, 04038
CATEGORIES:Women's Group
END:VEVENT
BEGIN:VEVENT
DTSTART;TZID=America/New_York:20271218T023000
DTEND;TZID=America/New_York:20271218T040000
DTSTAMP:20260423T161750
CREATED:20200423T012334Z
LAST-MODIFIED:20200423T012334Z
UID:6511-1829097000-1829102400@theorchardcommunitychurch.com
SUMMARY:Men's Group
DESCRIPTION:Details
URL:https://theorchardcommunitychurch.com/event/mens-group/2027-12-18/
LOCATION:The Orchard Community Church\, 1 NORTH ST\,\, GORHAM\, ME\, 04038
END:VEVENT
BEGIN:VEVENT
DTSTART;TZID=America/New_York:20271219T043000
DTEND;TZID=America/New_York:20271219T043000
DTSTAMP:20260423T161750
CREATED:20200423T012714Z
LAST-MODIFIED:20200423T012714Z
UID:6512-1829190600-1829190600@theorchardcommunitychurch.com
SUMMARY:Sunday Worship Service
DESCRIPTION:Details
URL:https://theorchardcommunitychurch.com/event/sunday-worship-service/2027-12-19/
LOCATION:The Orchard Community Church\, 1 NORTH ST\,\, GORHAM\, ME\, 04038
CATEGORIES:Church Service
END:VEVENT
BEGIN:VEVENT
DTSTART;TZID=America/New_York:20271219T043000
DTEND;TZID=America/New_York:20271219T043000
DTSTAMP:20260423T161750
CREATED:20220228T000902Z
LAST-MODIFIED:20220228T000902Z
UID:6513-1829190600-1829190600@theorchardcommunitychurch.com
SUMMARY:Worship Service
DESCRIPTION:
URL:https://theorchardcommunitychurch.com/event/worship-service/2027-12-19/
LOCATION:The Orchard Community Church\, 1 NORTH ST\,\, GORHAM\, ME\, 04038
CATEGORIES:Church Service
END:VEVENT
BEGIN:VEVENT
DTSTART;TZID=America/New_York:20271219T043000
DTEND;TZID=America/New_York:20271219T060000
DTSTAMP:20260423T161750
CREATED:20220321T232229Z
LAST-MODIFIED:20220321T232229Z
UID:6515-1829190600-1829196000@theorchardcommunitychurch.com
SUMMARY:Worship Service
DESCRIPTION:
URL:https://theorchardcommunitychurch.com/event/worship-service-4/2027-12-19/
LOCATION:The Orchard Community Church\, 1 NORTH ST\,\, GORHAM\, ME\, 04038
CATEGORIES:Church Service
END:VEVENT
BEGIN:VEVENT
DTSTART;TZID=America/New_York:20271219T093000
DTEND;TZID=America/New_York:20271219T093000
DTSTAMP:20260423T161750
CREATED:20220228T001907Z
LAST-MODIFIED:20220228T001907Z
UID:6514-1829208600-1829208600@theorchardcommunitychurch.com
SUMMARY:Worship Service
DESCRIPTION:
URL:https://theorchardcommunitychurch.com/event/worship-service-2/2027-12-19/
LOCATION:The Orchard Community Church\, 1 NORTH ST\,\, GORHAM\, ME\, 04038
CATEGORIES:Church Service
END:VEVENT
BEGIN:VEVENT
DTSTART;TZID=America/New_York:20271222T130000
DTEND;TZID=America/New_York:20271222T143000
DTSTAMP:20260423T161750
CREATED:20200423T013106Z
LAST-MODIFIED:20200423T013106Z
UID:6516-1829480400-1829485800@theorchardcommunitychurch.com
SUMMARY:Bible Study
DESCRIPTION:If you would like to join or gor more information about our Small Group Bible Study contact us here
URL:https://theorchardcommunitychurch.com/event/bible-study/2027-12-22/
LOCATION:The Orchard Community Church\, 1 NORTH ST\,\, GORHAM\, ME\, 04038
END:VEVENT
BEGIN:VEVENT
DTSTART;TZID=America/New_York:20271225T023000
DTEND;TZID=America/New_York:20271225T040000
DTSTAMP:20260423T161750
CREATED:20200423T011934Z
LAST-MODIFIED:20200423T011934Z
UID:6517-1829701800-1829707200@theorchardcommunitychurch.com
SUMMARY:Women's Group
DESCRIPTION:Details
URL:https://theorchardcommunitychurch.com/event/womens-group/2027-12-25/
LOCATION:The Orchard Community Church\, 1 NORTH ST\,\, GORHAM\, ME\, 04038
CATEGORIES:Women's Group
END:VEVENT
BEGIN:VEVENT
DTSTART;TZID=America/New_York:20271225T023000
DTEND;TZID=America/New_York:20271225T040000
DTSTAMP:20260423T161750
CREATED:20200423T012334Z
LAST-MODIFIED:20200423T012334Z
UID:6518-1829701800-1829707200@theorchardcommunitychurch.com
SUMMARY:Men's Group
DESCRIPTION:Details
URL:https://theorchardcommunitychurch.com/event/mens-group/2027-12-25/
LOCATION:The Orchard Community Church\, 1 NORTH ST\,\, GORHAM\, ME\, 04038
END:VEVENT
BEGIN:VEVENT
DTSTART;TZID=America/New_York:20271226T043000
DTEND;TZID=America/New_York:20271226T043000
DTSTAMP:20260423T161750
CREATED:20200423T012714Z
LAST-MODIFIED:20200423T012714Z
UID:6519-1829795400-1829795400@theorchardcommunitychurch.com
SUMMARY:Sunday Worship Service
DESCRIPTION:Details
URL:https://theorchardcommunitychurch.com/event/sunday-worship-service/2027-12-26/
LOCATION:The Orchard Community Church\, 1 NORTH ST\,\, GORHAM\, ME\, 04038
CATEGORIES:Church Service
END:VEVENT
BEGIN:VEVENT
DTSTART;TZID=America/New_York:20271226T043000
DTEND;TZID=America/New_York:20271226T043000
DTSTAMP:20260423T161750
CREATED:20220228T000902Z
LAST-MODIFIED:20220228T000902Z
UID:6520-1829795400-1829795400@theorchardcommunitychurch.com
SUMMARY:Worship Service
DESCRIPTION:
URL:https://theorchardcommunitychurch.com/event/worship-service/2027-12-26/
LOCATION:The Orchard Community Church\, 1 NORTH ST\,\, GORHAM\, ME\, 04038
CATEGORIES:Church Service
END:VEVENT
BEGIN:VEVENT
DTSTART;TZID=America/New_York:20271226T043000
DTEND;TZID=America/New_York:20271226T060000
DTSTAMP:20260423T161750
CREATED:20220321T232229Z
LAST-MODIFIED:20220321T232229Z
UID:6522-1829795400-1829800800@theorchardcommunitychurch.com
SUMMARY:Worship Service
DESCRIPTION:
URL:https://theorchardcommunitychurch.com/event/worship-service-4/2027-12-26/
LOCATION:The Orchard Community Church\, 1 NORTH ST\,\, GORHAM\, ME\, 04038
CATEGORIES:Church Service
END:VEVENT
BEGIN:VEVENT
DTSTART;TZID=America/New_York:20271226T093000
DTEND;TZID=America/New_York:20271226T093000
DTSTAMP:20260423T161750
CREATED:20220228T001907Z
LAST-MODIFIED:20220228T001907Z
UID:6521-1829813400-1829813400@theorchardcommunitychurch.com
SUMMARY:Worship Service
DESCRIPTION:
URL:https://theorchardcommunitychurch.com/event/worship-service-2/2027-12-26/
LOCATION:The Orchard Community Church\, 1 NORTH ST\,\, GORHAM\, ME\, 04038
CATEGORIES:Church Service
END:VEVENT
BEGIN:VEVENT
DTSTART;TZID=America/New_York:20271229T130000
DTEND;TZID=America/New_York:20271229T143000
DTSTAMP:20260423T161750
CREATED:20200423T013106Z
LAST-MODIFIED:20200423T013106Z
UID:6523-1830085200-1830090600@theorchardcommunitychurch.com
SUMMARY:Bible Study
DESCRIPTION:If you would like to join or gor more information about our Small Group Bible Study contact us here
URL:https://theorchardcommunitychurch.com/event/bible-study/2027-12-29/
LOCATION:The Orchard Community Church\, 1 NORTH ST\,\, GORHAM\, ME\, 04038
END:VEVENT
BEGIN:VEVENT
DTSTART;TZID=America/New_York:20280101T023000
DTEND;TZID=America/New_York:20280101T040000
DTSTAMP:20260423T161750
CREATED:20200423T011934Z
LAST-MODIFIED:20200423T011934Z
UID:6524-1830306600-1830312000@theorchardcommunitychurch.com
SUMMARY:Women's Group
DESCRIPTION:Details
URL:https://theorchardcommunitychurch.com/event/womens-group/2028-01-01/
LOCATION:The Orchard Community Church\, 1 NORTH ST\,\, GORHAM\, ME\, 04038
CATEGORIES:Women's Group
END:VEVENT
BEGIN:VEVENT
DTSTART;TZID=America/New_York:20280101T023000
DTEND;TZID=America/New_York:20280101T040000
DTSTAMP:20260423T161750
CREATED:20200423T012334Z
LAST-MODIFIED:20200423T012334Z
UID:6525-1830306600-1830312000@theorchardcommunitychurch.com
SUMMARY:Men's Group
DESCRIPTION:Details
URL:https://theorchardcommunitychurch.com/event/mens-group/2028-01-01/
LOCATION:The Orchard Community Church\, 1 NORTH ST\,\, GORHAM\, ME\, 04038
END:VEVENT
BEGIN:VEVENT
DTSTART;TZID=America/New_York:20280102T043000
DTEND;TZID=America/New_York:20280102T043000
DTSTAMP:20260423T161750
CREATED:20200423T012714Z
LAST-MODIFIED:20200423T012714Z
UID:6526-1830400200-1830400200@theorchardcommunitychurch.com
SUMMARY:Sunday Worship Service
DESCRIPTION:Details
URL:https://theorchardcommunitychurch.com/event/sunday-worship-service/2028-01-02/
LOCATION:The Orchard Community Church\, 1 NORTH ST\,\, GORHAM\, ME\, 04038
CATEGORIES:Church Service
END:VEVENT
END:VCALENDAR