BEGIN:VCALENDAR
VERSION:2.0
PRODID:-//Orchard Community Church - ECPv6.9.0//NONSGML v1.0//EN
CALSCALE:GREGORIAN
METHOD:PUBLISH
X-WR-CALNAME:Orchard Community Church
X-ORIGINAL-URL:https://theorchardcommunitychurch.com
X-WR-CALDESC:Events for Orchard Community Church
REFRESH-INTERVAL;VALUE=DURATION:PT1H
X-Robots-Tag:noindex
X-PUBLISHED-TTL:PT1H
BEGIN:VTIMEZONE
TZID:America/New_York
BEGIN:DAYLIGHT
TZOFFSETFROM:-0500
TZOFFSETTO:-0400
TZNAME:EDT
DTSTART:20280312T070000
END:DAYLIGHT
BEGIN:STANDARD
TZOFFSETFROM:-0400
TZOFFSETTO:-0500
TZNAME:EST
DTSTART:20281105T060000
END:STANDARD
END:VTIMEZONE
BEGIN:VEVENT
DTSTART;TZID=America/New_York:20280122T023000
DTEND;TZID=America/New_York:20280122T040000
DTSTAMP:20260423T223254
CREATED:20200423T011934Z
LAST-MODIFIED:20200423T011934Z
UID:6545-1832121000-1832126400@theorchardcommunitychurch.com
SUMMARY:Women's Group
DESCRIPTION:Details
URL:https://theorchardcommunitychurch.com/event/womens-group/2028-01-22/
LOCATION:The Orchard Community Church\, 1 NORTH ST\,\, GORHAM\, ME\, 04038
CATEGORIES:Women's Group
END:VEVENT
BEGIN:VEVENT
DTSTART;TZID=America/New_York:20280122T023000
DTEND;TZID=America/New_York:20280122T040000
DTSTAMP:20260423T223254
CREATED:20200423T012334Z
LAST-MODIFIED:20200423T012334Z
UID:6546-1832121000-1832126400@theorchardcommunitychurch.com
SUMMARY:Men's Group
DESCRIPTION:Details
URL:https://theorchardcommunitychurch.com/event/mens-group/2028-01-22/
LOCATION:The Orchard Community Church\, 1 NORTH ST\,\, GORHAM\, ME\, 04038
END:VEVENT
BEGIN:VEVENT
DTSTART;TZID=America/New_York:20280123T043000
DTEND;TZID=America/New_York:20280123T043000
DTSTAMP:20260423T223254
CREATED:20200423T012714Z
LAST-MODIFIED:20200423T012714Z
UID:6547-1832214600-1832214600@theorchardcommunitychurch.com
SUMMARY:Sunday Worship Service
DESCRIPTION:Details
URL:https://theorchardcommunitychurch.com/event/sunday-worship-service/2028-01-23/
LOCATION:The Orchard Community Church\, 1 NORTH ST\,\, GORHAM\, ME\, 04038
CATEGORIES:Church Service
END:VEVENT
BEGIN:VEVENT
DTSTART;TZID=America/New_York:20280123T043000
DTEND;TZID=America/New_York:20280123T043000
DTSTAMP:20260423T223254
CREATED:20220228T000902Z
LAST-MODIFIED:20220228T000902Z
UID:6548-1832214600-1832214600@theorchardcommunitychurch.com
SUMMARY:Worship Service
DESCRIPTION:
URL:https://theorchardcommunitychurch.com/event/worship-service/2028-01-23/
LOCATION:The Orchard Community Church\, 1 NORTH ST\,\, GORHAM\, ME\, 04038
CATEGORIES:Church Service
END:VEVENT
BEGIN:VEVENT
DTSTART;TZID=America/New_York:20280123T043000
DTEND;TZID=America/New_York:20280123T060000
DTSTAMP:20260423T223254
CREATED:20220321T232229Z
LAST-MODIFIED:20220321T232229Z
UID:6550-1832214600-1832220000@theorchardcommunitychurch.com
SUMMARY:Worship Service
DESCRIPTION:
URL:https://theorchardcommunitychurch.com/event/worship-service-4/2028-01-23/
LOCATION:The Orchard Community Church\, 1 NORTH ST\,\, GORHAM\, ME\, 04038
CATEGORIES:Church Service
END:VEVENT
BEGIN:VEVENT
DTSTART;TZID=America/New_York:20280123T093000
DTEND;TZID=America/New_York:20280123T093000
DTSTAMP:20260423T223254
CREATED:20220228T001907Z
LAST-MODIFIED:20220228T001907Z
UID:6549-1832232600-1832232600@theorchardcommunitychurch.com
SUMMARY:Worship Service
DESCRIPTION:
URL:https://theorchardcommunitychurch.com/event/worship-service-2/2028-01-23/
LOCATION:The Orchard Community Church\, 1 NORTH ST\,\, GORHAM\, ME\, 04038
CATEGORIES:Church Service
END:VEVENT
BEGIN:VEVENT
DTSTART;TZID=America/New_York:20280126T130000
DTEND;TZID=America/New_York:20280126T143000
DTSTAMP:20260423T223254
CREATED:20200423T013106Z
LAST-MODIFIED:20200423T013106Z
UID:6551-1832504400-1832509800@theorchardcommunitychurch.com
SUMMARY:Bible Study
DESCRIPTION:If you would like to join or gor more information about our Small Group Bible Study contact us here
URL:https://theorchardcommunitychurch.com/event/bible-study/2028-01-26/
LOCATION:The Orchard Community Church\, 1 NORTH ST\,\, GORHAM\, ME\, 04038
END:VEVENT
BEGIN:VEVENT
DTSTART;TZID=America/New_York:20280129T023000
DTEND;TZID=America/New_York:20280129T040000
DTSTAMP:20260423T223254
CREATED:20200423T011934Z
LAST-MODIFIED:20200423T011934Z
UID:6552-1832725800-1832731200@theorchardcommunitychurch.com
SUMMARY:Women's Group
DESCRIPTION:Details
URL:https://theorchardcommunitychurch.com/event/womens-group/2028-01-29/
LOCATION:The Orchard Community Church\, 1 NORTH ST\,\, GORHAM\, ME\, 04038
CATEGORIES:Women's Group
END:VEVENT
BEGIN:VEVENT
DTSTART;TZID=America/New_York:20280129T023000
DTEND;TZID=America/New_York:20280129T040000
DTSTAMP:20260423T223254
CREATED:20200423T012334Z
LAST-MODIFIED:20200423T012334Z
UID:6553-1832725800-1832731200@theorchardcommunitychurch.com
SUMMARY:Men's Group
DESCRIPTION:Details
URL:https://theorchardcommunitychurch.com/event/mens-group/2028-01-29/
LOCATION:The Orchard Community Church\, 1 NORTH ST\,\, GORHAM\, ME\, 04038
END:VEVENT
BEGIN:VEVENT
DTSTART;TZID=America/New_York:20280130T043000
DTEND;TZID=America/New_York:20280130T043000
DTSTAMP:20260423T223254
CREATED:20200423T012714Z
LAST-MODIFIED:20200423T012714Z
UID:6554-1832819400-1832819400@theorchardcommunitychurch.com
SUMMARY:Sunday Worship Service
DESCRIPTION:Details
URL:https://theorchardcommunitychurch.com/event/sunday-worship-service/2028-01-30/
LOCATION:The Orchard Community Church\, 1 NORTH ST\,\, GORHAM\, ME\, 04038
CATEGORIES:Church Service
END:VEVENT
BEGIN:VEVENT
DTSTART;TZID=America/New_York:20280130T043000
DTEND;TZID=America/New_York:20280130T043000
DTSTAMP:20260423T223254
CREATED:20220228T000902Z
LAST-MODIFIED:20220228T000902Z
UID:6555-1832819400-1832819400@theorchardcommunitychurch.com
SUMMARY:Worship Service
DESCRIPTION:
URL:https://theorchardcommunitychurch.com/event/worship-service/2028-01-30/
LOCATION:The Orchard Community Church\, 1 NORTH ST\,\, GORHAM\, ME\, 04038
CATEGORIES:Church Service
END:VEVENT
BEGIN:VEVENT
DTSTART;TZID=America/New_York:20280130T043000
DTEND;TZID=America/New_York:20280130T060000
DTSTAMP:20260423T223254
CREATED:20220321T232229Z
LAST-MODIFIED:20220321T232229Z
UID:6557-1832819400-1832824800@theorchardcommunitychurch.com
SUMMARY:Worship Service
DESCRIPTION:
URL:https://theorchardcommunitychurch.com/event/worship-service-4/2028-01-30/
LOCATION:The Orchard Community Church\, 1 NORTH ST\,\, GORHAM\, ME\, 04038
CATEGORIES:Church Service
END:VEVENT
BEGIN:VEVENT
DTSTART;TZID=America/New_York:20280130T093000
DTEND;TZID=America/New_York:20280130T093000
DTSTAMP:20260423T223254
CREATED:20220228T001907Z
LAST-MODIFIED:20220228T001907Z
UID:6556-1832837400-1832837400@theorchardcommunitychurch.com
SUMMARY:Worship Service
DESCRIPTION:
URL:https://theorchardcommunitychurch.com/event/worship-service-2/2028-01-30/
LOCATION:The Orchard Community Church\, 1 NORTH ST\,\, GORHAM\, ME\, 04038
CATEGORIES:Church Service
END:VEVENT
BEGIN:VEVENT
DTSTART;TZID=America/New_York:20280202T130000
DTEND;TZID=America/New_York:20280202T143000
DTSTAMP:20260423T223254
CREATED:20200423T013106Z
LAST-MODIFIED:20200423T013106Z
UID:6558-1833109200-1833114600@theorchardcommunitychurch.com
SUMMARY:Bible Study
DESCRIPTION:If you would like to join or gor more information about our Small Group Bible Study contact us here
URL:https://theorchardcommunitychurch.com/event/bible-study/2028-02-02/
LOCATION:The Orchard Community Church\, 1 NORTH ST\,\, GORHAM\, ME\, 04038
END:VEVENT
BEGIN:VEVENT
DTSTART;TZID=America/New_York:20280205T023000
DTEND;TZID=America/New_York:20280205T040000
DTSTAMP:20260423T223254
CREATED:20200423T011934Z
LAST-MODIFIED:20200423T011934Z
UID:6559-1833330600-1833336000@theorchardcommunitychurch.com
SUMMARY:Women's Group
DESCRIPTION:Details
URL:https://theorchardcommunitychurch.com/event/womens-group/2028-02-05/
LOCATION:The Orchard Community Church\, 1 NORTH ST\,\, GORHAM\, ME\, 04038
CATEGORIES:Women's Group
END:VEVENT
BEGIN:VEVENT
DTSTART;TZID=America/New_York:20280205T023000
DTEND;TZID=America/New_York:20280205T040000
DTSTAMP:20260423T223254
CREATED:20200423T012334Z
LAST-MODIFIED:20200423T012334Z
UID:6560-1833330600-1833336000@theorchardcommunitychurch.com
SUMMARY:Men's Group
DESCRIPTION:Details
URL:https://theorchardcommunitychurch.com/event/mens-group/2028-02-05/
LOCATION:The Orchard Community Church\, 1 NORTH ST\,\, GORHAM\, ME\, 04038
END:VEVENT
BEGIN:VEVENT
DTSTART;TZID=America/New_York:20280206T043000
DTEND;TZID=America/New_York:20280206T043000
DTSTAMP:20260423T223254
CREATED:20200423T012714Z
LAST-MODIFIED:20200423T012714Z
UID:6561-1833424200-1833424200@theorchardcommunitychurch.com
SUMMARY:Sunday Worship Service
DESCRIPTION:Details
URL:https://theorchardcommunitychurch.com/event/sunday-worship-service/2028-02-06/
LOCATION:The Orchard Community Church\, 1 NORTH ST\,\, GORHAM\, ME\, 04038
CATEGORIES:Church Service
END:VEVENT
BEGIN:VEVENT
DTSTART;TZID=America/New_York:20280206T043000
DTEND;TZID=America/New_York:20280206T043000
DTSTAMP:20260423T223254
CREATED:20220228T000902Z
LAST-MODIFIED:20220228T000902Z
UID:6562-1833424200-1833424200@theorchardcommunitychurch.com
SUMMARY:Worship Service
DESCRIPTION:
URL:https://theorchardcommunitychurch.com/event/worship-service/2028-02-06/
LOCATION:The Orchard Community Church\, 1 NORTH ST\,\, GORHAM\, ME\, 04038
CATEGORIES:Church Service
END:VEVENT
BEGIN:VEVENT
DTSTART;TZID=America/New_York:20280206T043000
DTEND;TZID=America/New_York:20280206T060000
DTSTAMP:20260423T223254
CREATED:20220321T232229Z
LAST-MODIFIED:20220321T232229Z
UID:6564-1833424200-1833429600@theorchardcommunitychurch.com
SUMMARY:Worship Service
DESCRIPTION:
URL:https://theorchardcommunitychurch.com/event/worship-service-4/2028-02-06/
LOCATION:The Orchard Community Church\, 1 NORTH ST\,\, GORHAM\, ME\, 04038
CATEGORIES:Church Service
END:VEVENT
BEGIN:VEVENT
DTSTART;TZID=America/New_York:20280206T093000
DTEND;TZID=America/New_York:20280206T093000
DTSTAMP:20260423T223254
CREATED:20220228T001907Z
LAST-MODIFIED:20220228T001907Z
UID:6563-1833442200-1833442200@theorchardcommunitychurch.com
SUMMARY:Worship Service
DESCRIPTION:
URL:https://theorchardcommunitychurch.com/event/worship-service-2/2028-02-06/
LOCATION:The Orchard Community Church\, 1 NORTH ST\,\, GORHAM\, ME\, 04038
CATEGORIES:Church Service
END:VEVENT
BEGIN:VEVENT
DTSTART;TZID=America/New_York:20280209T130000
DTEND;TZID=America/New_York:20280209T143000
DTSTAMP:20260423T223254
CREATED:20200423T013106Z
LAST-MODIFIED:20200423T013106Z
UID:6565-1833714000-1833719400@theorchardcommunitychurch.com
SUMMARY:Bible Study
DESCRIPTION:If you would like to join or gor more information about our Small Group Bible Study contact us here
URL:https://theorchardcommunitychurch.com/event/bible-study/2028-02-09/
LOCATION:The Orchard Community Church\, 1 NORTH ST\,\, GORHAM\, ME\, 04038
END:VEVENT
BEGIN:VEVENT
DTSTART;TZID=America/New_York:20280212T023000
DTEND;TZID=America/New_York:20280212T040000
DTSTAMP:20260423T223254
CREATED:20200423T011934Z
LAST-MODIFIED:20200423T011934Z
UID:6566-1833935400-1833940800@theorchardcommunitychurch.com
SUMMARY:Women's Group
DESCRIPTION:Details
URL:https://theorchardcommunitychurch.com/event/womens-group/2028-02-12/
LOCATION:The Orchard Community Church\, 1 NORTH ST\,\, GORHAM\, ME\, 04038
CATEGORIES:Women's Group
END:VEVENT
BEGIN:VEVENT
DTSTART;TZID=America/New_York:20280212T023000
DTEND;TZID=America/New_York:20280212T040000
DTSTAMP:20260423T223254
CREATED:20200423T012334Z
LAST-MODIFIED:20200423T012334Z
UID:6567-1833935400-1833940800@theorchardcommunitychurch.com
SUMMARY:Men's Group
DESCRIPTION:Details
URL:https://theorchardcommunitychurch.com/event/mens-group/2028-02-12/
LOCATION:The Orchard Community Church\, 1 NORTH ST\,\, GORHAM\, ME\, 04038
END:VEVENT
BEGIN:VEVENT
DTSTART;TZID=America/New_York:20280213T043000
DTEND;TZID=America/New_York:20280213T043000
DTSTAMP:20260423T223254
CREATED:20200423T012714Z
LAST-MODIFIED:20200423T012714Z
UID:6568-1834029000-1834029000@theorchardcommunitychurch.com
SUMMARY:Sunday Worship Service
DESCRIPTION:Details
URL:https://theorchardcommunitychurch.com/event/sunday-worship-service/2028-02-13/
LOCATION:The Orchard Community Church\, 1 NORTH ST\,\, GORHAM\, ME\, 04038
CATEGORIES:Church Service
END:VEVENT
BEGIN:VEVENT
DTSTART;TZID=America/New_York:20280213T043000
DTEND;TZID=America/New_York:20280213T043000
DTSTAMP:20260423T223254
CREATED:20220228T000902Z
LAST-MODIFIED:20220228T000902Z
UID:6569-1834029000-1834029000@theorchardcommunitychurch.com
SUMMARY:Worship Service
DESCRIPTION:
URL:https://theorchardcommunitychurch.com/event/worship-service/2028-02-13/
LOCATION:The Orchard Community Church\, 1 NORTH ST\,\, GORHAM\, ME\, 04038
CATEGORIES:Church Service
END:VEVENT
BEGIN:VEVENT
DTSTART;TZID=America/New_York:20280213T043000
DTEND;TZID=America/New_York:20280213T060000
DTSTAMP:20260423T223254
CREATED:20220321T232229Z
LAST-MODIFIED:20220321T232229Z
UID:6571-1834029000-1834034400@theorchardcommunitychurch.com
SUMMARY:Worship Service
DESCRIPTION:
URL:https://theorchardcommunitychurch.com/event/worship-service-4/2028-02-13/
LOCATION:The Orchard Community Church\, 1 NORTH ST\,\, GORHAM\, ME\, 04038
CATEGORIES:Church Service
END:VEVENT
BEGIN:VEVENT
DTSTART;TZID=America/New_York:20280213T093000
DTEND;TZID=America/New_York:20280213T093000
DTSTAMP:20260423T223254
CREATED:20220228T001907Z
LAST-MODIFIED:20220228T001907Z
UID:6570-1834047000-1834047000@theorchardcommunitychurch.com
SUMMARY:Worship Service
DESCRIPTION:
URL:https://theorchardcommunitychurch.com/event/worship-service-2/2028-02-13/
LOCATION:The Orchard Community Church\, 1 NORTH ST\,\, GORHAM\, ME\, 04038
CATEGORIES:Church Service
END:VEVENT
BEGIN:VEVENT
DTSTART;TZID=America/New_York:20280216T130000
DTEND;TZID=America/New_York:20280216T143000
DTSTAMP:20260423T223254
CREATED:20200423T013106Z
LAST-MODIFIED:20200423T013106Z
UID:6573-1834318800-1834324200@theorchardcommunitychurch.com
SUMMARY:Bible Study
DESCRIPTION:If you would like to join or gor more information about our Small Group Bible Study contact us here
URL:https://theorchardcommunitychurch.com/event/bible-study/2028-02-16/
LOCATION:The Orchard Community Church\, 1 NORTH ST\,\, GORHAM\, ME\, 04038
END:VEVENT
BEGIN:VEVENT
DTSTART;TZID=America/New_York:20280219T023000
DTEND;TZID=America/New_York:20280219T040000
DTSTAMP:20260423T223254
CREATED:20200423T011934Z
LAST-MODIFIED:20200423T011934Z
UID:6574-1834540200-1834545600@theorchardcommunitychurch.com
SUMMARY:Women's Group
DESCRIPTION:Details
URL:https://theorchardcommunitychurch.com/event/womens-group/2028-02-19/
LOCATION:The Orchard Community Church\, 1 NORTH ST\,\, GORHAM\, ME\, 04038
CATEGORIES:Women's Group
END:VEVENT
BEGIN:VEVENT
DTSTART;TZID=America/New_York:20280219T023000
DTEND;TZID=America/New_York:20280219T040000
DTSTAMP:20260423T223254
CREATED:20200423T012334Z
LAST-MODIFIED:20200423T012334Z
UID:6575-1834540200-1834545600@theorchardcommunitychurch.com
SUMMARY:Men's Group
DESCRIPTION:Details
URL:https://theorchardcommunitychurch.com/event/mens-group/2028-02-19/
LOCATION:The Orchard Community Church\, 1 NORTH ST\,\, GORHAM\, ME\, 04038
END:VEVENT
END:VCALENDAR