BEGIN:VCALENDAR
VERSION:2.0
PRODID:-//Orchard Community Church - ECPv6.9.0//NONSGML v1.0//EN
CALSCALE:GREGORIAN
METHOD:PUBLISH
X-WR-CALNAME:Orchard Community Church
X-ORIGINAL-URL:https://theorchardcommunitychurch.com
X-WR-CALDESC:Events for Orchard Community Church
REFRESH-INTERVAL;VALUE=DURATION:PT1H
X-Robots-Tag:noindex
X-PUBLISHED-TTL:PT1H
BEGIN:VTIMEZONE
TZID:America/New_York
BEGIN:DAYLIGHT
TZOFFSETFROM:-0500
TZOFFSETTO:-0400
TZNAME:EDT
DTSTART:20280312T070000
END:DAYLIGHT
BEGIN:STANDARD
TZOFFSETFROM:-0400
TZOFFSETTO:-0500
TZNAME:EST
DTSTART:20281105T060000
END:STANDARD
END:VTIMEZONE
BEGIN:VEVENT
DTSTART;TZID=America/New_York:20280319T053000
DTEND;TZID=America/New_York:20280319T070000
DTSTAMP:20260424T071848
CREATED:20220321T232229Z
LAST-MODIFIED:20220321T232229Z
UID:6608-1837056600-1837062000@theorchardcommunitychurch.com
SUMMARY:Worship Service
DESCRIPTION:
URL:https://theorchardcommunitychurch.com/event/worship-service-4/2028-03-19/
LOCATION:The Orchard Community Church\, 1 NORTH ST\,\, GORHAM\, ME\, 04038
CATEGORIES:Church Service
END:VEVENT
BEGIN:VEVENT
DTSTART;TZID=America/New_York:20280319T093000
DTEND;TZID=America/New_York:20280319T093000
DTSTAMP:20260424T071848
CREATED:20220228T001907Z
LAST-MODIFIED:20220228T001907Z
UID:6607-1837071000-1837071000@theorchardcommunitychurch.com
SUMMARY:Worship Service
DESCRIPTION:
URL:https://theorchardcommunitychurch.com/event/worship-service-2/2028-03-19/
LOCATION:The Orchard Community Church\, 1 NORTH ST\,\, GORHAM\, ME\, 04038
CATEGORIES:Church Service
END:VEVENT
BEGIN:VEVENT
DTSTART;TZID=America/New_York:20280322T140000
DTEND;TZID=America/New_York:20280322T153000
DTSTAMP:20260424T071848
CREATED:20200423T013106Z
LAST-MODIFIED:20200423T013106Z
UID:6609-1837346400-1837351800@theorchardcommunitychurch.com
SUMMARY:Bible Study
DESCRIPTION:If you would like to join or gor more information about our Small Group Bible Study contact us here
URL:https://theorchardcommunitychurch.com/event/bible-study/2028-03-22/
LOCATION:The Orchard Community Church\, 1 NORTH ST\,\, GORHAM\, ME\, 04038
END:VEVENT
BEGIN:VEVENT
DTSTART;TZID=America/New_York:20280325T033000
DTEND;TZID=America/New_York:20280325T050000
DTSTAMP:20260424T071848
CREATED:20200423T011934Z
LAST-MODIFIED:20200423T011934Z
UID:6610-1837567800-1837573200@theorchardcommunitychurch.com
SUMMARY:Women's Group
DESCRIPTION:Details
URL:https://theorchardcommunitychurch.com/event/womens-group/2028-03-25/
LOCATION:The Orchard Community Church\, 1 NORTH ST\,\, GORHAM\, ME\, 04038
CATEGORIES:Women's Group
END:VEVENT
BEGIN:VEVENT
DTSTART;TZID=America/New_York:20280325T033000
DTEND;TZID=America/New_York:20280325T050000
DTSTAMP:20260424T071848
CREATED:20200423T012334Z
LAST-MODIFIED:20200423T012334Z
UID:6611-1837567800-1837573200@theorchardcommunitychurch.com
SUMMARY:Men's Group
DESCRIPTION:Details
URL:https://theorchardcommunitychurch.com/event/mens-group/2028-03-25/
LOCATION:The Orchard Community Church\, 1 NORTH ST\,\, GORHAM\, ME\, 04038
END:VEVENT
BEGIN:VEVENT
DTSTART;TZID=America/New_York:20280326T053000
DTEND;TZID=America/New_York:20280326T053000
DTSTAMP:20260424T071848
CREATED:20200423T012714Z
LAST-MODIFIED:20200423T012714Z
UID:6612-1837661400-1837661400@theorchardcommunitychurch.com
SUMMARY:Sunday Worship Service
DESCRIPTION:Details
URL:https://theorchardcommunitychurch.com/event/sunday-worship-service/2028-03-26/
LOCATION:The Orchard Community Church\, 1 NORTH ST\,\, GORHAM\, ME\, 04038
CATEGORIES:Church Service
END:VEVENT
BEGIN:VEVENT
DTSTART;TZID=America/New_York:20280326T053000
DTEND;TZID=America/New_York:20280326T053000
DTSTAMP:20260424T071848
CREATED:20220228T000902Z
LAST-MODIFIED:20220228T000902Z
UID:6613-1837661400-1837661400@theorchardcommunitychurch.com
SUMMARY:Worship Service
DESCRIPTION:
URL:https://theorchardcommunitychurch.com/event/worship-service/2028-03-26/
LOCATION:The Orchard Community Church\, 1 NORTH ST\,\, GORHAM\, ME\, 04038
CATEGORIES:Church Service
END:VEVENT
BEGIN:VEVENT
DTSTART;TZID=America/New_York:20280326T053000
DTEND;TZID=America/New_York:20280326T070000
DTSTAMP:20260424T071848
CREATED:20220321T232229Z
LAST-MODIFIED:20220321T232229Z
UID:6615-1837661400-1837666800@theorchardcommunitychurch.com
SUMMARY:Worship Service
DESCRIPTION:
URL:https://theorchardcommunitychurch.com/event/worship-service-4/2028-03-26/
LOCATION:The Orchard Community Church\, 1 NORTH ST\,\, GORHAM\, ME\, 04038
CATEGORIES:Church Service
END:VEVENT
BEGIN:VEVENT
DTSTART;TZID=America/New_York:20280326T093000
DTEND;TZID=America/New_York:20280326T093000
DTSTAMP:20260424T071848
CREATED:20220228T001907Z
LAST-MODIFIED:20220228T001907Z
UID:6614-1837675800-1837675800@theorchardcommunitychurch.com
SUMMARY:Worship Service
DESCRIPTION:
URL:https://theorchardcommunitychurch.com/event/worship-service-2/2028-03-26/
LOCATION:The Orchard Community Church\, 1 NORTH ST\,\, GORHAM\, ME\, 04038
CATEGORIES:Church Service
END:VEVENT
BEGIN:VEVENT
DTSTART;TZID=America/New_York:20280329T140000
DTEND;TZID=America/New_York:20280329T153000
DTSTAMP:20260424T071848
CREATED:20200423T013106Z
LAST-MODIFIED:20200423T013106Z
UID:6616-1837951200-1837956600@theorchardcommunitychurch.com
SUMMARY:Bible Study
DESCRIPTION:If you would like to join or gor more information about our Small Group Bible Study contact us here
URL:https://theorchardcommunitychurch.com/event/bible-study/2028-03-29/
LOCATION:The Orchard Community Church\, 1 NORTH ST\,\, GORHAM\, ME\, 04038
END:VEVENT
BEGIN:VEVENT
DTSTART;TZID=America/New_York:20280401T033000
DTEND;TZID=America/New_York:20280401T050000
DTSTAMP:20260424T071848
CREATED:20200423T011934Z
LAST-MODIFIED:20200423T011934Z
UID:6617-1838172600-1838178000@theorchardcommunitychurch.com
SUMMARY:Women's Group
DESCRIPTION:Details
URL:https://theorchardcommunitychurch.com/event/womens-group/2028-04-01/
LOCATION:The Orchard Community Church\, 1 NORTH ST\,\, GORHAM\, ME\, 04038
CATEGORIES:Women's Group
END:VEVENT
BEGIN:VEVENT
DTSTART;TZID=America/New_York:20280401T033000
DTEND;TZID=America/New_York:20280401T050000
DTSTAMP:20260424T071848
CREATED:20200423T012334Z
LAST-MODIFIED:20200423T012334Z
UID:6618-1838172600-1838178000@theorchardcommunitychurch.com
SUMMARY:Men's Group
DESCRIPTION:Details
URL:https://theorchardcommunitychurch.com/event/mens-group/2028-04-01/
LOCATION:The Orchard Community Church\, 1 NORTH ST\,\, GORHAM\, ME\, 04038
END:VEVENT
BEGIN:VEVENT
DTSTART;TZID=America/New_York:20280402T053000
DTEND;TZID=America/New_York:20280402T053000
DTSTAMP:20260424T071848
CREATED:20200423T012714Z
LAST-MODIFIED:20200423T012714Z
UID:6619-1838266200-1838266200@theorchardcommunitychurch.com
SUMMARY:Sunday Worship Service
DESCRIPTION:Details
URL:https://theorchardcommunitychurch.com/event/sunday-worship-service/2028-04-02/
LOCATION:The Orchard Community Church\, 1 NORTH ST\,\, GORHAM\, ME\, 04038
CATEGORIES:Church Service
END:VEVENT
BEGIN:VEVENT
DTSTART;TZID=America/New_York:20280402T053000
DTEND;TZID=America/New_York:20280402T053000
DTSTAMP:20260424T071848
CREATED:20220228T000902Z
LAST-MODIFIED:20220228T000902Z
UID:6620-1838266200-1838266200@theorchardcommunitychurch.com
SUMMARY:Worship Service
DESCRIPTION:
URL:https://theorchardcommunitychurch.com/event/worship-service/2028-04-02/
LOCATION:The Orchard Community Church\, 1 NORTH ST\,\, GORHAM\, ME\, 04038
CATEGORIES:Church Service
END:VEVENT
BEGIN:VEVENT
DTSTART;TZID=America/New_York:20280402T053000
DTEND;TZID=America/New_York:20280402T070000
DTSTAMP:20260424T071848
CREATED:20220321T232229Z
LAST-MODIFIED:20220321T232229Z
UID:6622-1838266200-1838271600@theorchardcommunitychurch.com
SUMMARY:Worship Service
DESCRIPTION:
URL:https://theorchardcommunitychurch.com/event/worship-service-4/2028-04-02/
LOCATION:The Orchard Community Church\, 1 NORTH ST\,\, GORHAM\, ME\, 04038
CATEGORIES:Church Service
END:VEVENT
BEGIN:VEVENT
DTSTART;TZID=America/New_York:20280402T093000
DTEND;TZID=America/New_York:20280402T093000
DTSTAMP:20260424T071848
CREATED:20220228T001907Z
LAST-MODIFIED:20220228T001907Z
UID:6621-1838280600-1838280600@theorchardcommunitychurch.com
SUMMARY:Worship Service
DESCRIPTION:
URL:https://theorchardcommunitychurch.com/event/worship-service-2/2028-04-02/
LOCATION:The Orchard Community Church\, 1 NORTH ST\,\, GORHAM\, ME\, 04038
CATEGORIES:Church Service
END:VEVENT
BEGIN:VEVENT
DTSTART;TZID=America/New_York:20280405T140000
DTEND;TZID=America/New_York:20280405T153000
DTSTAMP:20260424T071848
CREATED:20200423T013106Z
LAST-MODIFIED:20200423T013106Z
UID:6623-1838556000-1838561400@theorchardcommunitychurch.com
SUMMARY:Bible Study
DESCRIPTION:If you would like to join or gor more information about our Small Group Bible Study contact us here
URL:https://theorchardcommunitychurch.com/event/bible-study/2028-04-05/
LOCATION:The Orchard Community Church\, 1 NORTH ST\,\, GORHAM\, ME\, 04038
END:VEVENT
BEGIN:VEVENT
DTSTART;TZID=America/New_York:20280408T033000
DTEND;TZID=America/New_York:20280408T050000
DTSTAMP:20260424T071848
CREATED:20200423T011934Z
LAST-MODIFIED:20200423T011934Z
UID:6624-1838777400-1838782800@theorchardcommunitychurch.com
SUMMARY:Women's Group
DESCRIPTION:Details
URL:https://theorchardcommunitychurch.com/event/womens-group/2028-04-08/
LOCATION:The Orchard Community Church\, 1 NORTH ST\,\, GORHAM\, ME\, 04038
CATEGORIES:Women's Group
END:VEVENT
BEGIN:VEVENT
DTSTART;TZID=America/New_York:20280408T033000
DTEND;TZID=America/New_York:20280408T050000
DTSTAMP:20260424T071848
CREATED:20200423T012334Z
LAST-MODIFIED:20200423T012334Z
UID:6625-1838777400-1838782800@theorchardcommunitychurch.com
SUMMARY:Men's Group
DESCRIPTION:Details
URL:https://theorchardcommunitychurch.com/event/mens-group/2028-04-08/
LOCATION:The Orchard Community Church\, 1 NORTH ST\,\, GORHAM\, ME\, 04038
END:VEVENT
BEGIN:VEVENT
DTSTART;TZID=America/New_York:20280409T053000
DTEND;TZID=America/New_York:20280409T053000
DTSTAMP:20260424T071848
CREATED:20200423T012714Z
LAST-MODIFIED:20200423T012714Z
UID:6626-1838871000-1838871000@theorchardcommunitychurch.com
SUMMARY:Sunday Worship Service
DESCRIPTION:Details
URL:https://theorchardcommunitychurch.com/event/sunday-worship-service/2028-04-09/
LOCATION:The Orchard Community Church\, 1 NORTH ST\,\, GORHAM\, ME\, 04038
CATEGORIES:Church Service
END:VEVENT
BEGIN:VEVENT
DTSTART;TZID=America/New_York:20280409T053000
DTEND;TZID=America/New_York:20280409T053000
DTSTAMP:20260424T071848
CREATED:20220228T000902Z
LAST-MODIFIED:20220228T000902Z
UID:6627-1838871000-1838871000@theorchardcommunitychurch.com
SUMMARY:Worship Service
DESCRIPTION:
URL:https://theorchardcommunitychurch.com/event/worship-service/2028-04-09/
LOCATION:The Orchard Community Church\, 1 NORTH ST\,\, GORHAM\, ME\, 04038
CATEGORIES:Church Service
END:VEVENT
BEGIN:VEVENT
DTSTART;TZID=America/New_York:20280409T053000
DTEND;TZID=America/New_York:20280409T070000
DTSTAMP:20260424T071848
CREATED:20220321T232229Z
LAST-MODIFIED:20220321T232229Z
UID:6629-1838871000-1838876400@theorchardcommunitychurch.com
SUMMARY:Worship Service
DESCRIPTION:
URL:https://theorchardcommunitychurch.com/event/worship-service-4/2028-04-09/
LOCATION:The Orchard Community Church\, 1 NORTH ST\,\, GORHAM\, ME\, 04038
CATEGORIES:Church Service
END:VEVENT
BEGIN:VEVENT
DTSTART;TZID=America/New_York:20280409T093000
DTEND;TZID=America/New_York:20280409T093000
DTSTAMP:20260424T071848
CREATED:20220228T001907Z
LAST-MODIFIED:20220228T001907Z
UID:6628-1838885400-1838885400@theorchardcommunitychurch.com
SUMMARY:Worship Service
DESCRIPTION:
URL:https://theorchardcommunitychurch.com/event/worship-service-2/2028-04-09/
LOCATION:The Orchard Community Church\, 1 NORTH ST\,\, GORHAM\, ME\, 04038
CATEGORIES:Church Service
END:VEVENT
BEGIN:VEVENT
DTSTART;TZID=America/New_York:20280412T140000
DTEND;TZID=America/New_York:20280412T153000
DTSTAMP:20260424T071848
CREATED:20200423T013106Z
LAST-MODIFIED:20200423T013106Z
UID:6630-1839160800-1839166200@theorchardcommunitychurch.com
SUMMARY:Bible Study
DESCRIPTION:If you would like to join or gor more information about our Small Group Bible Study contact us here
URL:https://theorchardcommunitychurch.com/event/bible-study/2028-04-12/
LOCATION:The Orchard Community Church\, 1 NORTH ST\,\, GORHAM\, ME\, 04038
END:VEVENT
BEGIN:VEVENT
DTSTART;TZID=America/New_York:20280415T033000
DTEND;TZID=America/New_York:20280415T050000
DTSTAMP:20260424T071848
CREATED:20200423T011934Z
LAST-MODIFIED:20200423T011934Z
UID:6631-1839382200-1839387600@theorchardcommunitychurch.com
SUMMARY:Women's Group
DESCRIPTION:Details
URL:https://theorchardcommunitychurch.com/event/womens-group/2028-04-15/
LOCATION:The Orchard Community Church\, 1 NORTH ST\,\, GORHAM\, ME\, 04038
CATEGORIES:Women's Group
END:VEVENT
BEGIN:VEVENT
DTSTART;TZID=America/New_York:20280415T033000
DTEND;TZID=America/New_York:20280415T050000
DTSTAMP:20260424T071848
CREATED:20200423T012334Z
LAST-MODIFIED:20200423T012334Z
UID:6632-1839382200-1839387600@theorchardcommunitychurch.com
SUMMARY:Men's Group
DESCRIPTION:Details
URL:https://theorchardcommunitychurch.com/event/mens-group/2028-04-15/
LOCATION:The Orchard Community Church\, 1 NORTH ST\,\, GORHAM\, ME\, 04038
END:VEVENT
BEGIN:VEVENT
DTSTART;TZID=America/New_York:20280416T053000
DTEND;TZID=America/New_York:20280416T053000
DTSTAMP:20260424T071848
CREATED:20200423T012714Z
LAST-MODIFIED:20200423T012714Z
UID:6633-1839475800-1839475800@theorchardcommunitychurch.com
SUMMARY:Sunday Worship Service
DESCRIPTION:Details
URL:https://theorchardcommunitychurch.com/event/sunday-worship-service/2028-04-16/
LOCATION:The Orchard Community Church\, 1 NORTH ST\,\, GORHAM\, ME\, 04038
CATEGORIES:Church Service
END:VEVENT
BEGIN:VEVENT
DTSTART;TZID=America/New_York:20280416T053000
DTEND;TZID=America/New_York:20280416T053000
DTSTAMP:20260424T071848
CREATED:20220228T000902Z
LAST-MODIFIED:20220228T000902Z
UID:6634-1839475800-1839475800@theorchardcommunitychurch.com
SUMMARY:Worship Service
DESCRIPTION:
URL:https://theorchardcommunitychurch.com/event/worship-service/2028-04-16/
LOCATION:The Orchard Community Church\, 1 NORTH ST\,\, GORHAM\, ME\, 04038
CATEGORIES:Church Service
END:VEVENT
BEGIN:VEVENT
DTSTART;TZID=America/New_York:20280416T053000
DTEND;TZID=America/New_York:20280416T070000
DTSTAMP:20260424T071848
CREATED:20220321T232229Z
LAST-MODIFIED:20220321T232229Z
UID:6636-1839475800-1839481200@theorchardcommunitychurch.com
SUMMARY:Worship Service
DESCRIPTION:
URL:https://theorchardcommunitychurch.com/event/worship-service-4/2028-04-16/
LOCATION:The Orchard Community Church\, 1 NORTH ST\,\, GORHAM\, ME\, 04038
CATEGORIES:Church Service
END:VEVENT
BEGIN:VEVENT
DTSTART;TZID=America/New_York:20280416T093000
DTEND;TZID=America/New_York:20280416T093000
DTSTAMP:20260424T071848
CREATED:20220228T001907Z
LAST-MODIFIED:20220228T001907Z
UID:6635-1839490200-1839490200@theorchardcommunitychurch.com
SUMMARY:Worship Service
DESCRIPTION:
URL:https://theorchardcommunitychurch.com/event/worship-service-2/2028-04-16/
LOCATION:The Orchard Community Church\, 1 NORTH ST\,\, GORHAM\, ME\, 04038
CATEGORIES:Church Service
END:VEVENT
END:VCALENDAR