BEGIN:VCALENDAR
VERSION:2.0
PRODID:-//Orchard Community Church - ECPv6.9.0//NONSGML v1.0//EN
CALSCALE:GREGORIAN
METHOD:PUBLISH
X-WR-CALNAME:Orchard Community Church
X-ORIGINAL-URL:https://theorchardcommunitychurch.com
X-WR-CALDESC:Events for Orchard Community Church
REFRESH-INTERVAL;VALUE=DURATION:PT1H
X-Robots-Tag:noindex
X-PUBLISHED-TTL:PT1H
BEGIN:VTIMEZONE
TZID:America/New_York
BEGIN:DAYLIGHT
TZOFFSETFROM:-0500
TZOFFSETTO:-0400
TZNAME:EDT
DTSTART:20200308T070000
END:DAYLIGHT
BEGIN:STANDARD
TZOFFSETFROM:-0400
TZOFFSETTO:-0500
TZNAME:EST
DTSTART:20201101T060000
END:STANDARD
BEGIN:DAYLIGHT
TZOFFSETFROM:-0500
TZOFFSETTO:-0400
TZNAME:EDT
DTSTART:20210314T070000
END:DAYLIGHT
BEGIN:STANDARD
TZOFFSETFROM:-0400
TZOFFSETTO:-0500
TZNAME:EST
DTSTART:20211107T060000
END:STANDARD
BEGIN:DAYLIGHT
TZOFFSETFROM:-0500
TZOFFSETTO:-0400
TZNAME:EDT
DTSTART:20220313T070000
END:DAYLIGHT
BEGIN:STANDARD
TZOFFSETFROM:-0400
TZOFFSETTO:-0500
TZNAME:EST
DTSTART:20221106T060000
END:STANDARD
BEGIN:DAYLIGHT
TZOFFSETFROM:-0500
TZOFFSETTO:-0400
TZNAME:EDT
DTSTART:20230312T070000
END:DAYLIGHT
BEGIN:STANDARD
TZOFFSETFROM:-0400
TZOFFSETTO:-0500
TZNAME:EST
DTSTART:20231105T060000
END:STANDARD
BEGIN:DAYLIGHT
TZOFFSETFROM:-0500
TZOFFSETTO:-0400
TZNAME:EDT
DTSTART:20240310T070000
END:DAYLIGHT
BEGIN:STANDARD
TZOFFSETFROM:-0400
TZOFFSETTO:-0500
TZNAME:EST
DTSTART:20241103T060000
END:STANDARD
END:VTIMEZONE
BEGIN:VEVENT
DTSTART;TZID=America/New_York:20240518T033000
DTEND;TZID=America/New_York:20240518T050000
DTSTAMP:20260425T152448
CREATED:20200423T012334Z
LAST-MODIFIED:20200423T012334Z
UID:4880-1716003000-1716008400@theorchardcommunitychurch.com
SUMMARY:Men's Group
DESCRIPTION:Details
URL:https://theorchardcommunitychurch.com/event/mens-group/2024-05-18/
LOCATION:The Orchard Community Church\, 1 NORTH ST\,\, GORHAM\, ME\, 04038
END:VEVENT
BEGIN:VEVENT
DTSTART;TZID=America/New_York:20240518T033000
DTEND;TZID=America/New_York:20240518T050000
DTSTAMP:20260425T152448
CREATED:20200423T011934Z
LAST-MODIFIED:20200423T011934Z
UID:4879-1716003000-1716008400@theorchardcommunitychurch.com
SUMMARY:Women's Group
DESCRIPTION:Details
URL:https://theorchardcommunitychurch.com/event/womens-group/2024-05-18/
LOCATION:The Orchard Community Church\, 1 NORTH ST\,\, GORHAM\, ME\, 04038
CATEGORIES:Women's Group
END:VEVENT
BEGIN:VEVENT
DTSTART;TZID=America/New_York:20240515T140000
DTEND;TZID=America/New_York:20240515T153000
DTSTAMP:20260425T152448
CREATED:20200423T013106Z
LAST-MODIFIED:20200423T013106Z
UID:4878-1715781600-1715787000@theorchardcommunitychurch.com
SUMMARY:Bible Study
DESCRIPTION:If you would like to join or gor more information about our Small Group Bible Study contact us here
URL:https://theorchardcommunitychurch.com/event/bible-study/2024-05-15/
LOCATION:The Orchard Community Church\, 1 NORTH ST\,\, GORHAM\, ME\, 04038
END:VEVENT
BEGIN:VEVENT
DTSTART;TZID=America/New_York:20240512T093000
DTEND;TZID=America/New_York:20240512T093000
DTSTAMP:20260425T152448
CREATED:20220228T001907Z
LAST-MODIFIED:20220228T001907Z
UID:4876-1715506200-1715506200@theorchardcommunitychurch.com
SUMMARY:Worship Service
DESCRIPTION:
URL:https://theorchardcommunitychurch.com/event/worship-service-2/2024-05-12/
LOCATION:The Orchard Community Church\, 1 NORTH ST\,\, GORHAM\, ME\, 04038
CATEGORIES:Church Service
END:VEVENT
BEGIN:VEVENT
DTSTART;TZID=America/New_York:20240512T053000
DTEND;TZID=America/New_York:20240512T070000
DTSTAMP:20260425T152448
CREATED:20220321T232229Z
LAST-MODIFIED:20220321T232229Z
UID:4877-1715491800-1715497200@theorchardcommunitychurch.com
SUMMARY:Worship Service
DESCRIPTION:
URL:https://theorchardcommunitychurch.com/event/worship-service-4/2024-05-12/
LOCATION:The Orchard Community Church\, 1 NORTH ST\,\, GORHAM\, ME\, 04038
CATEGORIES:Church Service
END:VEVENT
BEGIN:VEVENT
DTSTART;TZID=America/New_York:20240512T053000
DTEND;TZID=America/New_York:20240512T053000
DTSTAMP:20260425T152448
CREATED:20220228T000902Z
LAST-MODIFIED:20220228T000902Z
UID:4875-1715491800-1715491800@theorchardcommunitychurch.com
SUMMARY:Worship Service
DESCRIPTION:
URL:https://theorchardcommunitychurch.com/event/worship-service/2024-05-12/
LOCATION:The Orchard Community Church\, 1 NORTH ST\,\, GORHAM\, ME\, 04038
CATEGORIES:Church Service
END:VEVENT
BEGIN:VEVENT
DTSTART;TZID=America/New_York:20240512T053000
DTEND;TZID=America/New_York:20240512T053000
DTSTAMP:20260425T152448
CREATED:20200423T012714Z
LAST-MODIFIED:20200423T012714Z
UID:4874-1715491800-1715491800@theorchardcommunitychurch.com
SUMMARY:Sunday Worship Service
DESCRIPTION:Details
URL:https://theorchardcommunitychurch.com/event/sunday-worship-service/2024-05-12/
LOCATION:The Orchard Community Church\, 1 NORTH ST\,\, GORHAM\, ME\, 04038
CATEGORIES:Church Service
END:VEVENT
BEGIN:VEVENT
DTSTART;TZID=America/New_York:20240511T033000
DTEND;TZID=America/New_York:20240511T050000
DTSTAMP:20260425T152448
CREATED:20200423T012334Z
LAST-MODIFIED:20200423T012334Z
UID:4873-1715398200-1715403600@theorchardcommunitychurch.com
SUMMARY:Men's Group
DESCRIPTION:Details
URL:https://theorchardcommunitychurch.com/event/mens-group/2024-05-11/
LOCATION:The Orchard Community Church\, 1 NORTH ST\,\, GORHAM\, ME\, 04038
END:VEVENT
BEGIN:VEVENT
DTSTART;TZID=America/New_York:20240511T033000
DTEND;TZID=America/New_York:20240511T050000
DTSTAMP:20260425T152448
CREATED:20200423T011934Z
LAST-MODIFIED:20200423T011934Z
UID:4872-1715398200-1715403600@theorchardcommunitychurch.com
SUMMARY:Women's Group
DESCRIPTION:Details
URL:https://theorchardcommunitychurch.com/event/womens-group/2024-05-11/
LOCATION:The Orchard Community Church\, 1 NORTH ST\,\, GORHAM\, ME\, 04038
CATEGORIES:Women's Group
END:VEVENT
BEGIN:VEVENT
DTSTART;TZID=America/New_York:20240508T140000
DTEND;TZID=America/New_York:20240508T153000
DTSTAMP:20260425T152448
CREATED:20200423T013106Z
LAST-MODIFIED:20200423T013106Z
UID:4871-1715176800-1715182200@theorchardcommunitychurch.com
SUMMARY:Bible Study
DESCRIPTION:If you would like to join or gor more information about our Small Group Bible Study contact us here
URL:https://theorchardcommunitychurch.com/event/bible-study/2024-05-08/
LOCATION:The Orchard Community Church\, 1 NORTH ST\,\, GORHAM\, ME\, 04038
END:VEVENT
BEGIN:VEVENT
DTSTART;TZID=America/New_York:20240505T093000
DTEND;TZID=America/New_York:20240505T093000
DTSTAMP:20260425T152448
CREATED:20220228T001907Z
LAST-MODIFIED:20220228T001907Z
UID:4869-1714901400-1714901400@theorchardcommunitychurch.com
SUMMARY:Worship Service
DESCRIPTION:
URL:https://theorchardcommunitychurch.com/event/worship-service-2/2024-05-05/
LOCATION:The Orchard Community Church\, 1 NORTH ST\,\, GORHAM\, ME\, 04038
CATEGORIES:Church Service
END:VEVENT
BEGIN:VEVENT
DTSTART;TZID=America/New_York:20240505T053000
DTEND;TZID=America/New_York:20240505T070000
DTSTAMP:20260425T152448
CREATED:20220321T232229Z
LAST-MODIFIED:20220321T232229Z
UID:4870-1714887000-1714892400@theorchardcommunitychurch.com
SUMMARY:Worship Service
DESCRIPTION:
URL:https://theorchardcommunitychurch.com/event/worship-service-4/2024-05-05/
LOCATION:The Orchard Community Church\, 1 NORTH ST\,\, GORHAM\, ME\, 04038
CATEGORIES:Church Service
END:VEVENT
BEGIN:VEVENT
DTSTART;TZID=America/New_York:20240505T053000
DTEND;TZID=America/New_York:20240505T053000
DTSTAMP:20260425T152448
CREATED:20220228T000902Z
LAST-MODIFIED:20220228T000902Z
UID:4868-1714887000-1714887000@theorchardcommunitychurch.com
SUMMARY:Worship Service
DESCRIPTION:
URL:https://theorchardcommunitychurch.com/event/worship-service/2024-05-05/
LOCATION:The Orchard Community Church\, 1 NORTH ST\,\, GORHAM\, ME\, 04038
CATEGORIES:Church Service
END:VEVENT
BEGIN:VEVENT
DTSTART;TZID=America/New_York:20240505T053000
DTEND;TZID=America/New_York:20240505T053000
DTSTAMP:20260425T152448
CREATED:20200423T012714Z
LAST-MODIFIED:20200423T012714Z
UID:4867-1714887000-1714887000@theorchardcommunitychurch.com
SUMMARY:Sunday Worship Service
DESCRIPTION:Details
URL:https://theorchardcommunitychurch.com/event/sunday-worship-service/2024-05-05/
LOCATION:The Orchard Community Church\, 1 NORTH ST\,\, GORHAM\, ME\, 04038
CATEGORIES:Church Service
END:VEVENT
BEGIN:VEVENT
DTSTART;TZID=America/New_York:20240504T033000
DTEND;TZID=America/New_York:20240504T050000
DTSTAMP:20260425T152448
CREATED:20200423T012334Z
LAST-MODIFIED:20200423T012334Z
UID:4866-1714793400-1714798800@theorchardcommunitychurch.com
SUMMARY:Men's Group
DESCRIPTION:Details
URL:https://theorchardcommunitychurch.com/event/mens-group/2024-05-04/
LOCATION:The Orchard Community Church\, 1 NORTH ST\,\, GORHAM\, ME\, 04038
END:VEVENT
BEGIN:VEVENT
DTSTART;TZID=America/New_York:20240504T033000
DTEND;TZID=America/New_York:20240504T050000
DTSTAMP:20260425T152448
CREATED:20200423T011934Z
LAST-MODIFIED:20200423T011934Z
UID:4865-1714793400-1714798800@theorchardcommunitychurch.com
SUMMARY:Women's Group
DESCRIPTION:Details
URL:https://theorchardcommunitychurch.com/event/womens-group/2024-05-04/
LOCATION:The Orchard Community Church\, 1 NORTH ST\,\, GORHAM\, ME\, 04038
CATEGORIES:Women's Group
END:VEVENT
BEGIN:VEVENT
DTSTART;TZID=America/New_York:20240501T140000
DTEND;TZID=America/New_York:20240501T153000
DTSTAMP:20260425T152448
CREATED:20200423T013106Z
LAST-MODIFIED:20200423T013106Z
UID:4864-1714572000-1714577400@theorchardcommunitychurch.com
SUMMARY:Bible Study
DESCRIPTION:If you would like to join or gor more information about our Small Group Bible Study contact us here
URL:https://theorchardcommunitychurch.com/event/bible-study/2024-05-01/
LOCATION:The Orchard Community Church\, 1 NORTH ST\,\, GORHAM\, ME\, 04038
END:VEVENT
BEGIN:VEVENT
DTSTART;TZID=America/New_York:20240428T093000
DTEND;TZID=America/New_York:20240428T093000
DTSTAMP:20260425T152448
CREATED:20220228T001907Z
LAST-MODIFIED:20220228T001907Z
UID:4862-1714296600-1714296600@theorchardcommunitychurch.com
SUMMARY:Worship Service
DESCRIPTION:
URL:https://theorchardcommunitychurch.com/event/worship-service-2/2024-04-28/
LOCATION:The Orchard Community Church\, 1 NORTH ST\,\, GORHAM\, ME\, 04038
CATEGORIES:Church Service
END:VEVENT
BEGIN:VEVENT
DTSTART;TZID=America/New_York:20240428T053000
DTEND;TZID=America/New_York:20240428T070000
DTSTAMP:20260425T152448
CREATED:20220321T232229Z
LAST-MODIFIED:20220321T232229Z
UID:4863-1714282200-1714287600@theorchardcommunitychurch.com
SUMMARY:Worship Service
DESCRIPTION:
URL:https://theorchardcommunitychurch.com/event/worship-service-4/2024-04-28/
LOCATION:The Orchard Community Church\, 1 NORTH ST\,\, GORHAM\, ME\, 04038
CATEGORIES:Church Service
END:VEVENT
BEGIN:VEVENT
DTSTART;TZID=America/New_York:20240428T053000
DTEND;TZID=America/New_York:20240428T053000
DTSTAMP:20260425T152448
CREATED:20220228T000902Z
LAST-MODIFIED:20220228T000902Z
UID:4861-1714282200-1714282200@theorchardcommunitychurch.com
SUMMARY:Worship Service
DESCRIPTION:
URL:https://theorchardcommunitychurch.com/event/worship-service/2024-04-28/
LOCATION:The Orchard Community Church\, 1 NORTH ST\,\, GORHAM\, ME\, 04038
CATEGORIES:Church Service
END:VEVENT
BEGIN:VEVENT
DTSTART;TZID=America/New_York:20240428T053000
DTEND;TZID=America/New_York:20240428T053000
DTSTAMP:20260425T152448
CREATED:20200423T012714Z
LAST-MODIFIED:20200423T012714Z
UID:4860-1714282200-1714282200@theorchardcommunitychurch.com
SUMMARY:Sunday Worship Service
DESCRIPTION:Details
URL:https://theorchardcommunitychurch.com/event/sunday-worship-service/2024-04-28/
LOCATION:The Orchard Community Church\, 1 NORTH ST\,\, GORHAM\, ME\, 04038
CATEGORIES:Church Service
END:VEVENT
BEGIN:VEVENT
DTSTART;TZID=America/New_York:20240427T033000
DTEND;TZID=America/New_York:20240427T050000
DTSTAMP:20260425T152448
CREATED:20200423T012334Z
LAST-MODIFIED:20200423T012334Z
UID:4859-1714188600-1714194000@theorchardcommunitychurch.com
SUMMARY:Men's Group
DESCRIPTION:Details
URL:https://theorchardcommunitychurch.com/event/mens-group/2024-04-27/
LOCATION:The Orchard Community Church\, 1 NORTH ST\,\, GORHAM\, ME\, 04038
END:VEVENT
BEGIN:VEVENT
DTSTART;TZID=America/New_York:20240427T033000
DTEND;TZID=America/New_York:20240427T050000
DTSTAMP:20260425T152448
CREATED:20200423T011934Z
LAST-MODIFIED:20200423T011934Z
UID:4858-1714188600-1714194000@theorchardcommunitychurch.com
SUMMARY:Women's Group
DESCRIPTION:Details
URL:https://theorchardcommunitychurch.com/event/womens-group/2024-04-27/
LOCATION:The Orchard Community Church\, 1 NORTH ST\,\, GORHAM\, ME\, 04038
CATEGORIES:Women's Group
END:VEVENT
BEGIN:VEVENT
DTSTART;TZID=America/New_York:20240424T140000
DTEND;TZID=America/New_York:20240424T153000
DTSTAMP:20260425T152448
CREATED:20200423T013106Z
LAST-MODIFIED:20200423T013106Z
UID:4857-1713967200-1713972600@theorchardcommunitychurch.com
SUMMARY:Bible Study
DESCRIPTION:If you would like to join or gor more information about our Small Group Bible Study contact us here
URL:https://theorchardcommunitychurch.com/event/bible-study/2024-04-24/
LOCATION:The Orchard Community Church\, 1 NORTH ST\,\, GORHAM\, ME\, 04038
END:VEVENT
BEGIN:VEVENT
DTSTART;TZID=America/New_York:20220327T053000
DTEND;TZID=America/New_York:20220327T070000
DTSTAMP:20260425T152448
CREATED:20220321T232229Z
LAST-MODIFIED:20220321T232229Z
UID:4772-1648359000-1648364400@theorchardcommunitychurch.com
SUMMARY:Worship Service
DESCRIPTION:
URL:https://theorchardcommunitychurch.com/event/worship-service-4/2022-03-27/
LOCATION:The Orchard Community Church\, 1 NORTH ST\,\, GORHAM\, ME\, 04038
CATEGORIES:Church Service
END:VEVENT
BEGIN:VEVENT
DTSTART;TZID=America/New_York:20220306T093000
DTEND;TZID=America/New_York:20220306T093000
DTSTAMP:20260425T152448
CREATED:20220228T002705Z
LAST-MODIFIED:20220228T002705Z
UID:4627-1646559000-1646559000@theorchardcommunitychurch.com
SUMMARY:Worship Service
DESCRIPTION:
URL:https://theorchardcommunitychurch.com/event/worship-service-3/2022-03-06/
LOCATION:The Orchard Community Church\, 1 NORTH ST\,\, GORHAM\, ME\, 04038
END:VEVENT
BEGIN:VEVENT
DTSTART;TZID=America/New_York:20220306T093000
DTEND;TZID=America/New_York:20220306T093000
DTSTAMP:20260425T152448
CREATED:20220228T001907Z
LAST-MODIFIED:20220228T003046Z
UID:4520-1646559000-1646559000@theorchardcommunitychurch.com
SUMMARY:Worship Service
DESCRIPTION:
URL:https://theorchardcommunitychurch.com/event/worship-service-2/2022-03-06/
LOCATION:The Orchard Community Church\, 1 NORTH ST\,\, GORHAM\, ME\, 04038
CATEGORIES:Church Service
END:VEVENT
BEGIN:VEVENT
DTSTART;TZID=America/New_York:20220227T043000
DTEND;TZID=America/New_York:20220227T043000
DTSTAMP:20260425T152448
CREATED:20220228T000902Z
LAST-MODIFIED:20220228T001005Z
UID:4309-1645936200-1645936200@theorchardcommunitychurch.com
SUMMARY:Worship Service
DESCRIPTION:
URL:https://theorchardcommunitychurch.com/event/worship-service/2022-02-27/
LOCATION:The Orchard Community Church\, 1 NORTH ST\,\, GORHAM\, ME\, 04038
CATEGORIES:Church Service
END:VEVENT
BEGIN:VEVENT
DTSTART;TZID=America/New_York:20220227T043000
DTEND;TZID=America/New_York:20220226T190000
DTSTAMP:20260425T152448
CREATED:20200423T012714Z
LAST-MODIFIED:20220228T000215Z
UID:2960-1645936200-1645902000@theorchardcommunitychurch.com
SUMMARY:Sunday Worship Service
DESCRIPTION:Details
URL:https://theorchardcommunitychurch.com/event/sunday-worship-service/2022-02-27/
LOCATION:The Orchard Community Church\, 1 NORTH ST\,\, GORHAM\, ME\, 04038
CATEGORIES:Church Service
END:VEVENT
BEGIN:VEVENT
DTSTART;TZID=America/New_York:20200912T033000
DTEND;TZID=America/New_York:20200912T050000
DTSTAMP:20260425T152448
CREATED:20200423T012334Z
LAST-MODIFIED:20200913T224716Z
UID:2860-1599881400-1599886800@theorchardcommunitychurch.com
SUMMARY:Men's Group
DESCRIPTION:Details
URL:https://theorchardcommunitychurch.com/event/mens-group/2020-09-12/
LOCATION:The Orchard Community Church\, 1 NORTH ST\,\, GORHAM\, ME\, 04038
END:VEVENT
END:VCALENDAR