BEGIN:VCALENDAR
VERSION:2.0
PRODID:-//Orchard Community Church - ECPv6.9.0//NONSGML v1.0//EN
CALSCALE:GREGORIAN
METHOD:PUBLISH
X-ORIGINAL-URL:https://theorchardcommunitychurch.com
X-WR-CALDESC:Events for Orchard Community Church
REFRESH-INTERVAL;VALUE=DURATION:PT1H
X-Robots-Tag:noindex
X-PUBLISHED-TTL:PT1H
BEGIN:VTIMEZONE
TZID:America/New_York
BEGIN:DAYLIGHT
TZOFFSETFROM:-0500
TZOFFSETTO:-0400
TZNAME:EDT
DTSTART:20250309T070000
END:DAYLIGHT
BEGIN:STANDARD
TZOFFSETFROM:-0400
TZOFFSETTO:-0500
TZNAME:EST
DTSTART:20251102T060000
END:STANDARD
BEGIN:DAYLIGHT
TZOFFSETFROM:-0500
TZOFFSETTO:-0400
TZNAME:EDT
DTSTART:20260308T070000
END:DAYLIGHT
BEGIN:STANDARD
TZOFFSETFROM:-0400
TZOFFSETTO:-0500
TZNAME:EST
DTSTART:20261101T060000
END:STANDARD
END:VTIMEZONE
BEGIN:VEVENT
DTSTART;TZID=America/New_York:20260125T093000
DTEND;TZID=America/New_York:20260125T093000
DTSTAMP:20260421T213216
CREATED:20220228T001907Z
LAST-MODIFIED:20220228T001907Z
UID:5886-1769333400-1769333400@theorchardcommunitychurch.com
SUMMARY:Worship Service
DESCRIPTION:
URL:https://theorchardcommunitychurch.com/event/worship-service-2/2026-01-25/
LOCATION:The Orchard Community Church\, 1 NORTH ST\,\, GORHAM\, ME\, 04038
CATEGORIES:Church Service
END:VEVENT
BEGIN:VEVENT
DTSTART;TZID=America/New_York:20260125T043000
DTEND;TZID=America/New_York:20260125T060000
DTSTAMP:20260421T213216
CREATED:20220321T232229Z
LAST-MODIFIED:20220321T232229Z
UID:5944-1769315400-1769320800@theorchardcommunitychurch.com
SUMMARY:Worship Service
DESCRIPTION:
URL:https://theorchardcommunitychurch.com/event/worship-service-4/2026-01-25/
LOCATION:The Orchard Community Church\, 1 NORTH ST\,\, GORHAM\, ME\, 04038
CATEGORIES:Church Service
END:VEVENT
BEGIN:VEVENT
DTSTART;TZID=America/New_York:20260125T043000
DTEND;TZID=America/New_York:20260125T043000
DTSTAMP:20260421T213216
CREATED:20220228T000902Z
LAST-MODIFIED:20220228T000902Z
UID:5828-1769315400-1769315400@theorchardcommunitychurch.com
SUMMARY:Worship Service
DESCRIPTION:
URL:https://theorchardcommunitychurch.com/event/worship-service/2026-01-25/
LOCATION:The Orchard Community Church\, 1 NORTH ST\,\, GORHAM\, ME\, 04038
CATEGORIES:Church Service
END:VEVENT
BEGIN:VEVENT
DTSTART;TZID=America/New_York:20260125T043000
DTEND;TZID=America/New_York:20260125T043000
DTSTAMP:20260421T213216
CREATED:20200423T012714Z
LAST-MODIFIED:20200423T012714Z
UID:5711-1769315400-1769315400@theorchardcommunitychurch.com
SUMMARY:Sunday Worship Service
DESCRIPTION:Details
URL:https://theorchardcommunitychurch.com/event/sunday-worship-service/2026-01-25/
LOCATION:The Orchard Community Church\, 1 NORTH ST\,\, GORHAM\, ME\, 04038
CATEGORIES:Church Service
END:VEVENT
BEGIN:VEVENT
DTSTART;TZID=America/New_York:20260124T023000
DTEND;TZID=America/New_York:20260124T040000
DTSTAMP:20260421T213216
CREATED:20200423T012334Z
LAST-MODIFIED:20200423T012334Z
UID:5653-1769221800-1769227200@theorchardcommunitychurch.com
SUMMARY:Men's Group
DESCRIPTION:Details
URL:https://theorchardcommunitychurch.com/event/mens-group/2026-01-24/
LOCATION:The Orchard Community Church\, 1 NORTH ST\,\, GORHAM\, ME\, 04038
END:VEVENT
BEGIN:VEVENT
DTSTART;TZID=America/New_York:20260124T023000
DTEND;TZID=America/New_York:20260124T040000
DTSTAMP:20260421T213216
CREATED:20200423T011934Z
LAST-MODIFIED:20200423T011934Z
UID:5595-1769221800-1769227200@theorchardcommunitychurch.com
SUMMARY:Women's Group
DESCRIPTION:Details
URL:https://theorchardcommunitychurch.com/event/womens-group/2026-01-24/
LOCATION:The Orchard Community Church\, 1 NORTH ST\,\, GORHAM\, ME\, 04038
CATEGORIES:Women's Group
END:VEVENT
BEGIN:VEVENT
DTSTART;TZID=America/New_York:20260121T130000
DTEND;TZID=America/New_York:20260121T143000
DTSTAMP:20260421T213216
CREATED:20200423T013106Z
LAST-MODIFIED:20200423T013106Z
UID:5769-1769000400-1769005800@theorchardcommunitychurch.com
SUMMARY:Bible Study
DESCRIPTION:If you would like to join or gor more information about our Small Group Bible Study contact us here
URL:https://theorchardcommunitychurch.com/event/bible-study/2026-01-21/
LOCATION:The Orchard Community Church\, 1 NORTH ST\,\, GORHAM\, ME\, 04038
END:VEVENT
BEGIN:VEVENT
DTSTART;TZID=America/New_York:20260118T093000
DTEND;TZID=America/New_York:20260118T093000
DTSTAMP:20260421T213216
CREATED:20220228T001907Z
LAST-MODIFIED:20220228T001907Z
UID:5885-1768728600-1768728600@theorchardcommunitychurch.com
SUMMARY:Worship Service
DESCRIPTION:
URL:https://theorchardcommunitychurch.com/event/worship-service-2/2026-01-18/
LOCATION:The Orchard Community Church\, 1 NORTH ST\,\, GORHAM\, ME\, 04038
CATEGORIES:Church Service
END:VEVENT
BEGIN:VEVENT
DTSTART;TZID=America/New_York:20260118T043000
DTEND;TZID=America/New_York:20260118T060000
DTSTAMP:20260421T213217
CREATED:20220321T232229Z
LAST-MODIFIED:20220321T232229Z
UID:5943-1768710600-1768716000@theorchardcommunitychurch.com
SUMMARY:Worship Service
DESCRIPTION:
URL:https://theorchardcommunitychurch.com/event/worship-service-4/2026-01-18/
LOCATION:The Orchard Community Church\, 1 NORTH ST\,\, GORHAM\, ME\, 04038
CATEGORIES:Church Service
END:VEVENT
BEGIN:VEVENT
DTSTART;TZID=America/New_York:20260118T043000
DTEND;TZID=America/New_York:20260118T043000
DTSTAMP:20260421T213217
CREATED:20220228T000902Z
LAST-MODIFIED:20220228T000902Z
UID:5827-1768710600-1768710600@theorchardcommunitychurch.com
SUMMARY:Worship Service
DESCRIPTION:
URL:https://theorchardcommunitychurch.com/event/worship-service/2026-01-18/
LOCATION:The Orchard Community Church\, 1 NORTH ST\,\, GORHAM\, ME\, 04038
CATEGORIES:Church Service
END:VEVENT
BEGIN:VEVENT
DTSTART;TZID=America/New_York:20260118T043000
DTEND;TZID=America/New_York:20260118T043000
DTSTAMP:20260421T213217
CREATED:20200423T012714Z
LAST-MODIFIED:20200423T012714Z
UID:5710-1768710600-1768710600@theorchardcommunitychurch.com
SUMMARY:Sunday Worship Service
DESCRIPTION:Details
URL:https://theorchardcommunitychurch.com/event/sunday-worship-service/2026-01-18/
LOCATION:The Orchard Community Church\, 1 NORTH ST\,\, GORHAM\, ME\, 04038
CATEGORIES:Church Service
END:VEVENT
BEGIN:VEVENT
DTSTART;TZID=America/New_York:20260117T023000
DTEND;TZID=America/New_York:20260117T040000
DTSTAMP:20260421T213217
CREATED:20200423T012334Z
LAST-MODIFIED:20200423T012334Z
UID:5652-1768617000-1768622400@theorchardcommunitychurch.com
SUMMARY:Men's Group
DESCRIPTION:Details
URL:https://theorchardcommunitychurch.com/event/mens-group/2026-01-17/
LOCATION:The Orchard Community Church\, 1 NORTH ST\,\, GORHAM\, ME\, 04038
END:VEVENT
BEGIN:VEVENT
DTSTART;TZID=America/New_York:20260117T023000
DTEND;TZID=America/New_York:20260117T040000
DTSTAMP:20260421T213217
CREATED:20200423T011934Z
LAST-MODIFIED:20200423T011934Z
UID:5594-1768617000-1768622400@theorchardcommunitychurch.com
SUMMARY:Women's Group
DESCRIPTION:Details
URL:https://theorchardcommunitychurch.com/event/womens-group/2026-01-17/
LOCATION:The Orchard Community Church\, 1 NORTH ST\,\, GORHAM\, ME\, 04038
CATEGORIES:Women's Group
END:VEVENT
BEGIN:VEVENT
DTSTART;TZID=America/New_York:20260114T130000
DTEND;TZID=America/New_York:20260114T143000
DTSTAMP:20260421T213217
CREATED:20200423T013106Z
LAST-MODIFIED:20200423T013106Z
UID:5768-1768395600-1768401000@theorchardcommunitychurch.com
SUMMARY:Bible Study
DESCRIPTION:If you would like to join or gor more information about our Small Group Bible Study contact us here
URL:https://theorchardcommunitychurch.com/event/bible-study/2026-01-14/
LOCATION:The Orchard Community Church\, 1 NORTH ST\,\, GORHAM\, ME\, 04038
END:VEVENT
BEGIN:VEVENT
DTSTART;TZID=America/New_York:20260111T093000
DTEND;TZID=America/New_York:20260111T093000
DTSTAMP:20260421T213217
CREATED:20220228T001907Z
LAST-MODIFIED:20220228T001907Z
UID:5884-1768123800-1768123800@theorchardcommunitychurch.com
SUMMARY:Worship Service
DESCRIPTION:
URL:https://theorchardcommunitychurch.com/event/worship-service-2/2026-01-11/
LOCATION:The Orchard Community Church\, 1 NORTH ST\,\, GORHAM\, ME\, 04038
CATEGORIES:Church Service
END:VEVENT
BEGIN:VEVENT
DTSTART;TZID=America/New_York:20260111T043000
DTEND;TZID=America/New_York:20260111T060000
DTSTAMP:20260421T213217
CREATED:20220321T232229Z
LAST-MODIFIED:20220321T232229Z
UID:5942-1768105800-1768111200@theorchardcommunitychurch.com
SUMMARY:Worship Service
DESCRIPTION:
URL:https://theorchardcommunitychurch.com/event/worship-service-4/2026-01-11/
LOCATION:The Orchard Community Church\, 1 NORTH ST\,\, GORHAM\, ME\, 04038
CATEGORIES:Church Service
END:VEVENT
BEGIN:VEVENT
DTSTART;TZID=America/New_York:20260111T043000
DTEND;TZID=America/New_York:20260111T043000
DTSTAMP:20260421T213217
CREATED:20220228T000902Z
LAST-MODIFIED:20220228T000902Z
UID:5826-1768105800-1768105800@theorchardcommunitychurch.com
SUMMARY:Worship Service
DESCRIPTION:
URL:https://theorchardcommunitychurch.com/event/worship-service/2026-01-11/
LOCATION:The Orchard Community Church\, 1 NORTH ST\,\, GORHAM\, ME\, 04038
CATEGORIES:Church Service
END:VEVENT
BEGIN:VEVENT
DTSTART;TZID=America/New_York:20260111T043000
DTEND;TZID=America/New_York:20260111T043000
DTSTAMP:20260421T213217
CREATED:20200423T012714Z
LAST-MODIFIED:20200423T012714Z
UID:5709-1768105800-1768105800@theorchardcommunitychurch.com
SUMMARY:Sunday Worship Service
DESCRIPTION:Details
URL:https://theorchardcommunitychurch.com/event/sunday-worship-service/2026-01-11/
LOCATION:The Orchard Community Church\, 1 NORTH ST\,\, GORHAM\, ME\, 04038
CATEGORIES:Church Service
END:VEVENT
BEGIN:VEVENT
DTSTART;TZID=America/New_York:20260110T023000
DTEND;TZID=America/New_York:20260110T040000
DTSTAMP:20260421T213217
CREATED:20200423T012334Z
LAST-MODIFIED:20200423T012334Z
UID:5651-1768012200-1768017600@theorchardcommunitychurch.com
SUMMARY:Men's Group
DESCRIPTION:Details
URL:https://theorchardcommunitychurch.com/event/mens-group/2026-01-10/
LOCATION:The Orchard Community Church\, 1 NORTH ST\,\, GORHAM\, ME\, 04038
END:VEVENT
BEGIN:VEVENT
DTSTART;TZID=America/New_York:20260110T023000
DTEND;TZID=America/New_York:20260110T040000
DTSTAMP:20260421T213217
CREATED:20200423T011934Z
LAST-MODIFIED:20200423T011934Z
UID:5593-1768012200-1768017600@theorchardcommunitychurch.com
SUMMARY:Women's Group
DESCRIPTION:Details
URL:https://theorchardcommunitychurch.com/event/womens-group/2026-01-10/
LOCATION:The Orchard Community Church\, 1 NORTH ST\,\, GORHAM\, ME\, 04038
CATEGORIES:Women's Group
END:VEVENT
BEGIN:VEVENT
DTSTART;TZID=America/New_York:20260107T130000
DTEND;TZID=America/New_York:20260107T143000
DTSTAMP:20260421T213217
CREATED:20200423T013106Z
LAST-MODIFIED:20200423T013106Z
UID:5767-1767790800-1767796200@theorchardcommunitychurch.com
SUMMARY:Bible Study
DESCRIPTION:If you would like to join or gor more information about our Small Group Bible Study contact us here
URL:https://theorchardcommunitychurch.com/event/bible-study/2026-01-07/
LOCATION:The Orchard Community Church\, 1 NORTH ST\,\, GORHAM\, ME\, 04038
END:VEVENT
BEGIN:VEVENT
DTSTART;TZID=America/New_York:20260104T093000
DTEND;TZID=America/New_York:20260104T093000
DTSTAMP:20260421T213217
CREATED:20220228T001907Z
LAST-MODIFIED:20220228T001907Z
UID:5883-1767519000-1767519000@theorchardcommunitychurch.com
SUMMARY:Worship Service
DESCRIPTION:
URL:https://theorchardcommunitychurch.com/event/worship-service-2/2026-01-04/
LOCATION:The Orchard Community Church\, 1 NORTH ST\,\, GORHAM\, ME\, 04038
CATEGORIES:Church Service
END:VEVENT
BEGIN:VEVENT
DTSTART;TZID=America/New_York:20260104T043000
DTEND;TZID=America/New_York:20260104T060000
DTSTAMP:20260421T213217
CREATED:20220321T232229Z
LAST-MODIFIED:20220321T232229Z
UID:5941-1767501000-1767506400@theorchardcommunitychurch.com
SUMMARY:Worship Service
DESCRIPTION:
URL:https://theorchardcommunitychurch.com/event/worship-service-4/2026-01-04/
LOCATION:The Orchard Community Church\, 1 NORTH ST\,\, GORHAM\, ME\, 04038
CATEGORIES:Church Service
END:VEVENT
BEGIN:VEVENT
DTSTART;TZID=America/New_York:20260104T043000
DTEND;TZID=America/New_York:20260104T043000
DTSTAMP:20260421T213217
CREATED:20220228T000902Z
LAST-MODIFIED:20220228T000902Z
UID:5825-1767501000-1767501000@theorchardcommunitychurch.com
SUMMARY:Worship Service
DESCRIPTION:
URL:https://theorchardcommunitychurch.com/event/worship-service/2026-01-04/
LOCATION:The Orchard Community Church\, 1 NORTH ST\,\, GORHAM\, ME\, 04038
CATEGORIES:Church Service
END:VEVENT
BEGIN:VEVENT
DTSTART;TZID=America/New_York:20260104T043000
DTEND;TZID=America/New_York:20260104T043000
DTSTAMP:20260421T213217
CREATED:20200423T012714Z
LAST-MODIFIED:20200423T012714Z
UID:5708-1767501000-1767501000@theorchardcommunitychurch.com
SUMMARY:Sunday Worship Service
DESCRIPTION:Details
URL:https://theorchardcommunitychurch.com/event/sunday-worship-service/2026-01-04/
LOCATION:The Orchard Community Church\, 1 NORTH ST\,\, GORHAM\, ME\, 04038
CATEGORIES:Church Service
END:VEVENT
BEGIN:VEVENT
DTSTART;TZID=America/New_York:20260103T023000
DTEND;TZID=America/New_York:20260103T040000
DTSTAMP:20260421T213217
CREATED:20200423T012334Z
LAST-MODIFIED:20200423T012334Z
UID:5650-1767407400-1767412800@theorchardcommunitychurch.com
SUMMARY:Men's Group
DESCRIPTION:Details
URL:https://theorchardcommunitychurch.com/event/mens-group/2026-01-03/
LOCATION:The Orchard Community Church\, 1 NORTH ST\,\, GORHAM\, ME\, 04038
END:VEVENT
BEGIN:VEVENT
DTSTART;TZID=America/New_York:20260103T023000
DTEND;TZID=America/New_York:20260103T040000
DTSTAMP:20260421T213217
CREATED:20200423T011934Z
LAST-MODIFIED:20200423T011934Z
UID:5592-1767407400-1767412800@theorchardcommunitychurch.com
SUMMARY:Women's Group
DESCRIPTION:Details
URL:https://theorchardcommunitychurch.com/event/womens-group/2026-01-03/
LOCATION:The Orchard Community Church\, 1 NORTH ST\,\, GORHAM\, ME\, 04038
CATEGORIES:Women's Group
END:VEVENT
BEGIN:VEVENT
DTSTART;TZID=America/New_York:20251231T130000
DTEND;TZID=America/New_York:20251231T143000
DTSTAMP:20260421T213217
CREATED:20200423T013106Z
LAST-MODIFIED:20200423T013106Z
UID:5766-1767186000-1767191400@theorchardcommunitychurch.com
SUMMARY:Bible Study
DESCRIPTION:If you would like to join or gor more information about our Small Group Bible Study contact us here
URL:https://theorchardcommunitychurch.com/event/bible-study/2025-12-31/
LOCATION:The Orchard Community Church\, 1 NORTH ST\,\, GORHAM\, ME\, 04038
END:VEVENT
BEGIN:VEVENT
DTSTART;TZID=America/New_York:20251228T093000
DTEND;TZID=America/New_York:20251228T093000
DTSTAMP:20260421T213217
CREATED:20220228T001907Z
LAST-MODIFIED:20220228T001907Z
UID:5882-1766914200-1766914200@theorchardcommunitychurch.com
SUMMARY:Worship Service
DESCRIPTION:
URL:https://theorchardcommunitychurch.com/event/worship-service-2/2025-12-28/
LOCATION:The Orchard Community Church\, 1 NORTH ST\,\, GORHAM\, ME\, 04038
CATEGORIES:Church Service
END:VEVENT
BEGIN:VEVENT
DTSTART;TZID=America/New_York:20251228T043000
DTEND;TZID=America/New_York:20251228T060000
DTSTAMP:20260421T213217
CREATED:20220321T232229Z
LAST-MODIFIED:20220321T232229Z
UID:5940-1766896200-1766901600@theorchardcommunitychurch.com
SUMMARY:Worship Service
DESCRIPTION:
URL:https://theorchardcommunitychurch.com/event/worship-service-4/2025-12-28/
LOCATION:The Orchard Community Church\, 1 NORTH ST\,\, GORHAM\, ME\, 04038
CATEGORIES:Church Service
END:VEVENT
END:VCALENDAR